BEGIN:VCALENDAR
VERSION:2.0
PRODID:-//Odessa Arts - ECPv6.15.20//NONSGML v1.0//EN
CALSCALE:GREGORIAN
METHOD:PUBLISH
X-ORIGINAL-URL:https://odessaarts.org
X-WR-CALDESC:Events for Odessa Arts
REFRESH-INTERVAL;VALUE=DURATION:PT1H
X-Robots-Tag:noindex
X-PUBLISHED-TTL:PT1H
BEGIN:VTIMEZONE
TZID:America/Chicago
BEGIN:DAYLIGHT
TZOFFSETFROM:-0600
TZOFFSETTO:-0500
TZNAME:CDT
DTSTART:20230312T080000
END:DAYLIGHT
BEGIN:STANDARD
TZOFFSETFROM:-0500
TZOFFSETTO:-0600
TZNAME:CST
DTSTART:20231105T070000
END:STANDARD
BEGIN:DAYLIGHT
TZOFFSETFROM:-0600
TZOFFSETTO:-0500
TZNAME:CDT
DTSTART:20240310T080000
END:DAYLIGHT
BEGIN:STANDARD
TZOFFSETFROM:-0500
TZOFFSETTO:-0600
TZNAME:CST
DTSTART:20241103T070000
END:STANDARD
BEGIN:DAYLIGHT
TZOFFSETFROM:-0600
TZOFFSETTO:-0500
TZNAME:CDT
DTSTART:20250309T080000
END:DAYLIGHT
BEGIN:STANDARD
TZOFFSETFROM:-0500
TZOFFSETTO:-0600
TZNAME:CST
DTSTART:20251102T070000
END:STANDARD
END:VTIMEZONE
BEGIN:VEVENT
DTSTART;TZID=America/Chicago:20240215T180000
DTEND;TZID=America/Chicago:20240215T210000
DTSTAMP:20260425T232601
CREATED:20240111T014832Z
LAST-MODIFIED:20240111T014832Z
UID:72235-1708020000-1708030800@odessaarts.org
SUMMARY:Jazz Nights with Flair: Craig Elliott Jazz Trio
DESCRIPTION:
URL:https://odessaarts.org/event/jazz-nights-with-flair-craig-elliott-jazz-trio-3/
LOCATION:Flair Taverna\, 2701 JBS Parkway\, Odessa\, Texas
CATEGORIES:Music
ATTACH;FMTTYPE=image/png:https://odessaarts.org/wp-content/uploads/2024/01/Craig-Elliott-Jazz-Trio-SQ.png
END:VEVENT
BEGIN:VEVENT
DTSTART;TZID=America/Chicago:20240216T180000
DTEND;TZID=America/Chicago:20240216T210000
DTSTAMP:20260425T232601
CREATED:20240111T014740Z
LAST-MODIFIED:20240111T014740Z
UID:72233-1708106400-1708117200@odessaarts.org
SUMMARY:Jazz Nights with Flair: After 5 Jazz Quintet
DESCRIPTION:
URL:https://odessaarts.org/event/jazz-nights-with-flair-after-5-jazz-quintet/
LOCATION:Flair Taverna\, 2701 JBS Parkway\, Odessa\, Texas
CATEGORIES:Music
ATTACH;FMTTYPE=image/png:https://odessaarts.org/wp-content/uploads/2024/01/After-5-Jazz-Quintet.png
END:VEVENT
BEGIN:VEVENT
DTSTART;TZID=America/Chicago:20240216T193000
DTEND;TZID=America/Chicago:20240216T193000
DTSTAMP:20260425T232601
CREATED:20240122T204046Z
LAST-MODIFIED:20240122T210145Z
UID:72342-1708111800-1708111800@odessaarts.org
SUMMARY:An Evening of Jazz Featuring Willie Murillo with UTPB Jazz Kettle
DESCRIPTION:
URL:https://odessaarts.org/event/an-evening-of-jazz-featuring-willie-murillo-with-utpb-jazz-kettle/
LOCATION:Midland College\, 3600 N. Garfield Street\, Midland\, TX\, 79705\, United States
CATEGORIES:Music
END:VEVENT
BEGIN:VEVENT
DTSTART;TZID=America/Chicago:20240217T180000
DTEND;TZID=America/Chicago:20240217T210000
DTSTAMP:20260425T232601
CREATED:20240111T014554Z
LAST-MODIFIED:20240111T014554Z
UID:72229-1708192800-1708203600@odessaarts.org
SUMMARY:Jazz Nights with Flair: Four on the Floor
DESCRIPTION:
URL:https://odessaarts.org/event/jazz-nights-with-flair-four-on-the-floor-2/
LOCATION:Flair Taverna\, 2701 JBS Parkway\, Odessa\, Texas
CATEGORIES:Music
ATTACH;FMTTYPE=image/png:https://odessaarts.org/wp-content/uploads/2024/01/Four-on-the-Floor-SQ-1.png
END:VEVENT
BEGIN:VEVENT
DTSTART;TZID=America/Chicago:20240222T180000
DTEND;TZID=America/Chicago:20240222T210000
DTSTAMP:20260425T232601
CREATED:20240125T233714Z
LAST-MODIFIED:20240125T233714Z
UID:72350-1708624800-1708635600@odessaarts.org
SUMMARY:Jazz Nights with Flair: New Classic
DESCRIPTION:
URL:https://odessaarts.org/event/jazz-nights-with-flair-new-classic/
LOCATION:Flair Taverna\, 2701 JBS Parkway\, Odessa\, Texas
CATEGORIES:Music
ATTACH;FMTTYPE=image/png:https://odessaarts.org/wp-content/uploads/2024/01/Flair-w4-New-Classic.png
END:VEVENT
BEGIN:VEVENT
DTSTART;TZID=America/Chicago:20240222T193000
DTEND;TZID=America/Chicago:20240222T193000
DTSTAMP:20260425T232601
CREATED:20240209T164706Z
LAST-MODIFIED:20240209T164706Z
UID:72421-1708630200-1708630200@odessaarts.org
SUMMARY:UT Permian Basin Music Department - Free Event
DESCRIPTION:Presenting Selections from Studio Ghibli \nPerformances by: \n\nLegacy High School\nMidland High School\nGoddard Junior High School\nSan Jacinto Junior High School
URL:https://odessaarts.org/event/ut-permian-basin-music-department-free-event/
LOCATION:Wagner Noël Performing Arts Center\, 1310 FM 1788\, Midland\, Texas
CATEGORIES:Music
END:VEVENT
BEGIN:VEVENT
DTSTART;TZID=America/Chicago:20240223T180000
DTEND;TZID=America/Chicago:20240223T210000
DTSTAMP:20260425T232601
CREATED:20240125T234513Z
LAST-MODIFIED:20240125T234513Z
UID:72365-1708711200-1708722000@odessaarts.org
SUMMARY:Live Music with Flair: Groove City
DESCRIPTION:
URL:https://odessaarts.org/event/live-music-with-flair-groove-city-15/
LOCATION:Flair Taverna\, 2701 JBS Parkway\, Odessa\, Texas
CATEGORIES:Music
ATTACH;FMTTYPE=image/png:https://odessaarts.org/wp-content/uploads/2024/01/flair-feb-w4-groove-city.png
END:VEVENT
BEGIN:VEVENT
DTSTART;TZID=America/Chicago:20240224T180000
DTEND;TZID=America/Chicago:20240224T210000
DTSTAMP:20260425T232601
CREATED:20240125T234728Z
LAST-MODIFIED:20240125T234728Z
UID:72369-1708797600-1708808400@odessaarts.org
SUMMARY:Live Music with Flair: Eric & Emily Baker
DESCRIPTION:
URL:https://odessaarts.org/event/live-music-with-flair-eric-emily-baker-8/
LOCATION:Flair Taverna\, 2701 JBS Parkway\, Odessa\, Texas
CATEGORIES:Music
ATTACH;FMTTYPE=image/png:https://odessaarts.org/wp-content/uploads/2024/01/flair-feb-w4-Eric-and-Emily-SQ.png
END:VEVENT
BEGIN:VEVENT
DTSTART;TZID=America/Chicago:20240224T193000
DTEND;TZID=America/Chicago:20240224T223000
DTSTAMP:20260425T232601
CREATED:20240223T172037Z
LAST-MODIFIED:20240223T172037Z
UID:72582-1708803000-1708813800@odessaarts.org
SUMMARY:Music at the Marriott
DESCRIPTION:
URL:https://odessaarts.org/event/music-at-the-marriott-2/
LOCATION:Odessa Marriott Hotel & Conference Center\, 305 E. 5th Street\, Odessa\, Texas\, 79761
CATEGORIES:Music
END:VEVENT
BEGIN:VEVENT
DTSTART;TZID=America/Chicago:20240225T140000
DTEND;TZID=America/Chicago:20240225T160000
DTSTAMP:20260425T232601
CREATED:20240223T172248Z
LAST-MODIFIED:20240223T172248Z
UID:72584-1708869600-1708876800@odessaarts.org
SUMMARY:Jazz Jam
DESCRIPTION:
URL:https://odessaarts.org/event/jazz-jam/
LOCATION:Flair Taverna\, 2701 JBS Parkway\, Odessa\, Texas
CATEGORIES:Music
END:VEVENT
BEGIN:VEVENT
DTSTART;TZID=America/Chicago:20240225T140000
DTEND;TZID=America/Chicago:20240225T160000
DTSTAMP:20260425T232601
CREATED:20240223T222220Z
LAST-MODIFIED:20240223T222220Z
UID:72598-1708869600-1708876800@odessaarts.org
SUMMARY:West Texas Jazz Jam
DESCRIPTION:Join the musicians of the West Texas Jazz Society and local community members for a fun afternoon of music! Everyone is welcome to bring your instrument (rhythm section will be provided) or your voice and perform your favorite song. All ages and skill levels are welcome! Reservations highly recommended.
URL:https://odessaarts.org/event/west-texas-jazz-jam-4/
LOCATION:Flair Taverna\, 2701 JBS Parkway\, Odessa\, Texas
CATEGORIES:Music
ATTACH;FMTTYPE=image/png:https://odessaarts.org/wp-content/uploads/2024/02/JAZZ-JAM-SQ.png
END:VEVENT
BEGIN:VEVENT
DTSTART;TZID=America/Chicago:20240225T193000
DTEND;TZID=America/Chicago:20240225T193000
DTSTAMP:20260425T232601
CREATED:20231208T171849Z
LAST-MODIFIED:20231208T171849Z
UID:71945-1708889400-1708889400@odessaarts.org
SUMMARY:Drum Tao 2024
DESCRIPTION:Established in 1993\, with a dream of creating the best show in the world using Taiko drums (Japanese drums)\, the instrument which has a very rare and unique variety of sound expressions. \nDRUM TAO set their base at Oita\, Japan and started creating their own music\,\nstage set-ups\, and costumes to produce their one and only world of entertainment.\nMany talented artists and staffs gathered to join this creation from all over the world and this is why DRUM TAO can make the peerless and the most modern “JAPANESE ENTERTAINMENT” .
URL:https://odessaarts.org/event/drum-tao-2024/
LOCATION:Wagner Noël Performing Arts Center\, 1310 FM 1788\, Midland\, Texas
CATEGORIES:Music
END:VEVENT
BEGIN:VEVENT
DTSTART;TZID=America/Chicago:20240229T180000
DTEND;TZID=America/Chicago:20240229T210000
DTSTAMP:20260425T232601
CREATED:20240125T233817Z
LAST-MODIFIED:20240125T233817Z
UID:72358-1709229600-1709240400@odessaarts.org
SUMMARY:Jazz Nights with Flair: Offset Jazz Trio
DESCRIPTION:
URL:https://odessaarts.org/event/jazz-nights-with-flair-offset-jazz-trio-2/
LOCATION:Flair Taverna\, 2701 JBS Parkway\, Odessa\, Texas
CATEGORIES:Music
ATTACH;FMTTYPE=image/png:https://odessaarts.org/wp-content/uploads/2024/01/Flair-feb-w5-Offset-SQ.png
END:VEVENT
BEGIN:VEVENT
DTSTART;TZID=America/Chicago:20240301T180000
DTEND;TZID=America/Chicago:20240301T210000
DTSTAMP:20260425T232601
CREATED:20240125T234855Z
LAST-MODIFIED:20240125T234855Z
UID:72371-1709316000-1709326800@odessaarts.org
SUMMARY:Live Music with Flair: ZBD Band
DESCRIPTION:
URL:https://odessaarts.org/event/live-music-with-flair-zbd-band-8/
LOCATION:Flair Taverna\, 2701 JBS Parkway\, Odessa\, Texas
CATEGORIES:Music
ATTACH;FMTTYPE=image/png:https://odessaarts.org/wp-content/uploads/2024/01/flair-feb-w5-ZBD-SQ.png
END:VEVENT
BEGIN:VEVENT
DTSTART;TZID=America/Chicago:20240302T180000
DTEND;TZID=America/Chicago:20240302T210000
DTSTAMP:20260425T232601
CREATED:20240125T234621Z
LAST-MODIFIED:20240125T234621Z
UID:72367-1709402400-1709413200@odessaarts.org
SUMMARY:Live Music with Flair: Colton Fox
DESCRIPTION:
URL:https://odessaarts.org/event/live-music-with-flair-colton-fox-7/
LOCATION:Flair Taverna\, 2701 JBS Parkway\, Odessa\, Texas
CATEGORIES:Music
ATTACH;FMTTYPE=image/png:https://odessaarts.org/wp-content/uploads/2024/01/Flair-feb-w5-Colton-Fox-SQ.png
END:VEVENT
BEGIN:VEVENT
DTSTART;TZID=America/Chicago:20240302T193000
DTEND;TZID=America/Chicago:20240302T193000
DTSTAMP:20260425T232601
CREATED:20231213T205655Z
LAST-MODIFIED:20231213T205655Z
UID:72025-1709407800-1709407800@odessaarts.org
SUMMARY:Special Guest\, Wally Minko - Pops & Family Series
DESCRIPTION:Wally Minko\, Jazz Pianist \nA world premier show\, from a world-renowned composer and arranger\, that showcases the best of your West Texas Symphony! \n 
URL:https://odessaarts.org/event/special-guest-wally-minko-pops-family-series/
LOCATION:Wagner Noël Performing Arts Center\, 1310 FM 1788\, Midland\, Texas
CATEGORIES:Music
END:VEVENT
BEGIN:VEVENT
DTSTART;TZID=America/Chicago:20240303T190000
DTEND;TZID=America/Chicago:20240303T190000
DTSTAMP:20260425T232601
CREATED:20231213T210144Z
LAST-MODIFIED:20231213T210239Z
UID:72027-1709492400-1709492400@odessaarts.org
SUMMARY:Dancing with the Stars - With Special Guest Julianne Hough and Harry Jowsey
DESCRIPTION:Audiences at Dancing with the Stars: Live! will have the opportunity to experience the breathless excitement\, the athleticism\, and the artistry they see in the TV show’s famed ballroom live\, up-close\, and personal. The tour delivers an unforgettable night of electrifying dance performances from world-renowned dancers who topped the leaderboard\, including Brandon Armstrong\, Rylee Arnold\, Alan Bersten\, Daniella Karagach\, Pasha Pashkov\, Gleb Savchenko\, Emma Slater\, and Britt Stewart. \nAlso joining the tour is special guest Julianne Hough! The triple-threat superstar Dancing with the Stars co-host and two-time Mirrorball Champion will be lighting up the stage on select dates! \nSeason 32 fan favorite Harry Jowsey is thrilled to be joining the tour and performing at Wagner Noël PAC! Harry Jowsey has previously starred on Heartbreak Island (Australia)\, Too Hot to Handle\, and Match Me If You Can. \n 
URL:https://odessaarts.org/event/dancing-with-the-stars-with-special-guest-julianne-hough-and-harry-jowsey/
LOCATION:Wagner Noël Performing Arts Center\, 1310 FM 1788\, Midland\, Texas
CATEGORIES:Music,Theatre & Literary Arts
END:VEVENT
BEGIN:VEVENT
DTSTART;TZID=America/Chicago:20240303T190000
DTEND;TZID=America/Chicago:20240303T213000
DTSTAMP:20260425T232601
CREATED:20240122T165553Z
LAST-MODIFIED:20240122T165553Z
UID:72303-1709492400-1709501400@odessaarts.org
SUMMARY:Living Color
DESCRIPTION:Join us for a night you won’t forget with 2x GRAMMY-winning\, multi-platinum rock band Living Colour performs at The Ector Theatre on Sunday\, March 3\, 2024! \nSee them perform all your favorites LIVE in Odessa\, Texas! Get your tickets today before they’re gone.
URL:https://odessaarts.org/event/living-color/
LOCATION:The Ector Theatre\, 500 N. Texas\, Odessa\, TX\, 79761\, United States
CATEGORIES:Music
END:VEVENT
BEGIN:VEVENT
DTSTART;TZID=America/Chicago:20240304T190000
DTEND;TZID=America/Chicago:20240304T213000
DTSTAMP:20260425T232601
CREATED:20240214T222155Z
LAST-MODIFIED:20240214T222155Z
UID:72522-1709578800-1709587800@odessaarts.org
SUMMARY:Lil Xan
DESCRIPTION:
URL:https://odessaarts.org/event/lil-xan/
LOCATION:The Ector Theatre\, 500 N. Texas\, Odessa\, TX\, 79761\, United States
CATEGORIES:Music
END:VEVENT
BEGIN:VEVENT
DTSTART;TZID=America/Chicago:20240305T193000
DTEND;TZID=America/Chicago:20240305T193000
DTSTAMP:20260425T232601
CREATED:20231213T210509Z
LAST-MODIFIED:20231213T210509Z
UID:72030-1709667000-1709667000@odessaarts.org
SUMMARY:Bennie & The Jets - Tribute to Elton John
DESCRIPTION:Bennie & the Jets is the premier Elton John tribute. Led by Greg Ransom on piano and vocals\, this group has performed around the world for a variety of audiences. In honor of his 2022 farewell tour\, this concert offers audiences the opportunity to relive Elton John’s iconic catalog of music\, including “Candle in the Wind\,” “Can You Feel the Love Tonight\,” and “Rocket Man.” \n“Ransom’s voice\, piano-playing\, and stage demeanor are eerily similar to Elton John’s.” – Graham Dixon\, Midland Reporter Telegram \n\n\n\n\n\n \n\n\n 
URL:https://odessaarts.org/event/bennie-the-jets-tribute-to-elton-john/
LOCATION:Wagner Noël Performing Arts Center\, 1310 FM 1788\, Midland\, Texas
CATEGORIES:Music,Theatre & Literary Arts
END:VEVENT
BEGIN:VEVENT
DTSTART;TZID=America/Chicago:20240307T180000
DTEND;TZID=America/Chicago:20240307T210000
DTSTAMP:20260425T232601
CREATED:20240125T234402Z
LAST-MODIFIED:20240125T234402Z
UID:72360-1709834400-1709845200@odessaarts.org
SUMMARY:Jazz Nights with Flair: Sergio Tarin
DESCRIPTION:
URL:https://odessaarts.org/event/jazz-nights-with-flair-sergio-tarin/
LOCATION:Flair Taverna\, 2701 JBS Parkway\, Odessa\, Texas
CATEGORIES:Music
ATTACH;FMTTYPE=image/png:https://odessaarts.org/wp-content/uploads/2024/01/Flair-march-w1-Sergio-Tarin-SQ.png
END:VEVENT
BEGIN:VEVENT
DTSTART;TZID=America/Chicago:20240308T180000
DTEND;TZID=America/Chicago:20240308T210000
DTSTAMP:20260425T232601
CREATED:20240125T235011Z
LAST-MODIFIED:20240125T235011Z
UID:72373-1709920800-1709931600@odessaarts.org
SUMMARY:Live Music with Flair: Part Bee
DESCRIPTION:
URL:https://odessaarts.org/event/live-music-with-flair-part-bee-6/
LOCATION:Flair Taverna\, 2701 JBS Parkway\, Odessa\, Texas
CATEGORIES:Music
ATTACH;FMTTYPE=image/png:https://odessaarts.org/wp-content/uploads/2024/01/Flair-March-w1-Part-Bee-SQ.png
END:VEVENT
BEGIN:VEVENT
DTSTART;TZID=America/Chicago:20240308T180000
DTEND;TZID=America/Chicago:20240308T210000
DTSTAMP:20260425T232601
CREATED:20240307T203313Z
LAST-MODIFIED:20240307T203313Z
UID:72648-1709920800-1709931600@odessaarts.org
SUMMARY:Live Music at Brantley Creek - Kacey Greathouse
DESCRIPTION:
URL:https://odessaarts.org/event/live-music-at-brantley-creek-kacey-greathouse/
LOCATION:Brantley Creek BBQ\, 3541 Faudree Road\, Odessa\, TX\, 79765\, United States
CATEGORIES:Music
END:VEVENT
BEGIN:VEVENT
DTSTART;TZID=America/Chicago:20240308T190000
DTEND;TZID=America/Chicago:20240308T213000
DTSTAMP:20260425T232601
CREATED:20240209T174452Z
LAST-MODIFIED:20240223T152720Z
UID:72433-1709924400-1709933400@odessaarts.org
SUMMARY:Satisfaction - The International Rolling Stones Tribute Show
DESCRIPTION:Join us Friday\, March 8\, 2024\, for a show to remember featuring Satisfaction/ The International Rolling Stones Tribute Show! Experience all the classic hits and exceptional performances at The Ector Theatre.\n\n“Satisfaction/The International Rolling Stones Show” is the international touring tribute show to the World’s Greatest Rock & Roll Band. This Billboard & Pollstar highly-rated show is entering its 20th year in production with over 4000 performances listed to their credit. Their client list includes the nation’s top casinos\, performing arts centers\, music halls\, and corporate clients.\n\nPerforming up to 150 shows a year\, this highly acclaimed production showcases the most authentic cast & costuming of its kind. The likes of Mick Jagger\, Keith Richards\, and the cast bring a colorful performance to over 50 years of classic hits. They have been featured in Rolling Stone magazine\, Showbiz Magazine\, Las Vegas Today\, CBS Sunday Morning News\, and hundreds of national newspapers\, magazines\, television & radio as the world’s greatest show honoring the Rolling Stones and their legacy.
URL:https://odessaarts.org/event/satisfaction-the-international-rolling-stones-tribute-show/
LOCATION:The Ector Theatre\, 500 N. Texas\, Odessa\, TX\, 79761\, United States
CATEGORIES:Music
END:VEVENT
BEGIN:VEVENT
DTSTART;TZID=America/Chicago:20240309T110000
DTEND;TZID=America/Chicago:20240309T140000
DTSTAMP:20260425T232601
CREATED:20240307T204729Z
LAST-MODIFIED:20240307T204729Z
UID:72661-1709982000-1709992800@odessaarts.org
SUMMARY:Live Music at Brantley Creek
DESCRIPTION:
URL:https://odessaarts.org/event/live-music-at-brantley-creek/
LOCATION:Brantley Creek BBQ\, 3541 Faudree Road\, Odessa\, TX\, 79765\, United States
CATEGORIES:Music
END:VEVENT
BEGIN:VEVENT
DTSTART;TZID=America/Chicago:20240309T180000
DTEND;TZID=America/Chicago:20240309T210000
DTSTAMP:20260425T232601
CREATED:20240125T235104Z
LAST-MODIFIED:20240125T235104Z
UID:72375-1710007200-1710018000@odessaarts.org
SUMMARY:Live Music with Flair: McKenna Kasowski
DESCRIPTION:
URL:https://odessaarts.org/event/live-music-with-flair-mckenna-kasowski-2/
LOCATION:Flair Taverna\, 2701 JBS Parkway\, Odessa\, Texas
CATEGORIES:Music
ATTACH;FMTTYPE=image/png:https://odessaarts.org/wp-content/uploads/2024/01/Flair-march-w1-Mckenna.png
END:VEVENT
BEGIN:VEVENT
DTSTART;TZID=America/Chicago:20240314T180000
DTEND;TZID=America/Chicago:20240314T210000
DTSTAMP:20260425T232601
CREATED:20240206T211630Z
LAST-MODIFIED:20240206T211630Z
UID:72397-1710439200-1710450000@odessaarts.org
SUMMARY:Jazz Nights with Flair: Eric Baker & Jordan Holmes
DESCRIPTION:
URL:https://odessaarts.org/event/jazz-nights-with-flair-eric-baker-jordan-holmes/
LOCATION:Flair Taverna\, 2701 JBS Parkway\, Odessa\, Texas
CATEGORIES:Music
ATTACH;FMTTYPE=image/png:https://odessaarts.org/wp-content/uploads/2024/02/Flair-march-w2-Eric-Baker-Jordan-1.png
END:VEVENT
BEGIN:VEVENT
DTSTART;TZID=America/Chicago:20240315T180000
DTEND;TZID=America/Chicago:20240315T210000
DTSTAMP:20260425T232601
CREATED:20240206T211455Z
LAST-MODIFIED:20240206T211455Z
UID:72394-1710525600-1710536400@odessaarts.org
SUMMARY:No Live Music with Flair
DESCRIPTION:
URL:https://odessaarts.org/event/no-live-music-with-flair/
LOCATION:Flair Taverna\, 2701 JBS Parkway\, Odessa\, Texas
CATEGORIES:Music
END:VEVENT
BEGIN:VEVENT
DTSTART;TZID=America/Chicago:20240316T180000
DTEND;TZID=America/Chicago:20240316T210000
DTSTAMP:20260425T232601
CREATED:20240206T212122Z
LAST-MODIFIED:20240206T212122Z
UID:72401-1710612000-1710622800@odessaarts.org
SUMMARY:Live Music with Flair: Robert Lopez
DESCRIPTION:
URL:https://odessaarts.org/event/live-music-with-flair-robert-lopez/
LOCATION:Flair Taverna\, 2701 JBS Parkway\, Odessa\, Texas
CATEGORIES:Music
ATTACH;FMTTYPE=image/png:https://odessaarts.org/wp-content/uploads/2024/02/Robert-Lopez-SQ-1.png
END:VEVENT
BEGIN:VEVENT
DTSTART;TZID=America/Chicago:20240316T190000
DTEND;TZID=America/Chicago:20240316T213000
DTSTAMP:20260425T232601
CREATED:20240223T153203Z
LAST-MODIFIED:20240223T153203Z
UID:72564-1710615600-1710624600@odessaarts.org
SUMMARY:Neal McCoy
DESCRIPTION:Neal McCoy has released fifteen studio albums. In 1993\, Neal McCoy broke through with the back-to-back number 1 singles No Doubt About It and Wink from his platinum-certified album No Doubt About It. His commercial success continued into the late 1990s with two more platinum albums and a gold album\, as well as six more Top Ten hits. A seventh Top Ten hit\, Billy’s Got His Beer Goggles On\, came in 2005 from his self-released That’s Life. \nA new studio album\, XII\, arrived in 2012 Co Produced by Blake Shelton & Miranda Lambert. In 2013 he released Pride: A Tribute to Charley Pride\, Neal’s longtime friend and mentor. 2015 brought the Big Band Standards CD You Don’t Know Me. 2017 brought  Neal McCoy’s Favorite Hit’s. 10 Hits with 2 new songs. \nNeal has been on 17 USO Tours around the world and continues to say it’s one of the achievements he’s most proud of. He is also the recipient of multiple Humanitarian awards from The Academy of Country Music\, The Country Radio Broadcasters and The Masonic Grand Lodge. In 2016 Neal has again made a move to continue his patriotic values by reciting the Pledge of Allegiance “Live” on his Facebook page every morning. He’s reached millions of viewers all over the country and around the world. Currently he is closing in on 2000 days in a row and going strong. Neal still maintains a very busy touring schedule all through the year. Make sure to catch a show when he’s near because as Neal says “No two shows are the same!” \nNeal also supports his own charity organization: East Texas Angel Network which is committed to the enhancement of the lives of children of East Texas who are living with terminal or life-threatening diseases. He hosts a yearly golf tournament\, auction/dinner & concert over two days in the Fall. \nThe foundation has been going strong since 1995 and to date has raised over 9 million dollars for approximately 500 hundred East Texas families.
URL:https://odessaarts.org/event/neal-mccoy/
LOCATION:The Ector Theatre\, 500 N. Texas\, Odessa\, TX\, 79761\, United States
CATEGORIES:Music
END:VEVENT
END:VCALENDAR