BEGIN:VCALENDAR
VERSION:2.0
PRODID:-//Odessa Arts - ECPv6.15.20//NONSGML v1.0//EN
CALSCALE:GREGORIAN
METHOD:PUBLISH
X-ORIGINAL-URL:https://odessaarts.org
X-WR-CALDESC:Events for Odessa Arts
REFRESH-INTERVAL;VALUE=DURATION:PT1H
X-Robots-Tag:noindex
X-PUBLISHED-TTL:PT1H
BEGIN:VTIMEZONE
TZID:America/Chicago
BEGIN:DAYLIGHT
TZOFFSETFROM:-0600
TZOFFSETTO:-0500
TZNAME:CDT
DTSTART:20230312T080000
END:DAYLIGHT
BEGIN:STANDARD
TZOFFSETFROM:-0500
TZOFFSETTO:-0600
TZNAME:CST
DTSTART:20231105T070000
END:STANDARD
BEGIN:DAYLIGHT
TZOFFSETFROM:-0600
TZOFFSETTO:-0500
TZNAME:CDT
DTSTART:20240310T080000
END:DAYLIGHT
BEGIN:STANDARD
TZOFFSETFROM:-0500
TZOFFSETTO:-0600
TZNAME:CST
DTSTART:20241103T070000
END:STANDARD
BEGIN:DAYLIGHT
TZOFFSETFROM:-0600
TZOFFSETTO:-0500
TZNAME:CDT
DTSTART:20250309T080000
END:DAYLIGHT
BEGIN:STANDARD
TZOFFSETFROM:-0500
TZOFFSETTO:-0600
TZNAME:CST
DTSTART:20251102T070000
END:STANDARD
END:VTIMEZONE
BEGIN:VEVENT
DTSTART;TZID=America/Chicago:20240418T180000
DTEND;TZID=America/Chicago:20240418T210000
DTSTAMP:20260425T220459
CREATED:20240306T193624Z
LAST-MODIFIED:20240306T193624Z
UID:72622-1713463200-1713474000@odessaarts.org
SUMMARY:Jazz Nights with Flair: Craig Elliott Jazz Duo
DESCRIPTION:
URL:https://odessaarts.org/event/jazz-nights-with-flair-craig-elliott-jazz-duo/
LOCATION:Flair Taverna\, 2701 JBS Parkway\, Odessa\, Texas
CATEGORIES:Music
ATTACH;FMTTYPE=image/png:https://odessaarts.org/wp-content/uploads/2024/03/Flair-w3-Craig-SQ.png
END:VEVENT
BEGIN:VEVENT
DTSTART;TZID=America/Chicago:20240419T180000
DTEND;TZID=America/Chicago:20240419T210000
DTSTAMP:20260425T220459
CREATED:20240306T193428Z
LAST-MODIFIED:20240306T193428Z
UID:72618-1713549600-1713560400@odessaarts.org
SUMMARY:Live Music with Flair: Black Gold
DESCRIPTION:
URL:https://odessaarts.org/event/live-music-with-flair-black-gold-10/
LOCATION:Flair Taverna\, 2701 JBS Parkway\, Odessa\, Texas
CATEGORIES:Music
ATTACH;FMTTYPE=image/png:https://odessaarts.org/wp-content/uploads/2024/03/BLACK-GOLD-SQ-1.png
END:VEVENT
BEGIN:VEVENT
DTSTART;TZID=America/Chicago:20240419T190000
DTEND;TZID=America/Chicago:20240419T190000
DTSTAMP:20260425T220459
CREATED:20240223T154717Z
LAST-MODIFIED:20240223T154717Z
UID:72568-1713553200-1713553200@odessaarts.org
SUMMARY:Rodney Carrington
DESCRIPTION:Rodney Carrington is a multi-talented comedian\, actor\, singer and writer playing sold-out shows around the world as one of the top 10 highest-grossing touring comedians for the past two decades. \nA platinum-recording artist\, Rodney’s recorded eight major record label comedy albums\, followed by three albums on his own record label\, Laughter’s Good Records. Rodney is fresh off the release of his latest album\, “Get Em Out\,” (released 2019) which hit #1 on iTunes. His album “Here Comes the Truth” (released 2017) climbed to #3 on the comedy charts\, accruing tens of millions of streams on Spotify and even spawned a Netflix special. \nRodney broke through with his major label comedy CD debut “Hangin’ With Rodney” in 1998. The next few years saw nine more Top 10 comedy albums: Live\, Morning Wood\, Nutsack\, Greatest Hits\, King of the Mountains\, El Nino Loco\, C’mon Laugh You\nBastards\, Laughter’s Good and The Hits\, all of which continue to receive radio airplay\nand regularly place on the national comedy charts. “Hangin’ With Rodney” and “Morning Wood” earned RIAA gold record certification\, and his Greatest Hits (a double CD) album reached platinum status. Rodney also released “Make it Christmas” which features his original song “Camouflage and Christmas Lights\,” a tribute to our military. \nRodney also added “author” to his list of accomplishments with the release of his book\n“Rodney Carrington\, Coming Clean” published by Hatchette Books. \nOver the years\, he’s starred in his own TV sitcom\, “Rodney”\, which ran for two seasons on ABC\, co-wrote and co-starred with Toby Keith in the feature film\, “Beer for My Horses\,” which won the Tex Ritter Award from the ACM\, and starred in his own Netflix special “Here Comes The Truth.” Rodney’s also appeared on countless other TV shows\, including the ACA (American Country Awards)\, hosting the American Country New Year’s Eve Live show on FOX\, and won “Supporting Character of the Year” from the CMT Music Video Awards for his appearance on the Trace Adkins’ music video “I Got My Game On.”
URL:https://odessaarts.org/event/rodney-carrington/
LOCATION:Wagner Noël Performing Arts Center\, 1310 FM 1788\, Midland\, Texas
CATEGORIES:Music
END:VEVENT
BEGIN:VEVENT
DTSTART;TZID=America/Chicago:20240420T180000
DTEND;TZID=America/Chicago:20240420T210000
DTSTAMP:20260425T220459
CREATED:20240306T193519Z
LAST-MODIFIED:20240306T193519Z
UID:72620-1713636000-1713646800@odessaarts.org
SUMMARY:Live Music with Flair: Hayden Lewis
DESCRIPTION:
URL:https://odessaarts.org/event/live-music-with-flair-hayden-lewis/
LOCATION:Flair Taverna\, 2701 JBS Parkway\, Odessa\, Texas
CATEGORIES:Music
ATTACH;FMTTYPE=image/png:https://odessaarts.org/wp-content/uploads/2024/03/flair-w3-hayden-lewis.png
END:VEVENT
BEGIN:VEVENT
DTSTART;TZID=America/Chicago:20240420T190000
DTEND;TZID=America/Chicago:20240420T213000
DTSTAMP:20260425T220459
CREATED:20240318T170742Z
LAST-MODIFIED:20240318T170805Z
UID:72842-1713639600-1713648600@odessaarts.org
SUMMARY:Mark Chesnutt
DESCRIPTION:Mark Chesnutt is one of Country’s true musical treasures. Critics have hailed him as a classic Country singer of the first order and some of Country music’s most elite entertainers\, from George Jones to George Strait\, echo the sentiment. \nMark Chesnutt’s stature is easily gauged. He has 14 No. 1 hits\, 23 top ten singles\, four platinum albums and five gold records to his credit; he maintains a front-and-center presence with a hefty tour schedule year after year.  Country music critics and fans alike need look no further when it comes to Country music basics. If you ask Chesnutt\, he’ll tell you\, “It’s the music and the fans that have kept me around this long.” \nIn a creative forum that sometimes confuses style with substance\, Mark Chesnutt possesses both. Remaining true to himself as a traditional country artist\, while keeping the pace with the ever-changing country recording landscape\, Mark Chesnutt has a knack for picking great songs\, delivering them with world-class style and a heart-felt emotion that’s lived-in. \nWith a trademarked voice\, Chesnutt has set the bar for his generation and those that follow in his footsteps shaping the music of today’s country music newcomers and the new country music format. \nMark Chesnutt’s personal integrity combined with his principal to record a genuine country song has made him a fixture on radio and in honky tonks across the globe\, and an all-time country music fan favorite.
URL:https://odessaarts.org/event/mark-chesnutt/
LOCATION:The Ector Theatre\, 500 N. Texas\, Odessa\, TX\, 79761\, United States
CATEGORIES:Music
END:VEVENT
BEGIN:VEVENT
DTSTART;TZID=America/Chicago:20240421T150000
DTEND;TZID=America/Chicago:20240421T150000
DTSTAMP:20260425T220459
CREATED:20240122T173217Z
LAST-MODIFIED:20240122T173217Z
UID:72315-1713711600-1713711600@odessaarts.org
SUMMARY:Permian Basin String Quartet - Spring Recital
DESCRIPTION:This event will not be held at Wagner Noël PAC. Wagner Noël will sell tickets for the performance on behalf of the West Texas Symphony.  \nEvent will be held at the Wagner Brown Auditorium at Midland College located at 3600 Garfield Street\, Midland\, Texas.
URL:https://odessaarts.org/event/permian-basin-string-quartet-spring-recital/
LOCATION:Midland College\, 3600 N. Garfield Street\, Midland\, TX\, 79705\, United States
CATEGORIES:Music
END:VEVENT
BEGIN:VEVENT
DTSTART;TZID=America/Chicago:20240423T180000
DTEND;TZID=America/Chicago:20240423T220000
DTSTAMP:20260425T220459
CREATED:20240423T184341Z
LAST-MODIFIED:20240423T184341Z
UID:73102-1713895200-1713909600@odessaarts.org
SUMMARY:Full Moon Party
DESCRIPTION:Join us for our first Full Moon Party of the year!!!  On Tuesday\, April 23rd\, from 6 to 10 pm\, come support your local artists! The party will be located in our parking lot and will feature live music\, food trucks\, your favorite vendors\, and more! Enjoy amazing tattoos by @blackcattattooco\, a cash bar provided by @redoakkitchenodessa\, and music by the talented @mckennakasowski.  Don’t miss out on the fun! 
URL:https://odessaarts.org/event/full-moon-party/
LOCATION:Black Tulip\, 4651 N. Grandview Ave\, Odessa\, TX\, 79762\, United States
CATEGORIES:Music,Visual Arts
END:VEVENT
BEGIN:VEVENT
DTSTART;TZID=America/Chicago:20240423T190000
DTEND;TZID=America/Chicago:20240423T213000
DTSTAMP:20260425T220459
CREATED:20240214T222508Z
LAST-MODIFIED:20240214T222508Z
UID:72524-1713898800-1713907800@odessaarts.org
SUMMARY:Education Foundation:  Nashville Songwriters under the West Texas Stars
DESCRIPTION:
URL:https://odessaarts.org/event/education-foundation-nashville-songwriters-under-the-west-texas-stars/
LOCATION:TX
CATEGORIES:Music
END:VEVENT
BEGIN:VEVENT
DTSTART;TZID=America/Chicago:20240424T200000
DTEND;TZID=America/Chicago:20240424T223000
DTSTAMP:20260425T220459
CREATED:20240308T161256Z
LAST-MODIFIED:20240308T161256Z
UID:72744-1713988800-1713997800@odessaarts.org
SUMMARY:Alexandra Kay
DESCRIPTION:The Ector Theatre & J&B Productions is thrilled to announce Alexandra Kay is coming to Odessa\, Texas! Watch Alexandra perform LIVE at The Ector Theatre on Wednesday\, April 24\, 2024! It’s a show you don’t want to miss! \nAlexandra Kay kindles a profound connection with listeners through her heartfelt melodies\, evocative storytelling\, and beautifully captivating voice. Born and raised in Waterloo\, Illinois\, Alexandra found her voice as a teen\, using songwriting as a vessel for self-expression and self-discovery. \nAfter two failed major record deals\, and a starring role in a Netflix Original series\, Alexandra took it upon herself to build the music career she envisioned. Since then\, she’s been cementing her status as an independent force in the industry by sharing her music and life online\, amassing over 6+ million followers on social media which has led to over 170+ million streams between Apple and Spotify alone AK (as her fans call her) has graced the stage and collaborated with industry titans like Tim McGraw\, Tracy Lawrence\, Jo Dee Messina\, Jelly Roll\, Randy Travis\, Gary LeVox and more. \nIn October of 2023 Alexandra dropped her debut album “All Ive Ever Known”. The independently released project spent multiple weeks in the number one spot on the iTunes country charts\, debuted at number one on iTunes All Genre and in the top ten on multiple Billboard Charts. The heart wrenching ballad “Everleave” from her debut project has gained tens of millions of views on social media and is currently in rotation on Sirius XM The Highway. With what has been described as a “Taylor Swift-esque” fan base\, AK sold over 50\,000 tickets to her headline shows in 2023 alone. 2024 is gearing up to be her biggest year yet with multiple main stage performances at the largest festivals in country music\, multiple headline runs and the inception of her sophomore album.
URL:https://odessaarts.org/event/alexandra-kay/
LOCATION:The Ector Theatre\, 500 N. Texas\, Odessa\, TX\, 79761\, United States
CATEGORIES:Music
END:VEVENT
BEGIN:VEVENT
DTSTART;TZID=America/Chicago:20240425T180000
DTEND;TZID=America/Chicago:20240425T210000
DTSTAMP:20260425T220459
CREATED:20240320T170708Z
LAST-MODIFIED:20240320T170708Z
UID:72858-1714068000-1714078800@odessaarts.org
SUMMARY:Jazz Nights with Flair: Mainstream Jazz Quartet
DESCRIPTION:
URL:https://odessaarts.org/event/jazz-nights-with-flair-mainstream-jazz-quartet/
LOCATION:Flair Taverna\, 2701 JBS Parkway\, Odessa\, Texas
CATEGORIES:Music
ATTACH;FMTTYPE=image/png:https://odessaarts.org/wp-content/uploads/2024/03/Flair-april-w4-Mainstream-Jazz-Quartet-SQ.png
END:VEVENT
BEGIN:VEVENT
DTSTART;TZID=America/Chicago:20240426T180000
DTEND;TZID=America/Chicago:20240426T210000
DTSTAMP:20260425T220459
CREATED:20240320T170815Z
LAST-MODIFIED:20240320T170815Z
UID:72860-1714154400-1714165200@odessaarts.org
SUMMARY:Live Music with Flair: New Classic
DESCRIPTION:
URL:https://odessaarts.org/event/live-music-with-flair-new-classic-2/
LOCATION:Flair Taverna\, 2701 JBS Parkway\, Odessa\, Texas
CATEGORIES:Music
ATTACH;FMTTYPE=image/png:https://odessaarts.org/wp-content/uploads/2024/03/Flair-april-w4-New-Classic.png
END:VEVENT
BEGIN:VEVENT
DTSTART;TZID=America/Chicago:20240426T190000
DTEND;TZID=America/Chicago:20240426T213000
DTSTAMP:20260425T220459
CREATED:20240111T210645Z
LAST-MODIFIED:20240111T210645Z
UID:72258-1714158000-1714167000@odessaarts.org
SUMMARY:Foghat
DESCRIPTION:oin us for a night you won’t forget with Foghat on Friday\, April 26\, 2024\, at The Ector Theatre!\nEnjoy their classic hits\, “Slow Ride\,” “Drivin’ Wheel\,” and more LIVE in Odessa\, Texas.\n\nBuy Tickets
URL:https://odessaarts.org/event/foghat/
LOCATION:The Ector Theatre\, 500 N. Texas\, Odessa\, TX\, 79761\, United States
CATEGORIES:Music
END:VEVENT
BEGIN:VEVENT
DTSTART;TZID=America/Chicago:20240426T190000
DTEND;TZID=America/Chicago:20240426T223000
DTSTAMP:20260425T220459
CREATED:20240423T184640Z
LAST-MODIFIED:20240423T184640Z
UID:73104-1714158000-1714170600@odessaarts.org
SUMMARY:Midland - Up in Texas Tour
DESCRIPTION:FIND TICKETS HERE
URL:https://odessaarts.org/event/midland-up-in-texas-tour/
LOCATION:La Hacienda Event Center\, 12600 TX-191 Hwy\, Midland\, TX\, 79705\, United States
CATEGORIES:Music
END:VEVENT
BEGIN:VEVENT
DTSTART;TZID=America/Chicago:20240427T180000
DTEND;TZID=America/Chicago:20240427T210000
DTSTAMP:20260425T220459
CREATED:20240320T170911Z
LAST-MODIFIED:20240320T170911Z
UID:72862-1714240800-1714251600@odessaarts.org
SUMMARY:Live Music with Flair: The Hill Brothers
DESCRIPTION:
URL:https://odessaarts.org/event/live-music-with-flair-the-hill-brothers/
LOCATION:Flair Taverna\, 2701 JBS Parkway\, Odessa\, Texas
CATEGORIES:Music
ATTACH;FMTTYPE=image/png:https://odessaarts.org/wp-content/uploads/2024/03/Flair-April-w4-Hill-Brothers-SQ.png
END:VEVENT
BEGIN:VEVENT
DTSTART;TZID=America/Chicago:20240427T190000
DTEND;TZID=America/Chicago:20240427T220000
DTSTAMP:20260425T220459
CREATED:20240308T163838Z
LAST-MODIFIED:20240308T163838Z
UID:72764-1714244400-1714255200@odessaarts.org
SUMMARY:Live Music at Homemade Wines
DESCRIPTION:Hop into Homemade Wines every Saturday from 7pm – 10pm and enjoy live music from a local artist.
URL:https://odessaarts.org/event/live-music-at-homemade-wines-3/2024-04-27/
LOCATION:Homemade Wines\, 400 N. Texas Avenue\, Odessa\, 79761\, United States
CATEGORIES:Music
END:VEVENT
BEGIN:VEVENT
DTSTART;TZID=America/Chicago:20240427T193000
DTEND;TZID=America/Chicago:20240427T193000
DTSTAMP:20260425T220459
CREATED:20240412T174920Z
LAST-MODIFIED:20240412T174920Z
UID:73014-1714246200-1714246200@odessaarts.org
SUMMARY:UTPB Symphonic Winds Presents "Falcon Fiesta" - Free Event
DESCRIPTION:Falcon Fiesta: A Band Extravaganza You Can’t Miss! \n Join us for Falcon Fiesta\, the ultimate celebration of music and talent! This vibrant event showcases the full spectrum of our band program\, featuring an eclectic mix of performances that promise to entertain and inspire. Whether you’re a jazz aficionado\, a percussion enthusiast\, or simply a lover of live music\, Falcon Fiesta has something for everyone. \n What to Expect? \nSmall Ensembles: Experience the magic of music as our small ensembles perform in a 360-degree experience like nothing you’ve experienced before!\nJazz Combo: Let the sultry sounds of jazz take you on a journey with our exceptionally talented jazz musicians.\nFull Band: Feel the power of music with the full force of our Symphonic Winds\, delivering performances that are both dynamic and captivating.\nPercussion Ensemble: Rhythms that will make your heart beat faster – our percussion ensemble promises an electrifying performance. \n Why Attend? \nFalcon Fiesta isn’t just a concert; it’s a celebration of music\, talent\, and community. It’s an opportunity to support local student musicians and immerse yourself in the diversity of musical styles within our band program. From the intricate melodies of small ensembles to the bold sounds of the full band\, every performance is a testament to the passion and dedication of our musicians. \nThis event is FREE and suitable for all ages!
URL:https://odessaarts.org/event/utpb-symphonic-winds-presents-falcon-fiesta-free-event/
LOCATION:Wagner Noël Performing Arts Center\, 1310 FM 1788\, Midland\, Texas
CATEGORIES:Music
END:VEVENT
BEGIN:VEVENT
DTSTART;TZID=America/Chicago:20240430T190000
DTEND;TZID=America/Chicago:20240430T190000
DTSTAMP:20260425T220459
CREATED:20240122T174306Z
LAST-MODIFIED:20240122T174353Z
UID:72320-1714503600-1714503600@odessaarts.org
SUMMARY:West Texas Symphony presents Voices of the Permian Basin - Spring Concert
DESCRIPTION:This performance will not occur at Wagner Noël PAC. Wagner Noël will sell tickets for the performance on behalf of the West Texas Symphony.  \nThe event will be held at the Mid-Cities Church located at 8700 TX-191\, Midland\, Texas.
URL:https://odessaarts.org/event/west-texas-symphony-presents-voices-of-the-permian-basin-spring-concert/
LOCATION:Mid-Cities Church\, 8700 HWY 191\, Midland\, TX\, 79707\, United States
CATEGORIES:Music
END:VEVENT
BEGIN:VEVENT
DTSTART;TZID=America/Chicago:20240502T170000
DTEND;TZID=America/Chicago:20240502T230000
DTSTAMP:20260425T220459
CREATED:20240423T185734Z
LAST-MODIFIED:20240423T185734Z
UID:73106-1714669200-1714690800@odessaarts.org
SUMMARY:Viva La Fiesta 2024:  Pecos and the Rooftops
DESCRIPTION:  \nEach day of Viva La Fiesta\, ticket holders can enjoy concerts\, 100+ vendors\, food trucks\, petting zoo\, pig & duck racing\, carnival rides\, sea lion show (sunday only)\, Viva La Charreada (saturday & sunday only) \n\nTHURSDAY CONCERTS & SPECIAL EVENTS:\nPecos and the Rooftop Concert\nLittle Miss Fiesta West Texas Performance in BLDG A\n\nFIND TICKETS HERE
URL:https://odessaarts.org/event/viva-la-fiesta-2024-pecos-and-the-rooftops/
LOCATION:Ector County Coliseum\, 4201 Andrews Highway\, Odessa\, TX\, 79762\, United States
CATEGORIES:Music
END:VEVENT
BEGIN:VEVENT
DTSTART;TZID=America/Chicago:20240502T180000
DTEND;TZID=America/Chicago:20240502T210000
DTSTAMP:20260425T220459
CREATED:20240326T210101Z
LAST-MODIFIED:20240326T210101Z
UID:72955-1714672800-1714683600@odessaarts.org
SUMMARY:Jazz Nights with Flair: Bryant & Pye
DESCRIPTION:
URL:https://odessaarts.org/event/jazz-nights-with-flair-bryant-pye-2/
LOCATION:Flair Taverna\, 2701 JBS Parkway\, Odessa\, Texas
CATEGORIES:Music
ATTACH;FMTTYPE=image/png:https://odessaarts.org/wp-content/uploads/2024/03/May-Bryant-and-Pye-SQ.png
END:VEVENT
BEGIN:VEVENT
DTSTART;TZID=America/Chicago:20240502T190000
DTEND;TZID=America/Chicago:20240502T210000
DTSTAMP:20260425T220459
CREATED:20240415T183205Z
LAST-MODIFIED:20240415T183205Z
UID:73057-1714676400-1714683600@odessaarts.org
SUMMARY:Black Magic:  On Top of The World
DESCRIPTION: 
URL:https://odessaarts.org/event/black-magic-on-top-of-the-world/2024-05-02/
LOCATION:The Ector Theatre\, 500 N. Texas\, Odessa\, TX\, 79761\, United States
CATEGORIES:Music
END:VEVENT
BEGIN:VEVENT
DTSTART;TZID=America/Chicago:20240503T170000
DTEND;TZID=America/Chicago:20240503T230000
DTSTAMP:20260425T220459
CREATED:20240423T190237Z
LAST-MODIFIED:20240423T190237Z
UID:73108-1714755600-1714777200@odessaarts.org
SUMMARY:Viva La Fiesta 2024:  Grupo El Duelo\, Grupo Siggno\, and Grupo Secretto
DESCRIPTION:The Garriga Law Firm Presents Viva La Fiesta at the Ector County Coliseum\, from Thursday\, May 2\, to Sunday\, May 5\, 2024.\n\nEach day of Viva La Fiesta\, ticket holders can enjoy concerts\, 100+ vendors\, food trucks\, petting zoo\, pig & duck racing\, carnival rides\, sea lion show (sunday only)\, Viva La Charreada (saturday & sunday only) \n\nFRIDAY CONCERTS\nGrupo el Duelo\, Grupo Siggno\, and Grupo Secretto\n\nFIND TICKETS HERE
URL:https://odessaarts.org/event/viva-la-fiesta-2024-grupo-el-duelo-grupo-siggno-and-grupo-secretto/
LOCATION:Ector County Coliseum\, 4201 Andrews Highway\, Odessa\, TX\, 79762\, United States
CATEGORIES:Music
END:VEVENT
BEGIN:VEVENT
DTSTART;TZID=America/Chicago:20240503T180000
DTEND;TZID=America/Chicago:20240503T210000
DTSTAMP:20260425T220459
CREATED:20231208T182558Z
LAST-MODIFIED:20231208T182558Z
UID:71961-1714759200-1714770000@odessaarts.org
SUMMARY:First Friday
DESCRIPTION:WHAT IS FIRST FRIDAY?\n\n\n\n\n\nFirst Friday ODTX is a monthly gathering every first Friday of the month for residents and visitors of downtown Odessa. Each month\, the streets are lively and colorful with music\, games\, and delicious food. There are unbeatable deals from local businesses and exciting opportunities to collect amazing giveaways. The event is open to all ages and caters to everyone’s interests. For music lovers\, there are live performances by local bands and artists\, while foodies can indulge in a diverse range of street eats. Downtown shops and eateries will offer special promotions. First Friday ODTX event brings vibrancy and community spirit to downtown Odessa\, making it the perfect place to spend a Friday evening.
URL:https://odessaarts.org/event/first-friday-3/2024-05-03/
LOCATION:Downtown Odessa\, 79761\, United States
CATEGORIES:Humanities,Music,Visual Arts
END:VEVENT
BEGIN:VEVENT
DTSTART;TZID=America/Chicago:20240503T180000
DTEND;TZID=America/Chicago:20240503T210000
DTSTAMP:20260425T220459
CREATED:20240326T210205Z
LAST-MODIFIED:20240326T210205Z
UID:72957-1714759200-1714770000@odessaarts.org
SUMMARY:Live Music with Flair: Groove City
DESCRIPTION:
URL:https://odessaarts.org/event/live-music-with-flair-groove-city-16/
LOCATION:Flair Taverna\, 2701 JBS Parkway\, Odessa\, Texas
CATEGORIES:Music
ATTACH;FMTTYPE=image/png:https://odessaarts.org/wp-content/uploads/2024/03/Groove-Citys-Jazz-Quintet-SQ-1.png
END:VEVENT
BEGIN:VEVENT
DTSTART;TZID=America/Chicago:20240503T190000
DTEND;TZID=America/Chicago:20240503T210000
DTSTAMP:20260425T220459
CREATED:20240415T183205Z
LAST-MODIFIED:20240415T183205Z
UID:73058-1714762800-1714770000@odessaarts.org
SUMMARY:Black Magic:  On Top of The World
DESCRIPTION: 
URL:https://odessaarts.org/event/black-magic-on-top-of-the-world/2024-05-03/
LOCATION:The Ector Theatre\, 500 N. Texas\, Odessa\, TX\, 79761\, United States
CATEGORIES:Music
END:VEVENT
BEGIN:VEVENT
DTSTART;TZID=America/Chicago:20240504T170000
DTEND;TZID=America/Chicago:20240504T230000
DTSTAMP:20260425T220459
CREATED:20240423T190639Z
LAST-MODIFIED:20240423T190639Z
UID:73110-1714842000-1714863600@odessaarts.org
SUMMARY:Viva La Fiesta 2024:  Los Huracances de Norte\,  La Reunion Norteña\, and La Original Sonora Dinamita
DESCRIPTION:The Garriga Law Firm Presents Viva La Fiesta at the Ector County Coliseum\, from Thursday\, May 2\, to Sunday\, May 5\, 2024.\n\nEach day of Viva La Fiesta\, ticket holders can enjoy concerts\, 100+ vendors\, food trucks\, petting zoo\, pig & duck racing\, carnival rides\, sea lion show (sunday only)\, Viva La Charreada (saturday & sunday only) \n\nSATURDAY CONCERTS & SPECIAL EVENTS\n\n\nLittle Miss Fiesta West Texas Pagent in Building A\nConcerts include Los Huracanes de Norte\, La Reunion Norteña\, and La Original Sonora Dinamita\nCommunity Stage with performances from UTPB’s Ballet Folklorico and more\n\n\n\n\nFIND TICKETS HERE
URL:https://odessaarts.org/event/viva-la-fiesta-2024-los-huracances-de-norte-la-reunion-nortena-and-la-original-sonora-dinamita/
LOCATION:Ector County Coliseum\, 4201 Andrews Highway\, Odessa\, TX\, 79762\, United States
CATEGORIES:Music
END:VEVENT
BEGIN:VEVENT
DTSTART;TZID=America/Chicago:20240504T180000
DTEND;TZID=America/Chicago:20240504T210000
DTSTAMP:20260425T220459
CREATED:20240327T221924Z
LAST-MODIFIED:20240327T221924Z
UID:72960-1714845600-1714856400@odessaarts.org
SUMMARY:Live Music with Flair: Colton Fox
DESCRIPTION:
URL:https://odessaarts.org/event/live-music-with-flair-colton-fox-8/
LOCATION:Flair Taverna\, 2701 JBS Parkway\, Odessa\, Texas
CATEGORIES:Music
ATTACH;FMTTYPE=image/png:https://odessaarts.org/wp-content/uploads/2024/03/Flair-May-Colton-Fox-SQ.png
END:VEVENT
BEGIN:VEVENT
DTSTART;TZID=America/Chicago:20240504T190000
DTEND;TZID=America/Chicago:20240504T220000
DTSTAMP:20260425T220459
CREATED:20240423T191633Z
LAST-MODIFIED:20240423T191633Z
UID:73114-1714849200-1714860000@odessaarts.org
SUMMARY:Live Music at Homemade Wines
DESCRIPTION:Hop into Homemade Wines every Saturday from 7pm – 10pm and enjoy live music from a local artist! 
URL:https://odessaarts.org/event/live-music-at-homemade-wines-5/2024-05-04/
LOCATION:Homemade Wines\, 400 N. Texas Avenue\, Odessa\, 79761\, United States
CATEGORIES:Music
END:VEVENT
BEGIN:VEVENT
DTSTART;TZID=America/Chicago:20240504T193000
DTEND;TZID=America/Chicago:20240504T193000
DTSTAMP:20260425T220459
CREATED:20240122T174645Z
LAST-MODIFIED:20240122T174645Z
UID:72322-1714851000-1714851000@odessaarts.org
SUMMARY:fantasy! - Pops & Family Series presented by West Texas Symphony
DESCRIPTION:All ages are welcome to this fun and exciting concert of popular works from movies\, gaming\, and the fantasy realm!
URL:https://odessaarts.org/event/fantasy-pops-family-series-presented-by-west-texas-symphony/
LOCATION:Wagner Noël Performing Arts Center\, 1310 FM 1788\, Midland\, Texas
CATEGORIES:Music
END:VEVENT
BEGIN:VEVENT
DTSTART;TZID=America/Chicago:20240505T170000
DTEND;TZID=America/Chicago:20240505T230000
DTSTAMP:20260425T220459
CREATED:20240423T191041Z
LAST-MODIFIED:20240423T191041Z
UID:73112-1714928400-1714950000@odessaarts.org
SUMMARY:Viva La Fiesta 2024:  La Fiera de Ojinaga\, Impostores De Nuevo Leon\, and La Alianza Nortena
DESCRIPTION:The Garriga Law Firm Presents Viva La Fiesta at the Ector County Coliseum\, from Thursday\, May 2\, to Sunday\, May 5\, 2024.\n\nEach day of Viva La Fiesta\, ticket holders can enjoy concerts\, 100+ vendors\, food trucks\, petting zoo\, pig & duck racing\, carnival rides\, sea lion show (sunday only)\, Viva La Charreada (saturday & sunday only) \n\nSUNDAY CONCERTS & SPECIAL EVENTS\n\n\nConcerts include La Fiera de Ojinaga\, Impostores De Nuevo Leon\, and La Alianza Nortena\nCommunity Stage with performances from UTPB’s Ballet Folklorico and more\n\n\n\n\nFIND TICKETS HERE
URL:https://odessaarts.org/event/viva-la-fiesta-2024-la-fiera-de-ojinaga-impostores-de-nuevo-leon-and-la-alianza-nortena/
LOCATION:Ector County Coliseum\, 4201 Andrews Highway\, Odessa\, TX\, 79762\, United States
CATEGORIES:Music
END:VEVENT
BEGIN:VEVENT
DTSTART;TZID=America/Chicago:20240509T180000
DTEND;TZID=America/Chicago:20240509T210000
DTSTAMP:20260425T220459
CREATED:20240412T181556Z
LAST-MODIFIED:20240412T181556Z
UID:73042-1715277600-1715288400@odessaarts.org
SUMMARY:Jazz Nights with Flair: Emily Baker & Dan Ferguson
DESCRIPTION:
URL:https://odessaarts.org/event/jazz-nights-with-flair-emily-baker-dan-ferguson-3/
LOCATION:Flair Taverna\, 2701 JBS Parkway\, Odessa\, Texas
CATEGORIES:Music
ATTACH;FMTTYPE=image/png:https://odessaarts.org/wp-content/uploads/2024/04/Flair-may-w2-Emily-and-Dan.png
END:VEVENT
END:VCALENDAR