BEGIN:VCALENDAR
VERSION:2.0
PRODID:-//Odessa Arts - ECPv6.15.20//NONSGML v1.0//EN
CALSCALE:GREGORIAN
METHOD:PUBLISH
X-ORIGINAL-URL:https://odessaarts.org
X-WR-CALDESC:Events for Odessa Arts
REFRESH-INTERVAL;VALUE=DURATION:PT1H
X-Robots-Tag:noindex
X-PUBLISHED-TTL:PT1H
BEGIN:VTIMEZONE
TZID:America/Chicago
BEGIN:DAYLIGHT
TZOFFSETFROM:-0600
TZOFFSETTO:-0500
TZNAME:CDT
DTSTART:20230312T080000
END:DAYLIGHT
BEGIN:STANDARD
TZOFFSETFROM:-0500
TZOFFSETTO:-0600
TZNAME:CST
DTSTART:20231105T070000
END:STANDARD
BEGIN:DAYLIGHT
TZOFFSETFROM:-0600
TZOFFSETTO:-0500
TZNAME:CDT
DTSTART:20240310T080000
END:DAYLIGHT
BEGIN:STANDARD
TZOFFSETFROM:-0500
TZOFFSETTO:-0600
TZNAME:CST
DTSTART:20241103T070000
END:STANDARD
BEGIN:DAYLIGHT
TZOFFSETFROM:-0600
TZOFFSETTO:-0500
TZNAME:CDT
DTSTART:20250309T080000
END:DAYLIGHT
BEGIN:STANDARD
TZOFFSETFROM:-0500
TZOFFSETTO:-0600
TZNAME:CST
DTSTART:20251102T070000
END:STANDARD
END:VTIMEZONE
BEGIN:VEVENT
DTSTART;TZID=America/Chicago:20240621T180000
DTEND;TZID=America/Chicago:20240621T210000
DTSTAMP:20260425T203007
CREATED:20240517T151704Z
LAST-MODIFIED:20240518T165709Z
UID:73248-1718992800-1719003600@odessaarts.org
SUMMARY:Live Music with Flair: Groove City
DESCRIPTION:
URL:https://odessaarts.org/event/live-music-with-flair-groove-city-17/
LOCATION:Flair Taverna\, 2701 JBS Parkway\, Odessa\, Texas
CATEGORIES:Music
ATTACH;FMTTYPE=image/png:https://odessaarts.org/wp-content/uploads/2024/05/flair-JUNE-w3-groove-city-SQ.png
END:VEVENT
BEGIN:VEVENT
DTSTART;TZID=America/Chicago:20240621T193000
DTEND;TZID=America/Chicago:20240621T193000
DTSTAMP:20260425T203007
CREATED:20240412T181131Z
LAST-MODIFIED:20240412T181131Z
UID:73033-1718998200-1718998200@odessaarts.org
SUMMARY:Taylor Shines - Laser Spectacular
DESCRIPTION:Taylor Shines-The Laser Spectacular\, hosted by our electrifying DJs\, is taking Americaby storm in 2024. \nIt’s two hours of non-stop Taylor Swift hits seamlessly blended with the world-famous touring Laser Spectacular & Light show! The show also features large-screen video projection\, 3-D glasses\, and all the mind-bending effects the Laser Spectacular is famous for. \nDJ Tiff is an extraordinary on-stage presence that has the Swifties singing along with their favorite Taylor Swift hits. DJ Tiff propels Taylor Shines to a thoroughly enjoyable evening for moms\, dads\, and all the Swifties in the family.
URL:https://odessaarts.org/event/taylor-shines-laser-spectacular/
LOCATION:Wagner Noël Performing Arts Center\, 1310 FM 1788\, Midland\, Texas
CATEGORIES:Music,Theatre & Literary Arts
END:VEVENT
BEGIN:VEVENT
DTSTART;TZID=America/Chicago:20240622T180000
DTEND;TZID=America/Chicago:20240622T210000
DTSTAMP:20260425T203007
CREATED:20240517T151930Z
LAST-MODIFIED:20240518T165727Z
UID:73250-1719079200-1719090000@odessaarts.org
SUMMARY:Live Music with Flair: Rusty Burrows
DESCRIPTION:
URL:https://odessaarts.org/event/live-music-with-flair-rusty-burrows/
LOCATION:Flair Taverna\, 2701 JBS Parkway\, Odessa\, Texas
CATEGORIES:Music
ATTACH;FMTTYPE=image/png:https://odessaarts.org/wp-content/uploads/2024/05/Flair-June-w3-Rusty-Barrows-SQ.png
END:VEVENT
BEGIN:VEVENT
DTSTART;TZID=America/Chicago:20240622T190000
DTEND;TZID=America/Chicago:20240622T220000
DTSTAMP:20260425T203007
CREATED:20240423T191633Z
LAST-MODIFIED:20240423T191633Z
UID:73121-1719082800-1719093600@odessaarts.org
SUMMARY:Live Music at Homemade Wines
DESCRIPTION:Hop into Homemade Wines every Saturday from 7pm – 10pm and enjoy live music from a local artist! 
URL:https://odessaarts.org/event/live-music-at-homemade-wines-5/2024-06-22/
LOCATION:Homemade Wines\, 400 N. Texas Avenue\, Odessa\, 79761\, United States
CATEGORIES:Music
END:VEVENT
BEGIN:VEVENT
DTSTART;TZID=America/Chicago:20240625T180000
DTEND;TZID=America/Chicago:20240625T180000
DTSTAMP:20260425T203007
CREATED:20240209T170556Z
LAST-MODIFIED:20240209T170556Z
UID:72427-1719338400-1719338400@odessaarts.org
SUMMARY:Sesame Street Live!
DESCRIPTION:Elmo\, Abby Cadabby\, Cookie Monster\, and their friends from Sesame Street are coming to your neighborhood to say hello! In Sesame Street Live! Say Hello\, you can sing and dance with your favorite furry friends while enjoying fun surprises along the way. So put on your dancing shoes and make your way to where the air is sweet for this all-new celebration on Sesame Street!
URL:https://odessaarts.org/event/sesame-street-live/
LOCATION:Wagner Noël Performing Arts Center\, 1310 FM 1788\, Midland\, Texas
CATEGORIES:Music,Theatre & Literary Arts
END:VEVENT
BEGIN:VEVENT
DTSTART;TZID=America/Chicago:20240627T180000
DTEND;TZID=America/Chicago:20240627T210000
DTSTAMP:20260425T203007
CREATED:20240523T043148Z
LAST-MODIFIED:20240523T043148Z
UID:73400-1719511200-1719522000@odessaarts.org
SUMMARY:Jazz Nights with Flair: Four on the Floor
DESCRIPTION:
URL:https://odessaarts.org/event/jazz-nights-with-flair-four-on-the-floor-4/
LOCATION:Flair Taverna\, 2701 JBS Parkway\, Odessa\, Texas
CATEGORIES:Music
ATTACH;FMTTYPE=image/png:https://odessaarts.org/wp-content/uploads/2024/05/June-w4-four-on-the-Floor-SQ-2.png
END:VEVENT
BEGIN:VEVENT
DTSTART;TZID=America/Chicago:20240628T180000
DTEND;TZID=America/Chicago:20240628T210000
DTSTAMP:20260425T203007
CREATED:20240523T043413Z
LAST-MODIFIED:20240523T043413Z
UID:73402-1719597600-1719608400@odessaarts.org
SUMMARY:Live Music with Flair: Rhumba Kings
DESCRIPTION:
URL:https://odessaarts.org/event/live-music-with-flair-rhumba-kings-4/
LOCATION:Flair Taverna\, 2701 JBS Parkway\, Odessa\, Texas
CATEGORIES:Music
ATTACH;FMTTYPE=image/png:https://odessaarts.org/wp-content/uploads/2024/05/June-w4-Rhumba-SQ.png
END:VEVENT
BEGIN:VEVENT
DTSTART;TZID=America/Chicago:20240629T130000
DTEND;TZID=America/Chicago:20240629T220000
DTSTAMP:20260425T203007
CREATED:20240611T230407Z
LAST-MODIFIED:20240611T232242Z
UID:73503-1719666000-1719698400@odessaarts.org
SUMMARY:BBQ\, Bags & Boots benefitting Permian Basin Rehab
DESCRIPTION:Get ready for a fun-filled day of delicious barbecue\, a cornhole tournament and country concert. Join us on Sat\, Jun 29\, 2024 for a day to remember. Bring your friends and family for a day of great food\, friendly competition\, and good company. Don’t forget to wear your favorite boots and be ready for some boot scootin’! \n\n\n\n\n\n\n\n\n\n\n1:00 PM  – Doors Open\n2:00 PM – Cornhole Tournament \n\n\n\n\n\n\n\n\n\nDouble Elimination\, Blind Draw\n2-Person Teams (all skill levels welcome)\nRegister on Scoreholio App\n\n6:30 – 8:00 PM – BBQ Dinner For Sponsors & VIP Ticket Holders with music by Colton Fox \n\n\n\n\n\n\n\n\n8:30 PM – Kyle Park LIVE!
URL:https://odessaarts.org/event/bbq-bags-boots/
LOCATION:Casa de Windswept\, 16040 N Windswept Ave\, Gardendale\, TX\, 79758\, United States
CATEGORIES:Music
ATTACH;FMTTYPE=image/png:https://odessaarts.org/wp-content/uploads/2024/06/Kyle-Park-Reveal.png
END:VEVENT
BEGIN:VEVENT
DTSTART;TZID=America/Chicago:20240629T180000
DTEND;TZID=America/Chicago:20240629T210000
DTSTAMP:20260425T203007
CREATED:20240523T043634Z
LAST-MODIFIED:20240525T155755Z
UID:73404-1719684000-1719694800@odessaarts.org
SUMMARY:Live Music with Flair: Matthew Marcus McDaniel
DESCRIPTION:
URL:https://odessaarts.org/event/live-music-with-flair-matthew-marcus-mcdaniel-2/
LOCATION:Flair Taverna\, 2701 JBS Parkway\, Odessa\, Texas
CATEGORIES:Music
ATTACH;FMTTYPE=image/png:https://odessaarts.org/wp-content/uploads/2024/05/June-w4-MMM-SQ-2.png
END:VEVENT
BEGIN:VEVENT
DTSTART;TZID=America/Chicago:20240629T190000
DTEND;TZID=America/Chicago:20240629T220000
DTSTAMP:20260425T203007
CREATED:20240423T191633Z
LAST-MODIFIED:20240423T191633Z
UID:73122-1719687600-1719698400@odessaarts.org
SUMMARY:Live Music at Homemade Wines
DESCRIPTION:Hop into Homemade Wines every Saturday from 7pm – 10pm and enjoy live music from a local artist! 
URL:https://odessaarts.org/event/live-music-at-homemade-wines-5/2024-06-29/
LOCATION:Homemade Wines\, 400 N. Texas Avenue\, Odessa\, 79761\, United States
CATEGORIES:Music
END:VEVENT
BEGIN:VEVENT
DTSTART;TZID=America/Chicago:20240704T180000
DTEND;TZID=America/Chicago:20240704T210000
DTSTAMP:20260425T203007
CREATED:20240601T194109Z
LAST-MODIFIED:20240601T194436Z
UID:73472-1720116000-1720126800@odessaarts.org
SUMMARY:No Live Music with Flair: Happy Independence Day
DESCRIPTION:
URL:https://odessaarts.org/event/no-live-music-happy-independence-day/
LOCATION:Flair Taverna\, 2701 JBS Parkway\, Odessa\, Texas
CATEGORIES:Music
ATTACH;FMTTYPE=image/png:https://odessaarts.org/wp-content/uploads/2024/06/July4th-Sq-1080-x-1080-px.png
END:VEVENT
BEGIN:VEVENT
DTSTART;TZID=America/Chicago:20240705T180000
DTEND;TZID=America/Chicago:20240705T210000
DTSTAMP:20260425T203007
CREATED:20231208T182558Z
LAST-MODIFIED:20231208T182558Z
UID:71963-1720202400-1720213200@odessaarts.org
SUMMARY:First Friday
DESCRIPTION:WHAT IS FIRST FRIDAY?\n\n\n\n\n\nFirst Friday ODTX is a monthly gathering every first Friday of the month for residents and visitors of downtown Odessa. Each month\, the streets are lively and colorful with music\, games\, and delicious food. There are unbeatable deals from local businesses and exciting opportunities to collect amazing giveaways. The event is open to all ages and caters to everyone’s interests. For music lovers\, there are live performances by local bands and artists\, while foodies can indulge in a diverse range of street eats. Downtown shops and eateries will offer special promotions. First Friday ODTX event brings vibrancy and community spirit to downtown Odessa\, making it the perfect place to spend a Friday evening.
URL:https://odessaarts.org/event/first-friday-3/2024-07-05/
LOCATION:Downtown Odessa\, 79761\, United States
CATEGORIES:Humanities,Music,Visual Arts
END:VEVENT
BEGIN:VEVENT
DTSTART;TZID=America/Chicago:20240705T180000
DTEND;TZID=America/Chicago:20240705T210000
DTSTAMP:20260425T203007
CREATED:20240601T194656Z
LAST-MODIFIED:20240601T194656Z
UID:73477-1720202400-1720213200@odessaarts.org
SUMMARY:Live Music with Flair: Wolf 359
DESCRIPTION:
URL:https://odessaarts.org/event/live-music-with-flair-wolf-359-3/
LOCATION:Flair Taverna\, 2701 JBS Parkway\, Odessa\, Texas
CATEGORIES:Music
ATTACH;FMTTYPE=image/png:https://odessaarts.org/wp-content/uploads/2024/06/Flair-July-Wolf-359-SQ.png
END:VEVENT
BEGIN:VEVENT
DTSTART;TZID=America/Chicago:20240706T180000
DTEND;TZID=America/Chicago:20240706T210000
DTSTAMP:20260425T203007
CREATED:20240601T194920Z
LAST-MODIFIED:20240601T194920Z
UID:73479-1720288800-1720299600@odessaarts.org
SUMMARY:Live Music with Flair: E-Flat Porch Band
DESCRIPTION:
URL:https://odessaarts.org/event/live-music-with-flair-e-flat-porch-band-11/
LOCATION:Flair Taverna\, 2701 JBS Parkway\, Odessa\, Texas
CATEGORIES:Music
ATTACH;FMTTYPE=image/png:https://odessaarts.org/wp-content/uploads/2024/06/Flair-July-w1-Eflat-SQ.png
END:VEVENT
BEGIN:VEVENT
DTSTART;TZID=America/Chicago:20240706T190000
DTEND;TZID=America/Chicago:20240706T220000
DTSTAMP:20260425T203007
CREATED:20240423T191633Z
LAST-MODIFIED:20240423T191633Z
UID:73123-1720292400-1720303200@odessaarts.org
SUMMARY:Live Music at Homemade Wines
DESCRIPTION:Hop into Homemade Wines every Saturday from 7pm – 10pm and enjoy live music from a local artist! 
URL:https://odessaarts.org/event/live-music-at-homemade-wines-5/2024-07-06/
LOCATION:Homemade Wines\, 400 N. Texas Avenue\, Odessa\, 79761\, United States
CATEGORIES:Music
END:VEVENT
BEGIN:VEVENT
DTSTART;TZID=America/Chicago:20240711T180000
DTEND;TZID=America/Chicago:20240711T210000
DTSTAMP:20260425T203007
CREATED:20240605T190659Z
LAST-MODIFIED:20240605T190659Z
UID:73488-1720720800-1720731600@odessaarts.org
SUMMARY:Jazz Nights with Flair: Moments Notice
DESCRIPTION:
URL:https://odessaarts.org/event/jazz-nights-with-flair-moments-notice-5/
LOCATION:Flair Taverna\, 2701 JBS Parkway\, Odessa\, Texas
CATEGORIES:Music
ATTACH;FMTTYPE=image/png:https://odessaarts.org/wp-content/uploads/2024/06/Julw2-Moments-Notice-SQ-2.png
END:VEVENT
BEGIN:VEVENT
DTSTART;TZID=America/Chicago:20240712T180000
DTEND;TZID=America/Chicago:20240712T210000
DTSTAMP:20260425T203007
CREATED:20240605T190856Z
LAST-MODIFIED:20240605T190856Z
UID:73490-1720807200-1720818000@odessaarts.org
SUMMARY:Live Music with Flair: Brown Sneakers
DESCRIPTION:
URL:https://odessaarts.org/event/live-music-with-flair-brown-sneakers-12/
LOCATION:Flair Taverna\, 2701 JBS Parkway\, Odessa\, Texas
CATEGORIES:Music
ATTACH;FMTTYPE=image/png:https://odessaarts.org/wp-content/uploads/2024/06/julw2-Sneakers-SQ.png
END:VEVENT
BEGIN:VEVENT
DTSTART;TZID=America/Chicago:20240713T180000
DTEND;TZID=America/Chicago:20240713T210000
DTSTAMP:20260425T203007
CREATED:20240605T191035Z
LAST-MODIFIED:20240605T191035Z
UID:73492-1720893600-1720904400@odessaarts.org
SUMMARY:Live Music with Flair: Sam Choate
DESCRIPTION:
URL:https://odessaarts.org/event/live-music-with-flair-sam-choate-5/
LOCATION:Flair Taverna\, 2701 JBS Parkway\, Odessa\, Texas
CATEGORIES:Music
ATTACH;FMTTYPE=image/png:https://odessaarts.org/wp-content/uploads/2024/06/Julw2-Sam-Choat-SQ.png
END:VEVENT
BEGIN:VEVENT
DTSTART;TZID=America/Chicago:20240713T190000
DTEND;TZID=America/Chicago:20240713T220000
DTSTAMP:20260425T203007
CREATED:20240423T191633Z
LAST-MODIFIED:20240423T191633Z
UID:73124-1720897200-1720908000@odessaarts.org
SUMMARY:Live Music at Homemade Wines
DESCRIPTION:Hop into Homemade Wines every Saturday from 7pm – 10pm and enjoy live music from a local artist! 
URL:https://odessaarts.org/event/live-music-at-homemade-wines-5/2024-07-13/
LOCATION:Homemade Wines\, 400 N. Texas Avenue\, Odessa\, 79761\, United States
CATEGORIES:Music
END:VEVENT
BEGIN:VEVENT
DTSTART;TZID=America/Chicago:20240718T180000
DTEND;TZID=America/Chicago:20240718T210000
DTSTAMP:20260425T203007
CREATED:20240614T180736Z
LAST-MODIFIED:20240614T180736Z
UID:73514-1721325600-1721336400@odessaarts.org
SUMMARY:Jazz Nights @ Flair: Craig Elliott Jazz Duo
DESCRIPTION:
URL:https://odessaarts.org/event/jazz-nights-flair-craig-elliott-jazz-duo/
LOCATION:Flair Taverna\, 2701 JBS Parkway\, Odessa\, Texas
CATEGORIES:Music
ATTACH;FMTTYPE=image/png:https://odessaarts.org/wp-content/uploads/2024/06/Flair-July-w3-Craig-Elliott-Jazz-Duo-SQ.png
END:VEVENT
BEGIN:VEVENT
DTSTART;TZID=America/Chicago:20240719T180000
DTEND;TZID=America/Chicago:20240719T210000
DTSTAMP:20260425T203007
CREATED:20240614T180917Z
LAST-MODIFIED:20240614T180942Z
UID:73516-1721412000-1721422800@odessaarts.org
SUMMARY:Live Music with Flair: Brother Z
DESCRIPTION:
URL:https://odessaarts.org/event/live-music-with-flair-brother-z-5/
LOCATION:Flair Taverna\, 2701 JBS Parkway\, Odessa\, Texas
CATEGORIES:Music
ATTACH;FMTTYPE=image/png:https://odessaarts.org/wp-content/uploads/2024/06/Flair-July-W3-Brother-Z-SQ-2.png
END:VEVENT
BEGIN:VEVENT
DTSTART;TZID=America/Chicago:20240720T180000
DTEND;TZID=America/Chicago:20240720T210000
DTSTAMP:20260425T203007
CREATED:20240614T181142Z
LAST-MODIFIED:20240614T181142Z
UID:73518-1721498400-1721509200@odessaarts.org
SUMMARY:Live Music with Flair: Brighton Serrato
DESCRIPTION:
URL:https://odessaarts.org/event/live-music-with-flair-brighton-serrato/
LOCATION:Flair Taverna\, 2701 JBS Parkway\, Odessa\, Texas
CATEGORIES:Music
ATTACH;FMTTYPE=image/png:https://odessaarts.org/wp-content/uploads/2024/06/Flair-July-w3-Brighton-Serrato-SQ.png
END:VEVENT
BEGIN:VEVENT
DTSTART;TZID=America/Chicago:20240720T190000
DTEND;TZID=America/Chicago:20240720T220000
DTSTAMP:20260425T203007
CREATED:20240423T191633Z
LAST-MODIFIED:20240423T191633Z
UID:73126-1721502000-1721512800@odessaarts.org
SUMMARY:Live Music at Homemade Wines
DESCRIPTION:Hop into Homemade Wines every Saturday from 7pm – 10pm and enjoy live music from a local artist! 
URL:https://odessaarts.org/event/live-music-at-homemade-wines-5/2024-07-20/
LOCATION:Homemade Wines\, 400 N. Texas Avenue\, Odessa\, 79761\, United States
CATEGORIES:Music
END:VEVENT
BEGIN:VEVENT
DTSTART;TZID=America/Chicago:20240721T180000
DTEND;TZID=America/Chicago:20240721T220000
DTSTAMP:20260425T203007
CREATED:20240710T153719Z
LAST-MODIFIED:20240710T153719Z
UID:73563-1721584800-1721599200@odessaarts.org
SUMMARY:Full Moon Party
DESCRIPTION:
URL:https://odessaarts.org/event/full-moon-party-3/
LOCATION:Black Tulip\, 4651 N. Grandview Ave\, Odessa\, TX\, 79762\, United States
CATEGORIES:Humanities,Music
END:VEVENT
BEGIN:VEVENT
DTSTART;TZID=America/Chicago:20240725T180000
DTEND;TZID=America/Chicago:20240725T210000
DTSTAMP:20260425T203007
CREATED:20240625T041708Z
LAST-MODIFIED:20240625T041708Z
UID:73523-1721930400-1721941200@odessaarts.org
SUMMARY:Jazz Nights @ Flair: Mainstream Jazz Quartet
DESCRIPTION:
URL:https://odessaarts.org/event/jazz-nights-flair-mainstream-jazz-quartet/
LOCATION:Flair Taverna\, 2701 JBS Parkway\, Odessa\, Texas
CATEGORIES:Music
ATTACH;FMTTYPE=image/png:https://odessaarts.org/wp-content/uploads/2024/06/Flair-july-w4-Mainstream-Quartet-SQ.png
END:VEVENT
BEGIN:VEVENT
DTSTART;TZID=America/Chicago:20240726T180000
DTEND;TZID=America/Chicago:20240726T210000
DTSTAMP:20260425T203007
CREATED:20240625T041912Z
LAST-MODIFIED:20240625T041912Z
UID:73525-1722016800-1722027600@odessaarts.org
SUMMARY:Live Music with Flair: Rhumba Kings
DESCRIPTION:
URL:https://odessaarts.org/event/live-music-with-flair-rhumba-kings-5/
LOCATION:Flair Taverna\, 2701 JBS Parkway\, Odessa\, Texas
CATEGORIES:Music
ATTACH;FMTTYPE=image/png:https://odessaarts.org/wp-content/uploads/2024/06/July-w4-Rhumba-SQ-1.png
END:VEVENT
BEGIN:VEVENT
DTSTART;TZID=America/Chicago:20240727T180000
DTEND;TZID=America/Chicago:20240727T210000
DTSTAMP:20260425T203007
CREATED:20240625T042221Z
LAST-MODIFIED:20240625T042221Z
UID:73527-1722103200-1722114000@odessaarts.org
SUMMARY:Live Music with Flair: McKenna Kasowski
DESCRIPTION:
URL:https://odessaarts.org/event/live-music-with-flair-mckenna-kasowski-3/
LOCATION:Flair Taverna\, 2701 JBS Parkway\, Odessa\, Texas
CATEGORIES:Music
ATTACH;FMTTYPE=image/png:https://odessaarts.org/wp-content/uploads/2024/06/Flair-July-w4-McKenna-SQ.png
END:VEVENT
BEGIN:VEVENT
DTSTART;TZID=America/Chicago:20240727T190000
DTEND;TZID=America/Chicago:20240727T213000
DTSTAMP:20260425T203007
CREATED:20240415T183813Z
LAST-MODIFIED:20240415T183813Z
UID:73060-1722106800-1722115800@odessaarts.org
SUMMARY:Frankie J & Paula DeAnda
DESCRIPTION:Pre-Sale now open! Public on-sale Friday\, April 12 at 10:00 AM! \nJoin us for a night to remember with Frankie J & Paula Deanda at The Ector Theatre in Downtown Odessa\, Texas on Saturday\, July 27\, 2024! We will be featuring all of their classic hits\, so don’t miss out on this amazing concert experience.
URL:https://odessaarts.org/event/frankie-j-paula-deanda/
LOCATION:The Ector Theatre\, 500 N. Texas\, Odessa\, TX\, 79761\, United States
CATEGORIES:Music
END:VEVENT
BEGIN:VEVENT
DTSTART;TZID=America/Chicago:20240727T190000
DTEND;TZID=America/Chicago:20240727T220000
DTSTAMP:20260425T203007
CREATED:20240423T191633Z
LAST-MODIFIED:20240423T191633Z
UID:73127-1722106800-1722117600@odessaarts.org
SUMMARY:Live Music at Homemade Wines
DESCRIPTION:Hop into Homemade Wines every Saturday from 7pm – 10pm and enjoy live music from a local artist! 
URL:https://odessaarts.org/event/live-music-at-homemade-wines-5/2024-07-27/
LOCATION:Homemade Wines\, 400 N. Texas Avenue\, Odessa\, 79761\, United States
CATEGORIES:Music
END:VEVENT
BEGIN:VEVENT
DTSTART;TZID=America/Chicago:20240727T190000
DTEND;TZID=America/Chicago:20240727T220000
DTSTAMP:20260425T203007
CREATED:20240522T160955Z
LAST-MODIFIED:20240522T160955Z
UID:73373-1722106800-1722117600@odessaarts.org
SUMMARY:Sam Allen: Music at the Marriott
DESCRIPTION:
URL:https://odessaarts.org/event/sam-allen-music-at-the-marriott/
LOCATION:Odessa Marriott Hotel & Conference Center\, 305 E. 5th Street\, Odessa\, Texas\, 79761
CATEGORIES:Music
END:VEVENT
END:VCALENDAR