BEGIN:VCALENDAR
VERSION:2.0
PRODID:-//Odessa Arts - ECPv6.15.20//NONSGML v1.0//EN
CALSCALE:GREGORIAN
METHOD:PUBLISH
X-ORIGINAL-URL:https://odessaarts.org
X-WR-CALDESC:Events for Odessa Arts
REFRESH-INTERVAL;VALUE=DURATION:PT1H
X-Robots-Tag:noindex
X-PUBLISHED-TTL:PT1H
BEGIN:VTIMEZONE
TZID:America/Chicago
BEGIN:DAYLIGHT
TZOFFSETFROM:-0600
TZOFFSETTO:-0500
TZNAME:CDT
DTSTART:20230312T080000
END:DAYLIGHT
BEGIN:STANDARD
TZOFFSETFROM:-0500
TZOFFSETTO:-0600
TZNAME:CST
DTSTART:20231105T070000
END:STANDARD
BEGIN:DAYLIGHT
TZOFFSETFROM:-0600
TZOFFSETTO:-0500
TZNAME:CDT
DTSTART:20240310T080000
END:DAYLIGHT
BEGIN:STANDARD
TZOFFSETFROM:-0500
TZOFFSETTO:-0600
TZNAME:CST
DTSTART:20241103T070000
END:STANDARD
BEGIN:DAYLIGHT
TZOFFSETFROM:-0600
TZOFFSETTO:-0500
TZNAME:CDT
DTSTART:20250309T080000
END:DAYLIGHT
BEGIN:STANDARD
TZOFFSETFROM:-0500
TZOFFSETTO:-0600
TZNAME:CST
DTSTART:20251102T070000
END:STANDARD
END:VTIMEZONE
BEGIN:VEVENT
DTSTART;TZID=America/Chicago:20240914T190000
DTEND;TZID=America/Chicago:20240914T190000
DTSTAMP:20260425T230747
CREATED:20240904T155425Z
LAST-MODIFIED:20240904T160310Z
UID:73838-1726340400-1726340400@odessaarts.org
SUMMARY:Jeremy Camp:  Deeper Water's Tour
DESCRIPTION:Join Jeremy Camp and special guest Joseph O’Brien on the Deeper Waters Tour! This tour will be a powerful night of music playing songs off Jeremy’s recently released album “Deeper Waters\,” as well as past favorites like “Dead Man Walking\,” “Keep Me in the Moment\,” “When You Speak\,” and more. We’ll see you this Fall!
URL:https://odessaarts.org/event/jeremy-camp-deeper-waters-tour-2/
LOCATION:Wagner Noël Performing Arts Center\, 1310 FM 1788\, Midland\, Texas
CATEGORIES:Music
END:VEVENT
BEGIN:VEVENT
DTSTART;TZID=America/Chicago:20240916T193000
DTEND;TZID=America/Chicago:20240916T193000
DTSTAMP:20260425T230747
CREATED:20240307T200025Z
LAST-MODIFIED:20240307T200105Z
UID:72630-1726515000-1726515000@odessaarts.org
SUMMARY:Danny Wells - Straight From Me To You
DESCRIPTION:Multi-award-winning hit songwriter and artist\, Danny Wells was born and raised in Roanoke Rapids\, NC. Music was an integral part of his life for as long as he can remember. He grew up singing in church\, began taking piano lessons in 2nd grade\, was writing his first songs shortly thereafter\, and eventually\, became a performing member of the Christian music group\, New Beginning. Music was in his blood. \nUpon graduating high school\, Wells attended Southwestern College in Oklahoma City where he received his A.A. degree. In 1980\, the North Carolina native decided to make the move to Music City where he attended and graduated from Belmont University receiving a B.M. degree in Commercial Music – all while continuing to perform and write. \nFast forward fifteen years of honing his craft and working in the business\, Wells’ first cut came in 1995. He is recognized for the #1 HITS\, “Check Yes or No\,” recorded by George Strait\, “These Days\,” recorded by Rascal Flatts\, and “Couldn’t Last a Moment\,” by Collin Raye. Some of Wells’ other hits include “This Everyday Love\,” and “While You Loved Me\,” both recorded by Rascal Flatts\, Craig Morgan’s “Little Bit of Life\,” and “Hello L-O-V-E\,” a hit single for John Michael Montgomery. Wells has also had songs recorded by numerous other artists\, including Alabama\, Billy Ray Cyrus\, Chris Young\, Confederate Railroad\, Crystal Gayle\, High Valley\, James Bonamy\, JoDee Messina\, Joe Diffie\, Julie Roberts\, Kane Brown\, Sara Evans\, Scotty McCreery\, Tracy Byrd\, and Wade Hayes. \nWells’ songs have exceeded over 15 million radio airplays worldwide according to BMI with RIAA-certified sales in excess of over 30 million records sold. He is a CMA/ACM Award-nominee and has received the CMA Writer Award #1 song in the nation multiple times.
URL:https://odessaarts.org/event/danny-wells-straight-from-me-to-you/
LOCATION:Wagner Noël Performing Arts Center\, 1310 FM 1788\, Midland\, Texas
CATEGORIES:Music
END:VEVENT
BEGIN:VEVENT
DTSTART;TZID=America/Chicago:20240917T180000
DTEND;TZID=America/Chicago:20240917T220000
DTSTAMP:20260425T230747
CREATED:20240906T191852Z
LAST-MODIFIED:20240906T191852Z
UID:73897-1726596000-1726610400@odessaarts.org
SUMMARY:Full Moon Party
DESCRIPTION:Join us for our Full Moon Party!!!  On Tuesday\, September 17th\, from 6 to 10 pm\, come support your local artists! The party will be located in our parking lot and will feature live music\, food trucks\, your favorite local artists\, vendors\, and more! Enjoy a cash bar provided by Cork & Pig Tavern\, and Live music!!  Don’t miss out on the fun!  This is a family friendly event so please drink responsibly.
URL:https://odessaarts.org/event/full-moon-party-4/
LOCATION:Black Tulip\, 4651 N. Grandview Ave\, Odessa\, TX\, 79762\, United States
CATEGORIES:Humanities,Music,Visual Arts
END:VEVENT
BEGIN:VEVENT
DTSTART;TZID=America/Chicago:20240919T180000
DTEND;TZID=America/Chicago:20240919T210000
DTSTAMP:20260425T230747
CREATED:20240815T135701Z
LAST-MODIFIED:20240815T135701Z
UID:73747-1726768800-1726779600@odessaarts.org
SUMMARY:Jazz Nights at Flair: Moments Notice
DESCRIPTION:
URL:https://odessaarts.org/event/jazz-nights-at-flair-moments-notice/
LOCATION:Flair Taverna\, 2701 JBS Parkway\, Odessa\, Texas
CATEGORIES:Music
ATTACH;FMTTYPE=image/png:https://odessaarts.org/wp-content/uploads/2024/08/Sept-w3-Moments-Notice-SQ.png
END:VEVENT
BEGIN:VEVENT
DTSTART;TZID=America/Chicago:20240920T180000
DTEND;TZID=America/Chicago:20240920T210000
DTSTAMP:20260425T230747
CREATED:20240815T135940Z
LAST-MODIFIED:20240815T140259Z
UID:73749-1726855200-1726866000@odessaarts.org
SUMMARY:Live Music with Flair: KT and the Blues Scientists
DESCRIPTION:
URL:https://odessaarts.org/event/live-music-with-flair-kt-and-the-blues-scientists-14/
LOCATION:Flair Taverna\, 2701 JBS Parkway\, Odessa\, Texas
CATEGORIES:Music
ATTACH;FMTTYPE=image/png:https://odessaarts.org/wp-content/uploads/2024/08/Sept-w3-KT-Blues-SQ.png
END:VEVENT
BEGIN:VEVENT
DTSTART;TZID=America/Chicago:20240920T180000
DTEND;TZID=America/Chicago:20240920T233000
DTSTAMP:20260425T230747
CREATED:20240816T163217Z
LAST-MODIFIED:20240816T163217Z
UID:73799-1726855200-1726875000@odessaarts.org
SUMMARY:Sam Riggs
DESCRIPTION: 
URL:https://odessaarts.org/event/sam-riggs/
LOCATION:The Tailgate Midland\, 4401 N Big Spring\, Midland\, TX\, 79705\, United States
CATEGORIES:Music
END:VEVENT
BEGIN:VEVENT
DTSTART;TZID=America/Chicago:20240921T160000
DTEND;TZID=America/Chicago:20240921T233000
DTSTAMP:20260425T230747
CREATED:20240816T172610Z
LAST-MODIFIED:20240816T172610Z
UID:73811-1726934400-1726961400@odessaarts.org
SUMMARY:Tall City Blues Fest 2024
DESCRIPTION:In perfect fashion with the blues\, this year’s Tall City Blues Fest will be held again at the The Destination’s Old Lumberyard located at 1705 W. Industrial in Midland. The Old Lumberyard is formerly a lumberyard long ago abandoned\, but since repurposed and revamped with a juke joint vibe to be one of Midland’s coolest\, most eclectic outdoor venues\, accented with gems of days gone past. \n\n\n\n\nGET YOUR TICKETS
URL:https://odessaarts.org/event/tall-city-blues-fest-2024/
LOCATION:The Destination\, 1705 W. Industrial Ave.\, Midland\, TX\, 79701
CATEGORIES:Music
END:VEVENT
BEGIN:VEVENT
DTSTART;TZID=America/Chicago:20240921T170000
DTEND;TZID=America/Chicago:20240921T170000
DTSTAMP:20260425T230747
CREATED:20240912T191434Z
LAST-MODIFIED:20240918T182504Z
UID:73988-1726938000-1726938000@odessaarts.org
SUMMARY:Dances Of The Americas
DESCRIPTION: 
URL:https://odessaarts.org/event/dances-of-the-americas/
LOCATION:Jack Rodgers Fine Arts Center\, 201 W University Blvd\, Odessa\, TX\, 79761\, United States
CATEGORIES:Humanities,Music
END:VEVENT
BEGIN:VEVENT
DTSTART;TZID=America/Chicago:20240921T170000
DTEND;TZID=America/Chicago:20240921T190000
DTSTAMP:20260425T230747
CREATED:20240520T190311Z
LAST-MODIFIED:20240520T192549Z
UID:73269-1726938000-1726945200@odessaarts.org
SUMMARY:Permian Basin String Quartet - Fall Recital
DESCRIPTION:
URL:https://odessaarts.org/event/permian-basin-string-quartet/
LOCATION:Texas
CATEGORIES:Music
ORGANIZER;CN="West Texas Symphony":MAILTO:symphony@wtxs.org
END:VEVENT
BEGIN:VEVENT
DTSTART;TZID=America/Chicago:20240921T180000
DTEND;TZID=America/Chicago:20240921T210000
DTSTAMP:20260425T230747
CREATED:20240815T140153Z
LAST-MODIFIED:20240815T140153Z
UID:73751-1726941600-1726952400@odessaarts.org
SUMMARY:Live Music with Flair: Eric Logan
DESCRIPTION:
URL:https://odessaarts.org/event/live-music-with-flair-eric-logan-4/
LOCATION:Flair Taverna\, 2701 JBS Parkway\, Odessa\, Texas
CATEGORIES:Music
ATTACH;FMTTYPE=image/png:https://odessaarts.org/wp-content/uploads/2024/08/Sept-w3-Eric-logan-sq-1.png
END:VEVENT
BEGIN:VEVENT
DTSTART;TZID=America/Chicago:20240921T193000
DTEND;TZID=America/Chicago:20240921T193000
DTSTAMP:20260425T230747
CREATED:20240816T165017Z
LAST-MODIFIED:20240816T165017Z
UID:73809-1726947000-1726947000@odessaarts.org
SUMMARY:Los Lobos - FREE Event
DESCRIPTION:The Phyllis and Bob Cowan Performing Arts Series invites you to a special (FREE) performance from Los Lobos on Saturday\, Sept. 21\, 2024 at 7:30 p.m. at the Al G. Langford Chaparral Center. The band’s influence stems from rock and roll\, Tex-Mex\, country\, zydeco\, folk R&B\, blues\, brown-eyed soul and traditional music such as cumbia\, boleros and norteños. Click here for more information: http://midland.edu/los-lobos
URL:https://odessaarts.org/event/los-lobos-free-event/
LOCATION:Midland College Chaparral Center\, 3600 N. Garfield\, Midland\, TX
CATEGORIES:Music
END:VEVENT
BEGIN:VEVENT
DTSTART;TZID=America/Chicago:20240923T193000
DTEND;TZID=America/Chicago:20240923T193000
DTSTAMP:20260425T230747
CREATED:20240521T201324Z
LAST-MODIFIED:20240521T201511Z
UID:73325-1727119800-1727119800@odessaarts.org
SUMMARY:UTPB Orchestra Concert
DESCRIPTION:
URL:https://odessaarts.org/event/utpb-orchestra-concert/
LOCATION:Wagner Noël Performing Arts Center\, 1310 FM 1788\, Midland\, Texas
CATEGORIES:Music
END:VEVENT
BEGIN:VEVENT
DTSTART;TZID=America/Chicago:20240926T180000
DTEND;TZID=America/Chicago:20240926T210000
DTSTAMP:20260425T230747
CREATED:20240826T214414Z
LAST-MODIFIED:20240826T214530Z
UID:73822-1727373600-1727384400@odessaarts.org
SUMMARY:Jazz Nights at Flair: Offset Jazz Quartet
DESCRIPTION:
URL:https://odessaarts.org/event/jazz-nights-at-flair-offset-jazz-quartet/
LOCATION:Flair Taverna\, 2701 JBS Parkway\, Odessa\, Texas
CATEGORIES:Music
ATTACH;FMTTYPE=image/png:https://odessaarts.org/wp-content/uploads/2024/08/w4-Offset-SQ.png
END:VEVENT
BEGIN:VEVENT
DTSTART;TZID=America/Chicago:20240926T200000
DTEND;TZID=America/Chicago:20240926T200000
DTSTAMP:20260425T230747
CREATED:20240627T182621Z
LAST-MODIFIED:20240627T182621Z
UID:73533-1727380800-1727380800@odessaarts.org
SUMMARY:Stryper: 40th Anniversary Tour
DESCRIPTION:Commemorating 40 years of recording and releasing music\, Stryper continues to churn out rock-solid albums and pulsating live performances. The hardworking group shows no signs of slowing down anytime soon.\n\n Following on the heels of their successful studio project The Final Battle (Frontiers Music Srl)\, the definitive foursome released their first-ever acoustic album Acousticyzed on February 16\, 2024. The double-disc set features an audio CD and DVD/Blu-ray video recorded and filmed at SpiritHouse Studios in western Massachusetts.\n\n The 11-track acoustic collection features stripped-down versions of Stryper’s classic songs – ranging from energized tracks “Loud & Clear” and “Soldiers Under Command” to power ballad “Honestly” – plus a never-before-released version of enduring hymn “Amazing Grace.” The video unveils an up-close look at band members performing the album live in the studio.\n\nFor a limited time this spring\, “To Hell with the Amps: The Unplugged Tour” will feature Stryper playing the entirety of the acoustic project during each performance.
URL:https://odessaarts.org/event/stryper-40th-anniversary-tour/
LOCATION:Wagner Noël Performing Arts Center\, 1310 FM 1788\, Midland\, Texas
CATEGORIES:Music
END:VEVENT
BEGIN:VEVENT
DTSTART;TZID=America/Chicago:20240927T180000
DTEND;TZID=America/Chicago:20240927T210000
DTSTAMP:20260425T230747
CREATED:20240826T214733Z
LAST-MODIFIED:20240826T214733Z
UID:73824-1727460000-1727470800@odessaarts.org
SUMMARY:Live Music with Flair: ZBD Band
DESCRIPTION:
URL:https://odessaarts.org/event/live-music-with-flair-zbd-band-10/
LOCATION:Flair Taverna\, 2701 JBS Parkway\, Odessa\, Texas
CATEGORIES:Music
ATTACH;FMTTYPE=image/png:https://odessaarts.org/wp-content/uploads/2024/08/ZBD-Band-SQ.png
END:VEVENT
BEGIN:VEVENT
DTSTART;TZID=America/Chicago:20240927T180000
DTEND;TZID=America/Chicago:20240927T233000
DTSTAMP:20260425T230747
CREATED:20240816T163009Z
LAST-MODIFIED:20240816T163009Z
UID:73797-1727460000-1727479800@odessaarts.org
SUMMARY:Pat Green
DESCRIPTION:** THIS IS AN 18 AND UP EVENT! Anyone below the age of 18 will not be allowed entry.
URL:https://odessaarts.org/event/pat-green/
LOCATION:The Tailgate Midland\, 4401 N Big Spring\, Midland\, TX\, 79705\, United States
CATEGORIES:Music
END:VEVENT
BEGIN:VEVENT
DTSTART;TZID=America/Chicago:20240927T190000
DTEND;TZID=America/Chicago:20240927T220000
DTSTAMP:20260425T230747
CREATED:20240816T153141Z
LAST-MODIFIED:20240816T153238Z
UID:73776-1727463600-1727474400@odessaarts.org
SUMMARY:Ivan Cornejo:  Mirada Tour
DESCRIPTION:FIND TICKETS HERE\n\n20 year old Música Mexicana break-out star Ivan Cornejo (@ivancornejoo) has announced the MIRADA TOUR in support of his upcoming album\, with a stop in Odessa\, Texas\, at the Ector County Coliseum on Friday\, September 27\, 2024. Cornejo’s new album ‘MIRADA’ will be released on July 18 via Zaragoza Records / Interscope Records. “My new album represents an exciting evolution\, and growth of my musical journey\,” Cornejo says. “Each track has a blend of my signature style but with a fresh sound that pushes the boundaries of my art.”\n\nEarlier this year\, Ivan performed a record-breaking show in front of 72\,000 people at a sold-out Rodeo Houston stadium show. The experience was daunting for the introspective then 19 year-old artist who only a couple of years ago was busy on TikTok\, posting his confessional songs about having his heart broken in middle school. But the power of his own music – and a devoted fan base – carried him along during the biggest show of his career so far.
URL:https://odessaarts.org/event/ivan-cornejo-mirada-tour/
LOCATION:Ector County Coliseum\, 4201 Andrews Highway\, Odessa\, TX\, 79762\, United States
CATEGORIES:Music
END:VEVENT
BEGIN:VEVENT
DTSTART;TZID=America/Chicago:20240927T200000
DTEND;TZID=America/Chicago:20240927T223000
DTSTAMP:20260425T230747
CREATED:20240415T184126Z
LAST-MODIFIED:20240415T184126Z
UID:73062-1727467200-1727476200@odessaarts.org
SUMMARY:The Wallflowers
DESCRIPTION:Rock ‘n’ roll is often hard to define\, or even to find\, in these fractured musical times. But to paraphrase an old saying\, you know it when you hear it. \nAnd you always hear it with the Wallflowers. For the past 30 years\, the Jakob Dylan-led act has stood as one of rock’s most dynamic and purposeful bands – a unit dedicated to and continually honing a sound that meshes timeless songwriting and storytelling with a hard-hitting and decidedly modern musical attack. That signature style has been present through the decades\, baked into the grooves of smash hits like 1996’s Bringing Down the Horse as well as more recent and exploratory fare like 2012’s Glad All Over. \nGood band name aside\, that life’s work continues with Exit Wounds\, the brand-new Wallflowers studio offering. The collection marks the first new Wallflowers material since Glad All Over. And while the wait has been long\, the much-anticipated record finds the band’s signature sound – lean\, potent and eminently entrancing – intact\, even as Dylan surrounds himself with a fresh cast of musicians. \nWhich\, the front man is quick to point out\, is not all that unusual. “The Wallflowers has always been a vehicle for me to make great rock ‘n’ roll records\,” he says. “And sometimes the lineup that makes the record transfers over into touring\, and sometimes it doesn’t. But my intention is always to make the Wallflowers record I want to make\, using the musicians I have beside me.”
URL:https://odessaarts.org/event/the-wallflowers-2/
LOCATION:The Ector Theatre\, 500 N. Texas\, Odessa\, TX\, 79761\, United States
CATEGORIES:Music
END:VEVENT
BEGIN:VEVENT
DTSTART;TZID=America/Chicago:20240928T180000
DTEND;TZID=America/Chicago:20240928T210000
DTSTAMP:20260425T230747
CREATED:20240826T214951Z
LAST-MODIFIED:20240826T214951Z
UID:73826-1727546400-1727557200@odessaarts.org
SUMMARY:Live Music with Flair: Carrey Ryan Thompson
DESCRIPTION:
URL:https://odessaarts.org/event/live-music-with-flair-carrey-ryan-thompson-6/
LOCATION:Flair Taverna\, 2701 JBS Parkway\, Odessa\, Texas
CATEGORIES:Music
ATTACH;FMTTYPE=image/png:https://odessaarts.org/wp-content/uploads/2024/08/Sept-w4-Carrey-Thompson-SQ.png
END:VEVENT
BEGIN:VEVENT
DTSTART;TZID=America/Chicago:20240928T200000
DTEND;TZID=America/Chicago:20240928T230000
DTSTAMP:20260425T230747
CREATED:20240906T193609Z
LAST-MODIFIED:20240906T193609Z
UID:73900-1727553600-1727564400@odessaarts.org
SUMMARY:Cocktails & Jazz
DESCRIPTION:Internationally acclaimed French-Malagasy pianist Mathis Picard performs at Second Story Co. in collaboration with The West Texas Jazz society for an exciting evening of solo piano music.  Showcasing sounds from Harlem Stride and American Swing to European classical music\, Picard will take us on a musical journey which also includes selections from his latest original work\, “Preludes & Fugues: Book I\,” a set of 12 compositions that reinterprets one of solo piano’s most beloved compositional formats.  Celebrated in “secret” at our exclusive speakeasy-themed event in downtown Midland\, enjoy the fabulous Mathis Picard on the piano while you sip a cocktail and taste gourmet desserts.\n\nSaturday\, September 28 at the luxurious Second Story Co-working offices.\n\nClick here for Tickets!
URL:https://odessaarts.org/event/cocktails-jazz/
LOCATION:Second Story Coworking\, 223 W Wall Street\, Suite 200\, Midland\, TX\, 79701\, United States
CATEGORIES:Music
END:VEVENT
BEGIN:VEVENT
DTSTART;TZID=America/Chicago:20240928T200000
DTEND;TZID=America/Chicago:20240928T230000
DTSTAMP:20260425T230747
CREATED:20240927T194021Z
LAST-MODIFIED:20240927T194021Z
UID:74042-1727553600-1727564400@odessaarts.org
SUMMARY:Cocktails & Jazz
DESCRIPTION:Sip\, savor\, and swing to the sounds of Mathis Picard at “Cocktails & Jazz!” Join us on Saturday\, September 28\, from 8:00 pm to 11:00 pm at the stunning Second Story Coworking in downtown Midland. Don’t miss out on this intimate speakeasy-inspired night!  Get your tickets now at www.wtjs.org. Special donor tables available for $500\, including drink tickets.
URL:https://odessaarts.org/event/cocktails-jazz-2/
LOCATION:Second Story Coworking\, 223 W Wall Street\, Suite 200\, Midland\, TX\, 79701\, United States
CATEGORIES:Humanities,Music
END:VEVENT
BEGIN:VEVENT
DTSTART;TZID=America/Chicago:20241003T180000
DTEND;TZID=America/Chicago:20241003T210000
DTSTAMP:20260425T230747
CREATED:20240830T190220Z
LAST-MODIFIED:20240830T190220Z
UID:73831-1727978400-1727989200@odessaarts.org
SUMMARY:Jazz Nights at Flair: Emily Baker & Dan Ferguson
DESCRIPTION:
URL:https://odessaarts.org/event/jazz-nights-at-flair-emily-baker-dan-ferguson/
LOCATION:Flair Taverna\, 2701 JBS Parkway\, Odessa\, Texas
CATEGORIES:Music
ATTACH;FMTTYPE=image/png:https://odessaarts.org/wp-content/uploads/2024/08/Oct-w1-Emily-and-Dan.png
END:VEVENT
BEGIN:VEVENT
DTSTART;TZID=America/Chicago:20241004T180000
DTEND;TZID=America/Chicago:20241004T210000
DTSTAMP:20260425T230747
CREATED:20231208T182558Z
LAST-MODIFIED:20231208T182558Z
UID:71966-1728064800-1728075600@odessaarts.org
SUMMARY:First Friday
DESCRIPTION:WHAT IS FIRST FRIDAY?\n\n\n\n\n\nFirst Friday ODTX is a monthly gathering every first Friday of the month for residents and visitors of downtown Odessa. Each month\, the streets are lively and colorful with music\, games\, and delicious food. There are unbeatable deals from local businesses and exciting opportunities to collect amazing giveaways. The event is open to all ages and caters to everyone’s interests. For music lovers\, there are live performances by local bands and artists\, while foodies can indulge in a diverse range of street eats. Downtown shops and eateries will offer special promotions. First Friday ODTX event brings vibrancy and community spirit to downtown Odessa\, making it the perfect place to spend a Friday evening.
URL:https://odessaarts.org/event/first-friday-3/2024-10-04/
LOCATION:Downtown Odessa\, 79761\, United States
CATEGORIES:Humanities,Music,Visual Arts
END:VEVENT
BEGIN:VEVENT
DTSTART;TZID=America/Chicago:20241004T180000
DTEND;TZID=America/Chicago:20241004T210000
DTSTAMP:20260425T230747
CREATED:20240830T190420Z
LAST-MODIFIED:20240830T190420Z
UID:73833-1728064800-1728075600@odessaarts.org
SUMMARY:Live Music with Flair: Brother Z
DESCRIPTION:
URL:https://odessaarts.org/event/live-music-with-flair-brother-z-6/
LOCATION:Flair Taverna\, 2701 JBS Parkway\, Odessa\, Texas
CATEGORIES:Music
ATTACH;FMTTYPE=image/png:https://odessaarts.org/wp-content/uploads/2024/08/October-Brother-z-SQ.png
END:VEVENT
BEGIN:VEVENT
DTSTART;TZID=America/Chicago:20241004T193000
DTEND;TZID=America/Chicago:20241004T193000
DTSTAMP:20260425T230747
CREATED:20240911T192827Z
LAST-MODIFIED:20240912T161256Z
UID:73926-1728070200-1728070200@odessaarts.org
SUMMARY:A Midsummer Night's Dream
DESCRIPTION:  \n  \n  \n  \nShakespeare’s most famous comedy entangles two worlds – the court of Athens and a mystical forest of magical creatures that lie just beyond the city’s walls.
URL:https://odessaarts.org/event/a-midsummer-nights-dream/2024-10-04/
LOCATION:Midland Community Theatre\, 2000 W. Wadley\, Midland\, 79705\, United States
CATEGORIES:Humanities,Music,Theatre & Literary Arts
END:VEVENT
BEGIN:VEVENT
DTSTART;TZID=America/Chicago:20241005T180000
DTEND;TZID=America/Chicago:20241005T210000
DTSTAMP:20260425T230747
CREATED:20240830T190540Z
LAST-MODIFIED:20240830T190540Z
UID:73835-1728151200-1728162000@odessaarts.org
SUMMARY:Live Music with Flair: Matthew Marcus McDaniel
DESCRIPTION:
URL:https://odessaarts.org/event/live-music-with-flair-matthew-marcus-mcdaniel-4/
LOCATION:Flair Taverna\, 2701 JBS Parkway\, Odessa\, Texas
CATEGORIES:Music
ATTACH;FMTTYPE=image/png:https://odessaarts.org/wp-content/uploads/2024/08/Matthew-Marcus-McDaniel-SQ-1.png
END:VEVENT
BEGIN:VEVENT
DTSTART;TZID=America/Chicago:20241005T193000
DTEND;TZID=America/Chicago:20241005T193000
DTSTAMP:20260425T230747
CREATED:20240510T200020Z
LAST-MODIFIED:20240510T200020Z
UID:73209-1728156600-1728156600@odessaarts.org
SUMMARY:West Texas Symphony with Barbara Padilla
DESCRIPTION:Back by popular demand\, we welcome the Mexican-American soprano\, Barbara Padilla\, whose on-stage presence and beautiful vocal prowess will captivate audiences of all musical tastes.
URL:https://odessaarts.org/event/west-texas-symphony-with-barbara-padilla/
LOCATION:Wagner Noël Performing Arts Center\, 1310 FM 1788\, Midland\, Texas
CATEGORIES:Music
END:VEVENT
BEGIN:VEVENT
DTSTART;TZID=America/Chicago:20241005T193000
DTEND;TZID=America/Chicago:20241005T193000
DTSTAMP:20260425T230747
CREATED:20240911T192827Z
LAST-MODIFIED:20240911T192827Z
UID:73981-1728156600-1728156600@odessaarts.org
SUMMARY:A Midsummer Night's Dream
DESCRIPTION:  \n  \n  \n  \nShakespeare’s most famous comedy entangles two worlds – the court of Athens and a mystical forest of magical creatures that lie just beyond the city’s walls.
URL:https://odessaarts.org/event/a-midsummer-nights-dream/2024-10-05/
LOCATION:Midland Community Theatre\, 2000 W. Wadley\, Midland\, 79705\, United States
CATEGORIES:Humanities,Music,Theatre & Literary Arts
END:VEVENT
BEGIN:VEVENT
DTSTART;TZID=America/Chicago:20241005T210000
DTEND;TZID=America/Chicago:20241005T210000
DTSTAMP:20260425T230747
CREATED:20240930T193648Z
LAST-MODIFIED:20240930T193648Z
UID:74087-1728162000-1728162000@odessaarts.org
SUMMARY:Eddy Bareno
DESCRIPTION:¡Órale! Este sábado 5 de agosto\, no te puedes perder una noche con madre en Restaurante Dos Amigos. Vamos a tener a #EddyBareno y su Excelencia tocando rolitas en vivo\, y claro\, nuestro DJ de casa pondrá el ambiente hasta que el cuerpo aguante. \n\n\n Cuándo: Sábado\, 5 de agosto\n Dónde: Restaurante Dos Amigos\n\n\n¡Aguas! No faltes\, va a estar de poca. ¡Te esperamos para chuparse los dedos y bailar hasta que se nos acaben los zapatos!  #NocheDeCumbión #RitmoYSabor #DosAmigos
URL:https://odessaarts.org/event/eddy-bareno/
LOCATION:Dos Amigos\, 4700 N.Golder Ave\, Odessa\, TX\, 79764\, United States
CATEGORIES:Humanities,Music
END:VEVENT
BEGIN:VEVENT
DTSTART;TZID=America/Chicago:20241006T143000
DTEND;TZID=America/Chicago:20241006T143000
DTSTAMP:20260425T230747
CREATED:20240307T200312Z
LAST-MODIFIED:20240307T200722Z
UID:72633-1728225000-1728225000@odessaarts.org
SUMMARY:Kate Voss & The Hot Sauce
DESCRIPTION:Hailing from the Emerald City\, Kate Voss got her start in the club scene in Seattle playingwith a variety of groups on piano. When her jazz studies were nearing an end\, her musicalinterests could not be pinned down to a single genre\, her teacher assigned her the title of”dilettante”. Luckily for us all\, that only inspired Kate to further explore other avenues formaking music and ultimately brought her to form Kate Voss & The Hot Sauce whichencompasses all the genres she loves. A true variety band\, this act pulls from her variedbackground of jazz\, blues\, pop\, country\, western-swing\, oldies\, americana and rockabilly. Asa full-time musician\, Voss has cultivated a stage presence that charms and delights folks anda voice that “Nails the authenticity of the era” with tunes from Brenda Lee to Nancy Sinatraand Patsy Cline to Ray Charles. Kate has been awarded “Vocalist of the Year” and”Ensemble of the Year” from Earshot Magazine and after her move to Wisconsin in 2021\,was nominated for several WAMI awards including Female Vocalist of the year\,Instrumentalist of the year\, and Free Reed Player of the Year. As leader of this band\, Katesings lead vocals\, plays the Ukulele Bass\, and occasionally plays melodica while staying trueto her one rule in this band: Kate says “We only play songs I love.”
URL:https://odessaarts.org/event/kate-voss-the-hot-sauce/
LOCATION:Wagner Noël Performing Arts Center\, 1310 FM 1788\, Midland\, Texas
CATEGORIES:Music
END:VEVENT
END:VCALENDAR