BEGIN:VCALENDAR
VERSION:2.0
PRODID:-//Odessa Arts - ECPv6.15.20//NONSGML v1.0//EN
CALSCALE:GREGORIAN
METHOD:PUBLISH
X-ORIGINAL-URL:https://odessaarts.org
X-WR-CALDESC:Events for Odessa Arts
REFRESH-INTERVAL;VALUE=DURATION:PT1H
X-Robots-Tag:noindex
X-PUBLISHED-TTL:PT1H
BEGIN:VTIMEZONE
TZID:America/Chicago
BEGIN:DAYLIGHT
TZOFFSETFROM:-0600
TZOFFSETTO:-0500
TZNAME:CDT
DTSTART:20230312T080000
END:DAYLIGHT
BEGIN:STANDARD
TZOFFSETFROM:-0500
TZOFFSETTO:-0600
TZNAME:CST
DTSTART:20231105T070000
END:STANDARD
BEGIN:DAYLIGHT
TZOFFSETFROM:-0600
TZOFFSETTO:-0500
TZNAME:CDT
DTSTART:20240310T080000
END:DAYLIGHT
BEGIN:STANDARD
TZOFFSETFROM:-0500
TZOFFSETTO:-0600
TZNAME:CST
DTSTART:20241103T070000
END:STANDARD
BEGIN:DAYLIGHT
TZOFFSETFROM:-0600
TZOFFSETTO:-0500
TZNAME:CDT
DTSTART:20250309T080000
END:DAYLIGHT
BEGIN:STANDARD
TZOFFSETFROM:-0500
TZOFFSETTO:-0600
TZNAME:CST
DTSTART:20251102T070000
END:STANDARD
BEGIN:DAYLIGHT
TZOFFSETFROM:-0600
TZOFFSETTO:-0500
TZNAME:CDT
DTSTART:20260308T080000
END:DAYLIGHT
BEGIN:STANDARD
TZOFFSETFROM:-0500
TZOFFSETTO:-0600
TZNAME:CST
DTSTART:20261101T070000
END:STANDARD
END:VTIMEZONE
BEGIN:VEVENT
DTSTART;TZID=America/Chicago:20241205T193000
DTEND;TZID=America/Chicago:20241205T193000
DTSTAMP:20260425T155825
CREATED:20241030T195951Z
LAST-MODIFIED:20241030T195951Z
UID:74289-1733427000-1733427000@odessaarts.org
SUMMARY:A Very Merry Mojo Christmas Concert
DESCRIPTION:A joint Christmas Concert from the Permian High School Band\, Permian Choir\, and The Permian High School Orchestra!
URL:https://odessaarts.org/event/a-very-merry-mojo-christmas-concert/
LOCATION:Wagner Noël Performing Arts Center\, 1310 FM 1788\, Midland\, Texas
CATEGORIES:Humanities,Music
END:VEVENT
BEGIN:VEVENT
DTSTART;TZID=America/Chicago:20241206T180000
DTEND;TZID=America/Chicago:20241206T210000
DTSTAMP:20260425T155825
CREATED:20241102T024633Z
LAST-MODIFIED:20241102T024633Z
UID:74301-1733508000-1733518800@odessaarts.org
SUMMARY:Live Music with Flair: KT & The Blues Scientists
DESCRIPTION:
URL:https://odessaarts.org/event/live-music-with-flair-kt-the-blues-scientists-2/
LOCATION:Flair Taverna\, 2701 JBS Parkway\, Odessa\, Texas
CATEGORIES:Music
ATTACH;FMTTYPE=image/png:https://odessaarts.org/wp-content/uploads/2024/11/Dec-w1-KT-SQ.png
END:VEVENT
BEGIN:VEVENT
DTSTART;TZID=America/Chicago:20241206T180000
DTEND;TZID=America/Chicago:20241206T210000
DTSTAMP:20260425T155825
CREATED:20241204T205027Z
LAST-MODIFIED:20241204T205027Z
UID:74618-1733508000-1733518800@odessaarts.org
SUMMARY:🎄✨ Starbright Casita Village is back! ✨
DESCRIPTION:Join us for the Downtown Christmas Market on Friday\, December 6th\, from 6–9 PM at 500 N Grant!  Enjoy one-of-a-kind holiday shopping Create family-friendly memoriesGather your loved ones and kick off the season with festive fun. Let’s make this holiday magical—see you there!
URL:https://odessaarts.org/event/%f0%9f%8e%84%e2%9c%a8-starbright-casita-village-is-back-%e2%9c%a8/
LOCATION:Downtown Odessa\, 79761\, United States
CATEGORIES:Humanities,Music,Public Art,Theatre & Literary Arts,Visual Arts
END:VEVENT
BEGIN:VEVENT
DTSTART;TZID=America/Chicago:20241207T090000
DTEND;TZID=America/Chicago:20241207T110000
DTSTAMP:20260425T155825
CREATED:20241204T194147Z
LAST-MODIFIED:20241204T194147Z
UID:74614-1733562000-1733569200@odessaarts.org
SUMMARY:Pancakes With Santa
DESCRIPTION:Pancakes With Santa \nHey Permian Basin Parents!!! Your kids are going to have the best time at our FREE Pancakes with Santa event! Join us on December 7th from 9:00AM-11:00AM. We will have a free pancake breakfast\, free pictures with Santa\, a snowball fight\, Christmas craft\, free hot cocoa\, story time\, and Christmas games!
URL:https://odessaarts.org/event/pancakes-with-santa/
LOCATION:Grace Kids Early Academy\, 3450\, Odessa\, 79765\, United States
CATEGORIES:Humanities,Music
END:VEVENT
BEGIN:VEVENT
DTSTART;TZID=America/Chicago:20241207T133000
DTEND;TZID=America/Chicago:20241207T150000
DTSTAMP:20260425T155825
CREATED:20241203T211138Z
LAST-MODIFIED:20241203T211138Z
UID:74584-1733578200-1733583600@odessaarts.org
SUMMARY:B Shawn Cox
DESCRIPTION:Our new exhibition “Westward\, Faux” opens in ONE WEEK \n\n\nYou have the chance to meet the artist\, @shawnathon01\, at our Community Art Day NEXT SATURDAY\, DEC 7TH AT 1:30PM. This FREE event for the whole community will have hands-on art activities\, musical performances\, and an exclusive Artist Talk with B Shawn Cox at 3PM.\n\n\nWe hope to see you there
URL:https://odessaarts.org/event/b-shawn-cox/
LOCATION:Ellen Noel Art Museum\, 4909 E. University\, Odessa\, TX\, 79762\, United States
CATEGORIES:Humanities,Music,Visual Arts
END:VEVENT
BEGIN:VEVENT
DTSTART;TZID=America/Chicago:20241207T180000
DTEND;TZID=America/Chicago:20241207T180000
DTSTAMP:20260425T155825
CREATED:20241204T223037Z
LAST-MODIFIED:20241204T223037Z
UID:74620-1733594400-1733594400@odessaarts.org
SUMMARY:DUELING PIANOS
DESCRIPTION:A Cowboy Christmas is coming to The Tailgate! We are transforming our venue into a western-themed Winter Wonderland! \nFeatured events: Dueling Pianos\, concert with The Huser Brothers\, Christmas bingo\, movie nights + more! \nActivities including train rides\, bounce houses\, coloring stations\, s’mores\, snowball throwing\, pony rides\, ice skating + more! \nPlease follow our social media for updates + announcements. \n**All ages!
URL:https://odessaarts.org/event/dueling-pianos-2/
LOCATION:The Tailgate Midland\, 4401 N Big Spring\, Midland\, TX\, 79705\, United States
CATEGORIES:Humanities,Music
END:VEVENT
BEGIN:VEVENT
DTSTART;TZID=America/Chicago:20241207T180000
DTEND;TZID=America/Chicago:20241207T180000
DTSTAMP:20260425T155825
CREATED:20241204T223548Z
LAST-MODIFIED:20241204T223548Z
UID:74622-1733594400-1733594400@odessaarts.org
SUMMARY:HUSER BROTHERS
DESCRIPTION:A Cowboy Christmas is coming to The Tailgate! We are transforming our venue into a western-themed Winter Wonderland! \nFeatured events: Dueling Pianos\, concert with The Huser Brothers\, Christmas bingo\, movie nights + more! \nActivities including train rides\, bounce houses\, coloring stations\, s’mores\, snowball throwing\, pony rides\, ice skating + more! \nPlease follow our social media for updates + announcements. \n**All ages! \nTicket Prices:\n• General Admission – $15.00\n• Round Table (Price includes entry for 8 people) $800.00\n• Rectangle Table (Price includes entry for 8 people) $850.00\n• Couch Sectional (Price includes entry for 6 people) $850.00 \nDoors at 6pm. No re-entry. No lawn chairs permitted. Food trucks on site. \nThis is a rain-or-shine event. \nTicket prices increase on the date of the performance.
URL:https://odessaarts.org/event/huser-brothers/
LOCATION:The Tailgate Midland\, 4401 N Big Spring\, Midland\, TX\, 79705\, United States
CATEGORIES:Humanities,Music
END:VEVENT
BEGIN:VEVENT
DTSTART;TZID=America/Chicago:20241207T180000
DTEND;TZID=America/Chicago:20241207T210000
DTSTAMP:20260425T155825
CREATED:20241102T024916Z
LAST-MODIFIED:20241102T024916Z
UID:74303-1733594400-1733605200@odessaarts.org
SUMMARY:Live Music with Flair: Jazz Christmas Collective
DESCRIPTION:
URL:https://odessaarts.org/event/live-music-with-flair-jazz-christmas-collective/
LOCATION:Flair Taverna\, 2701 JBS Parkway\, Odessa\, Texas
CATEGORIES:Music
ATTACH;FMTTYPE=image/png:https://odessaarts.org/wp-content/uploads/2024/11/Flair-dec-w1-Jazz-christmas-SQ.png
END:VEVENT
BEGIN:VEVENT
DTSTART;TZID=America/Chicago:20241207T190000
DTEND;TZID=America/Chicago:20241207T213000
DTSTAMP:20260425T155825
CREATED:20240904T162520Z
LAST-MODIFIED:20240904T162520Z
UID:73854-1733598000-1733607000@odessaarts.org
SUMMARY:Louie The Singer
DESCRIPTION:Pre-sale opens Wednesday\, 9/4\, at 10 AM. Public Tickets on sale Friday\, 9/6 at 10 AM! \nLouie The Singer – LIVE at The Ector Saturday\, December 7th\, 2024! \nLouie The Singer is a Fort Worth\, Texas-Born Mexican country music sensation. Tokenized for creating “Country music with flavor\,” his music are a representation of his Texas and Mexican roots while still bringing something new and fresh to the country music scene. \nLouie has gained over 1.5+ million followers on social media and is currently signed to Universal Music Group Nashville. He has had an uplifting journey getting here from a rough upbringing to a stint in prison. Once he was released he put his mind on music and rose to fame with his incredible vocals and uplifting persona.
URL:https://odessaarts.org/event/louie-the-singer/
LOCATION:The Ector Theatre\, 500 N. Texas\, Odessa\, TX\, 79761\, United States
CATEGORIES:Music
END:VEVENT
BEGIN:VEVENT
DTSTART;TZID=America/Chicago:20241207T193000
DTEND;TZID=America/Chicago:20241207T193000
DTSTAMP:20260425T155825
CREATED:20240510T200603Z
LAST-MODIFIED:20240510T200603Z
UID:73213-1733599800-1733599800@odessaarts.org
SUMMARY:Sounds of the Season
DESCRIPTION:Don’t miss West Texas’ timeless holiday tradition! Featuring your symphony orchestra\, instrumental chamber ensembles\, choral groups\, and Santa Claus!
URL:https://odessaarts.org/event/sounds-of-the-season-2/
LOCATION:Wagner Noël Performing Arts Center\, 1310 FM 1788\, Midland\, Texas
CATEGORIES:Music
END:VEVENT
BEGIN:VEVENT
DTSTART;TZID=America/Chicago:20241207T200000
DTEND;TZID=America/Chicago:20241207T200000
DTSTAMP:20260425T155825
CREATED:20241024T154514Z
LAST-MODIFIED:20241024T154514Z
UID:74195-1733601600-1733601600@odessaarts.org
SUMMARY:Hermanos Espinoza
DESCRIPTION:
URL:https://odessaarts.org/event/hermanos-espinoza/
LOCATION:La Hacienda Event Center\, 12600 TX-191 Hwy\, Midland\, TX\, 79705\, United States
CATEGORIES:Humanities,Music
END:VEVENT
BEGIN:VEVENT
DTSTART;TZID=America/Chicago:20241212T080000
DTEND;TZID=America/Chicago:20241212T170000
DTSTAMP:20260425T155825
CREATED:20241212T215120Z
LAST-MODIFIED:20241212T215120Z
UID:74889-1733990400-1734022800@odessaarts.org
SUMMARY:The Thorn
DESCRIPTION:The Thorn tells the epic story of God’s love for the world and the spiritual battle for all humanity. The story of Christ is presented in an immersive show with live music\, drama\, aerial acts\, movement arts\, modern dance\, and special effects. Witnessed live by more than 1 million people over 25 years\, The Thorn will engage audiences in the definitive story of love\, sacrifice and redemption like never before. \n 
URL:https://odessaarts.org/event/the-thorn/
LOCATION:Texas
CATEGORIES:Humanities,Music
END:VEVENT
BEGIN:VEVENT
DTSTART;TZID=America/Chicago:20241212T170000
DTEND;TZID=America/Chicago:20241217T180000
DTSTAMP:20260425T155825
CREATED:20241211T214859Z
LAST-MODIFIED:20241211T214859Z
UID:74844-1734022800-1734458400@odessaarts.org
SUMMARY:Holiday Programs EISD
DESCRIPTION:
URL:https://odessaarts.org/event/holiday-programs-eisd/
LOCATION:Texas
CATEGORIES:Humanities,Music
END:VEVENT
BEGIN:VEVENT
DTSTART;TZID=America/Chicago:20241212T180000
DTEND;TZID=America/Chicago:20241212T210000
DTSTAMP:20260425T155825
CREATED:20241111T172935Z
LAST-MODIFIED:20241111T172935Z
UID:74348-1734026400-1734037200@odessaarts.org
SUMMARY:Jazz Nights at Flair: Seven String Guitars featuring Brent & Emily Wheeler
DESCRIPTION:
URL:https://odessaarts.org/event/jazz-nights-at-flair-seven-string-guitars-featuring-brent-emily-wheeler/
LOCATION:Flair Taverna\, 2701 JBS Parkway\, Odessa\, Texas
CATEGORIES:Music
ATTACH;FMTTYPE=image/png:https://odessaarts.org/wp-content/uploads/2024/11/Flair-dec-w2-seven-string-SQ.png
END:VEVENT
BEGIN:VEVENT
DTSTART;TZID=America/Chicago:20241213T180000
DTEND;TZID=America/Chicago:20241213T210000
DTSTAMP:20260425T155825
CREATED:20241111T172212Z
LAST-MODIFIED:20241111T172212Z
UID:74346-1734112800-1734123600@odessaarts.org
SUMMARY:Live Music with Flair: Black Gold
DESCRIPTION:
URL:https://odessaarts.org/event/live-music-with-flair-black-gold-13/
LOCATION:Flair Taverna\, 2701 JBS Parkway\, Odessa\, Texas
CATEGORIES:Music
ATTACH;FMTTYPE=image/png:https://odessaarts.org/wp-content/uploads/2024/11/Dec-w2-Black-Gold-SQ-2.png
END:VEVENT
BEGIN:VEVENT
DTSTART;TZID=America/Chicago:20241214T080000
DTEND;TZID=America/Chicago:20241214T170000
DTSTAMP:20260425T155825
CREATED:20241212T193959Z
LAST-MODIFIED:20241212T193959Z
UID:74884-1734163200-1734195600@odessaarts.org
SUMMARY:Cookies with Santa
DESCRIPTION:Cookies with Santa | Grandview \nJoin us at our Grandview Financial Center in Odessa for a little holiday cheer. We’ll have cookies and a special appearance from Santa Claus. Bring your camera for a day to remember. Be sure to invite your family and friends. This event is free and open to the public.\n–\nInvestment and insurance products are not FDIC insured\, are not bank guaranteed\, and may lose value. Additionally\, insurance products are offered through Frost Insurance. Deposit and loan products are offered through Frost Bank\, Member FDIC.
URL:https://odessaarts.org/event/cookies-with-santa/
LOCATION:Frost\, 2710 N Grandview Ave\, Odessa\, TX\, United States
CATEGORIES:Humanities,Music
END:VEVENT
BEGIN:VEVENT
DTSTART;TZID=America/Chicago:20241214T100000
DTEND;TZID=America/Chicago:20241214T100000
DTSTAMP:20260425T155825
CREATED:20241024T152540Z
LAST-MODIFIED:20241024T152540Z
UID:74187-1734170400-1734170400@odessaarts.org
SUMMARY:An Aaron Watson Family Christmas Tour
DESCRIPTION:An Aaron Watson Family Christmas” is the perfect holiday event for the whole family. The event will be packed full of Christmas classics and songs from his critically-acclaimed Christmas album of the same name\, plus some of Aaron’s most popular hits\, performed by Aaron and the band\, along with special appearances from the Watson family. The event will also feature special surprises sure to put everyone in the holiday spirit.
URL:https://odessaarts.org/event/an-aaron-watson-family-christmas-tour-2/
LOCATION:The Ector Theatre\, 500 N. Texas\, Odessa\, TX\, 79761\, United States
CATEGORIES:Humanities,Music
END:VEVENT
BEGIN:VEVENT
DTSTART;TZID=America/Chicago:20241214T180000
DTEND;TZID=America/Chicago:20241214T210000
DTSTAMP:20260425T155825
CREATED:20241111T173241Z
LAST-MODIFIED:20241111T173241Z
UID:74350-1734199200-1734210000@odessaarts.org
SUMMARY:Live Music with Flair: John Sprott & Ron Riley as 2Blue2
DESCRIPTION:
URL:https://odessaarts.org/event/live-music-with-flair-john-sprott-ron-riley-as-2blue2/
LOCATION:Flair Taverna\, 2701 JBS Parkway\, Odessa\, Texas
CATEGORIES:Music
ATTACH;FMTTYPE=image/png:https://odessaarts.org/wp-content/uploads/2024/11/2blue2-SQ.png
END:VEVENT
BEGIN:VEVENT
DTSTART;TZID=America/Chicago:20241217T193000
DTEND;TZID=America/Chicago:20241217T193000
DTSTAMP:20260425T155825
CREATED:20241210T211912Z
LAST-MODIFIED:20241210T214128Z
UID:74774-1734463800-1734463800@odessaarts.org
SUMMARY:LONE STAR BRASS
DESCRIPTION:LONE STAR BRASS\nBasin Brass Christmas Bonanza!\nTuesday\, December 17\, 2024 | 7:30PM\nSt. Ann’s Catholic Church – 1906 W Texas Ave\, Midland MAP \nLone Star Brass invites you to their spectacular annual holiday concert with West Texas Symphonic Brass! \n$25 General Admission\, Students $12\nCLICK TO PURCHASE TICKETS\n800-514-3849 OR AT THE DOOR
URL:https://odessaarts.org/event/lone-star-brass-3/
LOCATION:St Anns Catholic Church\, 1906 W. Texas Avenue\, Midland\, TX\, 79701\, United States
CATEGORIES:Humanities,Music
ORGANIZER;CN="West Texas Symphony":MAILTO:symphony@wtxs.org
END:VEVENT
BEGIN:VEVENT
DTSTART;TZID=America/Chicago:20241217T193000
DTEND;TZID=America/Chicago:20241217T213000
DTSTAMP:20260425T155825
CREATED:20240520T191320Z
LAST-MODIFIED:20240520T192228Z
UID:73276-1734463800-1734471000@odessaarts.org
SUMMARY:Lone Star Brass - Basin Christmas Bonanza
DESCRIPTION:
URL:https://odessaarts.org/event/lone-star-brass-2/
LOCATION:Texas
CATEGORIES:Music
ORGANIZER;CN="West Texas Symphony":MAILTO:symphony@wtxs.org
END:VEVENT
BEGIN:VEVENT
DTSTART;TZID=America/Chicago:20241219T180000
DTEND;TZID=America/Chicago:20241219T210000
DTSTAMP:20260425T155825
CREATED:20241114T044705Z
LAST-MODIFIED:20241114T044737Z
UID:74363-1734631200-1734642000@odessaarts.org
SUMMARY:Jazz Nights at Flair: Sam Allen
DESCRIPTION:
URL:https://odessaarts.org/event/jazz-nights-at-flair-sam-allen/
LOCATION:Flair Taverna\, 2701 JBS Parkway\, Odessa\, Texas
CATEGORIES:Music
ATTACH;FMTTYPE=image/png:https://odessaarts.org/wp-content/uploads/2024/11/Flair-dec-w3-Sam-Allen-SQ.png
END:VEVENT
BEGIN:VEVENT
DTSTART;TZID=America/Chicago:20241220T180000
DTEND;TZID=America/Chicago:20241220T210000
DTSTAMP:20260425T155825
CREATED:20241114T044918Z
LAST-MODIFIED:20241114T044918Z
UID:74365-1734717600-1734728400@odessaarts.org
SUMMARY:Live Music with Flair: Brother Z
DESCRIPTION:
URL:https://odessaarts.org/event/live-music-with-flair-brother-z-7/
LOCATION:Flair Taverna\, 2701 JBS Parkway\, Odessa\, Texas
CATEGORIES:Music
ATTACH;FMTTYPE=image/png:https://odessaarts.org/wp-content/uploads/2024/11/Flair-dec-w3-Brother-z-SQ.png
END:VEVENT
BEGIN:VEVENT
DTSTART;TZID=America/Chicago:20241220T193000
DTEND;TZID=America/Chicago:20241220T193000
DTSTAMP:20260425T155825
CREATED:20240911T195853Z
LAST-MODIFIED:20240912T184928Z
UID:73961-1734723000-1734723000@odessaarts.org
SUMMARY:White Christmas
DESCRIPTION:  \n  \n  \nVeterans Bob Wallace and Phil Davis have a successful song-and-dance act after World War II. With romance in mind\, the two follow a duo of beautiful singing sisters en route to their Christmas show at a Vermont lodge\, which just happens to be owned by Bob and Phil’s former army commander. With a dazzling score featuring well-known standards including “Blue Skies\,” “I Love A Piano\,” “How Deep Is the Ocean” and the perennial title song\, White Christmas is an uplifting\, wholesome musical that will delight audiences of all ages.
URL:https://odessaarts.org/event/white-christmas-2/2024-12-20/
LOCATION:Midland Community Theatre\, 2000 W. Wadley\, Midland\, 79705\, United States
CATEGORIES:Humanities,Music,Theatre & Literary Arts
END:VEVENT
BEGIN:VEVENT
DTSTART;TZID=America/Chicago:20241221T180000
DTEND;TZID=America/Chicago:20241221T210000
DTSTAMP:20260425T155825
CREATED:20241114T045104Z
LAST-MODIFIED:20241114T045104Z
UID:74367-1734804000-1734814800@odessaarts.org
SUMMARY:Live Music with Flair: The Piano Room
DESCRIPTION:
URL:https://odessaarts.org/event/live-music-with-flair-the-piano-room/
LOCATION:Flair Taverna\, 2701 JBS Parkway\, Odessa\, Texas
CATEGORIES:Music
ATTACH;FMTTYPE=image/png:https://odessaarts.org/wp-content/uploads/2024/11/Flair-Dec-w3-Piano-Room-SQ.png
END:VEVENT
BEGIN:VEVENT
DTSTART;TZID=America/Chicago:20241221T180000
DTEND;TZID=America/Chicago:20241221T210000
DTSTAMP:20260425T155825
CREATED:20241218T192044Z
LAST-MODIFIED:20241218T192044Z
UID:75002-1734804000-1734814800@odessaarts.org
SUMMARY:Irish Airs & Graces
DESCRIPTION:Irish Airs & Graces \nwe are delighted to collaborate with Dave on this special St Patrick’s Day event. \nAbout this Event \n‘Irish Airs & Graces’ is a special St Patrick’s Day concert\, blurring the boundaries between traditional Irish music and contemporary classical music and featuring Irish composer Dave Flynn & the New Zealand String Quartet\, and guest traditional Irish musicians. \n\n 
URL:https://odessaarts.org/event/irish-airs-graces/
LOCATION:Volcano\, 3952 E 42nd St\, Odessa\, TX\, United States
CATEGORIES:Humanities,Music
END:VEVENT
BEGIN:VEVENT
DTSTART;TZID=America/Chicago:20241221T193000
DTEND;TZID=America/Chicago:20241221T193000
DTSTAMP:20260425T155825
CREATED:20240911T195853Z
LAST-MODIFIED:20240912T184928Z
UID:73962-1734809400-1734809400@odessaarts.org
SUMMARY:White Christmas
DESCRIPTION:  \n  \n  \nVeterans Bob Wallace and Phil Davis have a successful song-and-dance act after World War II. With romance in mind\, the two follow a duo of beautiful singing sisters en route to their Christmas show at a Vermont lodge\, which just happens to be owned by Bob and Phil’s former army commander. With a dazzling score featuring well-known standards including “Blue Skies\,” “I Love A Piano\,” “How Deep Is the Ocean” and the perennial title song\, White Christmas is an uplifting\, wholesome musical that will delight audiences of all ages.
URL:https://odessaarts.org/event/white-christmas-2/2024-12-21/
LOCATION:Midland Community Theatre\, 2000 W. Wadley\, Midland\, 79705\, United States
CATEGORIES:Humanities,Music,Theatre & Literary Arts
END:VEVENT
BEGIN:VEVENT
DTSTART;TZID=America/Chicago:20241226T180000
DTEND;TZID=America/Chicago:20241226T210000
DTSTAMP:20260425T155825
CREATED:20241123T143912Z
LAST-MODIFIED:20241126T162743Z
UID:74522-1735236000-1735246800@odessaarts.org
SUMMARY:Flair: NO LIVE MUSIC
DESCRIPTION:
URL:https://odessaarts.org/event/no-live-music-2/
LOCATION:Flair Taverna\, 2701 JBS Parkway\, Odessa\, Texas
CATEGORIES:Music
END:VEVENT
BEGIN:VEVENT
DTSTART;TZID=America/Chicago:20241227T180000
DTEND;TZID=America/Chicago:20241227T210000
DTSTAMP:20260425T155825
CREATED:20241123T144410Z
LAST-MODIFIED:20241123T144410Z
UID:74527-1735322400-1735333200@odessaarts.org
SUMMARY:Live Music with Flair: Colton Fox
DESCRIPTION:
URL:https://odessaarts.org/event/live-music-with-flair-colton-fox-10/
LOCATION:Flair Taverna\, 2701 JBS Parkway\, Odessa\, Texas
CATEGORIES:Music
ATTACH;FMTTYPE=image/png:https://odessaarts.org/wp-content/uploads/2024/11/Colton-Fox-SQ-1.png
END:VEVENT
BEGIN:VEVENT
DTSTART;TZID=America/Chicago:20241228T180000
DTEND;TZID=America/Chicago:20241228T210000
DTSTAMP:20260425T155825
CREATED:20241123T144058Z
LAST-MODIFIED:20241126T162814Z
UID:74524-1735408800-1735419600@odessaarts.org
SUMMARY:Flair: NO LIVE MUSIC
DESCRIPTION:
URL:https://odessaarts.org/event/no-live-music-3/
LOCATION:Flair Taverna\, 2701 JBS Parkway\, Odessa\, Texas
CATEGORIES:Music
END:VEVENT
BEGIN:VEVENT
DTSTART;TZID=America/Chicago:20250105T190000
DTEND;TZID=America/Chicago:20250105T230000
DTSTAMP:20260425T155825
CREATED:20240927T201508Z
LAST-MODIFIED:20240927T203049Z
UID:74048-1736103600-1736118000@odessaarts.org
SUMMARY:59th Annual West Texas Jazz Party
DESCRIPTION:Jon Erik Kellso\, Peter Anderson\, John Allred\, Dan Barrett\, Daniela Soledade\, Nate Najar\, Frank Tate\, Richard Simon\, Chuck Redd\, Ricky Malichi\, Johnny Varro\, Brian Piper\, and more!
URL:https://odessaarts.org/event/59th-annual-west-texas-jazz-party/2025-01-05/
LOCATION:Odessa Marriott Hotel & Conference Center\, 305 E. 5th Street\, Odessa\, Texas\, 79761
CATEGORIES:Humanities,Music
END:VEVENT
END:VCALENDAR