BEGIN:VCALENDAR
VERSION:2.0
PRODID:-//Odessa Arts - ECPv6.15.20//NONSGML v1.0//EN
CALSCALE:GREGORIAN
METHOD:PUBLISH
X-WR-CALNAME:Odessa Arts
X-ORIGINAL-URL:https://odessaarts.org
X-WR-CALDESC:Events for Odessa Arts
REFRESH-INTERVAL;VALUE=DURATION:PT1H
X-Robots-Tag:noindex
X-PUBLISHED-TTL:PT1H
BEGIN:VTIMEZONE
TZID:America/Chicago
BEGIN:DAYLIGHT
TZOFFSETFROM:-0600
TZOFFSETTO:-0500
TZNAME:CDT
DTSTART:20250309T080000
END:DAYLIGHT
BEGIN:STANDARD
TZOFFSETFROM:-0500
TZOFFSETTO:-0600
TZNAME:CST
DTSTART:20251102T070000
END:STANDARD
BEGIN:DAYLIGHT
TZOFFSETFROM:-0600
TZOFFSETTO:-0500
TZNAME:CDT
DTSTART:20260308T080000
END:DAYLIGHT
BEGIN:STANDARD
TZOFFSETFROM:-0500
TZOFFSETTO:-0600
TZNAME:CST
DTSTART:20261101T070000
END:STANDARD
BEGIN:DAYLIGHT
TZOFFSETFROM:-0600
TZOFFSETTO:-0500
TZNAME:CDT
DTSTART:20270314T080000
END:DAYLIGHT
BEGIN:STANDARD
TZOFFSETFROM:-0500
TZOFFSETTO:-0600
TZNAME:CST
DTSTART:20271107T070000
END:STANDARD
END:VTIMEZONE
BEGIN:VEVENT
DTSTART;TZID=America/Chicago:20260120T090000
DTEND;TZID=America/Chicago:20260409T180000
DTSTAMP:20260424T051305
CREATED:20260122T152702Z
LAST-MODIFIED:20260122T152702Z
UID:77705-1768899600-1775757600@odessaarts.org
SUMMARY:Land and Likeness Art Exhibit
DESCRIPTION:Land and Likeness With Logos\n\nNow up in the gallery\, Land and Likeness!\n\nLand and Likeness brings together four artists from the Permian Basin.\nUTPB Alum Catherine Allen\, Odessa College Art instructor Daniel Sorensen\, Midland College Art instructor Michael Hubbard\, and rancher/painter Alice Leese.\n\nThis exhibition examines each artist’s engagement with landscape and portraiture\, addressing the physical geography of the region alongside the psychological dimensions of identity.\n\nIt will be up until April 9th with a reception on March 5th from 5 – 7 PM.\n\nVisiting hours:\nMonday – Friday\n9 am – 6 pm\n\nSaturday\n2 pm – 5 pm
URL:https://odessaarts.org/event/land-and-likeness-art-exhibit/
LOCATION:Nancy Fyfe Cardozier Gallery\, 4901 E. Univsersity Blvd\, Odessa\, 79762\, United States
CATEGORIES:Humanities,Museum,Public Art,Visual Arts
END:VEVENT
BEGIN:VEVENT
DTSTART;TZID=America/Chicago:20260214T110000
DTEND;TZID=America/Chicago:20260214T123000
DTSTAMP:20260424T051305
CREATED:20260121T152751Z
LAST-MODIFIED:20260121T152751Z
UID:77696-1771066800-1771072200@odessaarts.org
SUMMARY:Basin PBS Palentine
DESCRIPTION:  \n\n\n\n\n\n\n\n\n\n\n\n\n\n\n\n\n\n\n\n\n\n\n\nBe a Pal! Celebrate Pal-entine’s Day with Basin PBS Education!\nSaturday February 14 from 11am – 12:30pm\nat Basin PBS\, 203 N. Main St\, Midland\n\nHave a heart and be a part of our Pal-entine’s Celebration! Families are invited to a\nfun-filled Saturday featuring:\n\n• a PBS KIDS episode screening\,\n• sweet treats\,\n• and hands-on arts and crafts\n\nAll centered on kindness\, friendship\, and togetherness.\nA perfect way to share the love with your favorite pals! \n\nScan the QR code above to say “I’m in!”\n\n\n\n\n\n\n\n\n\n\n\n\n\n\n\n\n\n\n\n\n\n\n\n 
URL:https://odessaarts.org/event/basin-pbs-palentine/
LOCATION:Basin PBS Studio\, 203 N Main\, Midland\, TX\, 79705\, United States
CATEGORIES:Humanities,Music,Public Art,Theatre & Literary Arts,Visual Arts
END:VEVENT
END:VCALENDAR