BEGIN:VCALENDAR
VERSION:2.0
PRODID:-//Odessa Arts - ECPv6.15.20//NONSGML v1.0//EN
CALSCALE:GREGORIAN
METHOD:PUBLISH
X-WR-CALNAME:Odessa Arts
X-ORIGINAL-URL:https://odessaarts.org
X-WR-CALDESC:Events for Odessa Arts
REFRESH-INTERVAL;VALUE=DURATION:PT1H
X-Robots-Tag:noindex
X-PUBLISHED-TTL:PT1H
BEGIN:VTIMEZONE
TZID:America/Chicago
BEGIN:DAYLIGHT
TZOFFSETFROM:-0600
TZOFFSETTO:-0500
TZNAME:CDT
DTSTART:20270314T080000
END:DAYLIGHT
BEGIN:STANDARD
TZOFFSETFROM:-0500
TZOFFSETTO:-0600
TZNAME:CST
DTSTART:20271107T070000
END:STANDARD
BEGIN:DAYLIGHT
TZOFFSETFROM:-0600
TZOFFSETTO:-0500
TZNAME:CDT
DTSTART:20280312T080000
END:DAYLIGHT
BEGIN:STANDARD
TZOFFSETFROM:-0500
TZOFFSETTO:-0600
TZNAME:CST
DTSTART:20281105T070000
END:STANDARD
BEGIN:DAYLIGHT
TZOFFSETFROM:-0600
TZOFFSETTO:-0500
TZNAME:CDT
DTSTART:20290311T080000
END:DAYLIGHT
BEGIN:STANDARD
TZOFFSETFROM:-0500
TZOFFSETTO:-0600
TZNAME:CST
DTSTART:20291104T070000
END:STANDARD
END:VTIMEZONE
BEGIN:VEVENT
DTSTART;TZID=America/Chicago:20280303T180000
DTEND;TZID=America/Chicago:20280303T210000
DTSTAMP:20260425T060357
CREATED:20260114T175014Z
LAST-MODIFIED:20260114T175014Z
UID:78361-1835719200-1835730000@odessaarts.org
SUMMARY:First Friday ODTX!
DESCRIPTION:First Friday ODTX is a monthly gathering every first Friday of the month for residents and visitors of downtown Odessa. Each month\, the streets are lively and colorful with music\, games\, and delicious food. There are unbeatable deals from local businesses and exciting opportunities to collect amazing giveaways. The event is open to all ages and caters to everyone’s interests. For music lovers\, there are live performances by local bands and artists\, while foodies can indulge in a diverse range of street eats. Downtown shops and eateries will offer special promotions. First Friday ODTX event brings vibrancy and community spirit to downtown Odessa\, making it the perfect place to spend a Friday evening.
URL:https://odessaarts.org/event/first-friday-6/2028-03-03/
LOCATION:Downtown Odessa\, 79761\, United States
CATEGORIES:Humanities,Music,Public Art,Theatre & Literary Arts,Visual Arts
END:VEVENT
BEGIN:VEVENT
DTSTART;TZID=America/Chicago:20280407T180000
DTEND;TZID=America/Chicago:20280407T210000
DTSTAMP:20260425T060357
CREATED:20260114T175014Z
LAST-MODIFIED:20260114T175014Z
UID:78534-1838743200-1838754000@odessaarts.org
SUMMARY:First Friday ODTX!
DESCRIPTION:First Friday ODTX is a monthly gathering every first Friday of the month for residents and visitors of downtown Odessa. Each month\, the streets are lively and colorful with music\, games\, and delicious food. There are unbeatable deals from local businesses and exciting opportunities to collect amazing giveaways. The event is open to all ages and caters to everyone’s interests. For music lovers\, there are live performances by local bands and artists\, while foodies can indulge in a diverse range of street eats. Downtown shops and eateries will offer special promotions. First Friday ODTX event brings vibrancy and community spirit to downtown Odessa\, making it the perfect place to spend a Friday evening.
URL:https://odessaarts.org/event/first-friday-6/2028-04-07/
LOCATION:Downtown Odessa\, 79761\, United States
CATEGORIES:Humanities,Music,Public Art,Theatre & Literary Arts,Visual Arts
END:VEVENT
END:VCALENDAR