BEGIN:VCALENDAR
VERSION:2.0
PRODID:-//Odessa Arts - ECPv6.15.20//NONSGML v1.0//EN
CALSCALE:GREGORIAN
METHOD:PUBLISH
X-WR-CALNAME:Odessa Arts
X-ORIGINAL-URL:https://odessaarts.org
X-WR-CALDESC:Events for Odessa Arts
REFRESH-INTERVAL;VALUE=DURATION:PT1H
X-Robots-Tag:noindex
X-PUBLISHED-TTL:PT1H
BEGIN:VTIMEZONE
TZID:America/Chicago
BEGIN:DAYLIGHT
TZOFFSETFROM:-0600
TZOFFSETTO:-0500
TZNAME:CDT
DTSTART:20240310T080000
END:DAYLIGHT
BEGIN:STANDARD
TZOFFSETFROM:-0500
TZOFFSETTO:-0600
TZNAME:CST
DTSTART:20241103T070000
END:STANDARD
BEGIN:DAYLIGHT
TZOFFSETFROM:-0600
TZOFFSETTO:-0500
TZNAME:CDT
DTSTART:20250309T080000
END:DAYLIGHT
BEGIN:STANDARD
TZOFFSETFROM:-0500
TZOFFSETTO:-0600
TZNAME:CST
DTSTART:20251102T070000
END:STANDARD
BEGIN:DAYLIGHT
TZOFFSETFROM:-0600
TZOFFSETTO:-0500
TZNAME:CDT
DTSTART:20260308T080000
END:DAYLIGHT
BEGIN:STANDARD
TZOFFSETFROM:-0500
TZOFFSETTO:-0600
TZNAME:CST
DTSTART:20261101T070000
END:STANDARD
END:VTIMEZONE
BEGIN:VEVENT
DTSTART;TZID=America/Chicago:20250304T110000
DTEND;TZID=America/Chicago:20250304T113000
DTSTAMP:20260425T054714
CREATED:20250304T162256Z
LAST-MODIFIED:20250304T162256Z
UID:75471-1741086000-1741087800@odessaarts.org
SUMMARY:Rhythm and Rhyme Storytime - CENTENNIAL
DESCRIPTION:Interactive storytime that includes early literacy fun with books\, songs\, fingerplays\, and body movement. Child must have an accompanying adult. Ages 0-2.
URL:https://odessaarts.org/event/rhythm-and-rhyme-storytime-centennial/
LOCATION:Midland County Library – Centennial Branch\, 2503 Loop 250 Frontage Rd.\, Midland\, TX\, 79705\, United States
CATEGORIES:Humanities,Theatre & Literary Arts
END:VEVENT
END:VCALENDAR