BEGIN:VCALENDAR
VERSION:2.0
PRODID:-//Odessa Arts - ECPv6.15.20//NONSGML v1.0//EN
CALSCALE:GREGORIAN
METHOD:PUBLISH
X-WR-CALNAME:Odessa Arts
X-ORIGINAL-URL:https://odessaarts.org
X-WR-CALDESC:Events for Odessa Arts
REFRESH-INTERVAL;VALUE=DURATION:PT1H
X-Robots-Tag:noindex
X-PUBLISHED-TTL:PT1H
BEGIN:VTIMEZONE
TZID:America/Chicago
BEGIN:DAYLIGHT
TZOFFSETFROM:-0600
TZOFFSETTO:-0500
TZNAME:CDT
DTSTART:20240310T080000
END:DAYLIGHT
BEGIN:STANDARD
TZOFFSETFROM:-0500
TZOFFSETTO:-0600
TZNAME:CST
DTSTART:20241103T070000
END:STANDARD
BEGIN:DAYLIGHT
TZOFFSETFROM:-0600
TZOFFSETTO:-0500
TZNAME:CDT
DTSTART:20250309T080000
END:DAYLIGHT
BEGIN:STANDARD
TZOFFSETFROM:-0500
TZOFFSETTO:-0600
TZNAME:CST
DTSTART:20251102T070000
END:STANDARD
BEGIN:DAYLIGHT
TZOFFSETFROM:-0600
TZOFFSETTO:-0500
TZNAME:CDT
DTSTART:20260308T080000
END:DAYLIGHT
BEGIN:STANDARD
TZOFFSETFROM:-0500
TZOFFSETTO:-0600
TZNAME:CST
DTSTART:20261101T070000
END:STANDARD
END:VTIMEZONE
BEGIN:VEVENT
DTSTART;TZID=America/Chicago:20250414T193000
DTEND;TZID=America/Chicago:20250414T193000
DTSTAMP:20260424T220112
CREATED:20250225T152752Z
LAST-MODIFIED:20250225T152752Z
UID:75370-1744659000-1744659000@odessaarts.org
SUMMARY:A Taste of Ireland
DESCRIPTION:After premiering Off-Broadway las tseason \, ‘A Taste of Ireland ― The Irish Music & Dance Sensation’ returns to stages across the USA in 2025\, performing the show that has entertained thousands around the globe. Laugh\, cry and jig into the night with a production that is Celtic\, for this generation. \nPerformed by former World Irish dance champions\, and featuring dancers from Lord of the Dance and Riverdance\, ‘A Taste of Ireland’ transports the audience through the story of Ireland’s tumultuous history delivered with a pint of Irish wit. Watch world-class performers blend melodic folk mash-ups\, live jaw-dropping acapella tap battles and heartwarming storytelling. \nFeaturing revamped classics of Danny Boy\, Tell Me Ma\, Wild Rover\, and many more well known songs\, the show’s reimagined contemporary score blossoms alongside the brash Irish charm of the live dance cast. ‘A Taste of Ireland’ merges cultural traditions\, modern flair\, and craic galore\, to deliver a performance that has been leaving audiences across the globe jigging on their feet for the last decade. \nWith over one hundred and fifty 5-star Facebook reviews\, ‘A Taste of Ireland’ is exactly what it promises: a taste of everything you love about Ireland with a generous helping of more! ’A Taste of Ireland’ is a show with 100% live singing and dancing that bridges the gap between storytelling\, modern Irish dance\, tap and contemporary dance to tell a historic story\, live on stage. \nWith a strictly limited USA run\, see ‘A Taste of Ireland’ this fall for limited performances before it takes off around the globe once again. \n‘Witness the birth of a nation told through rhythm and beat\, with the cry of the Vikings as they were brought to defeat\, the rise and fall of the rebellion the show tells the tale\, trapped were the Irish\, watch them dance from the jail. For the nation fought free from Dundalk to Tralee\, they sing and they dance through the night full of glee. For Ireland\, there was not a nation quite like her\, hold onto your seat\, feel Ireland’s passion and fire.’ \n**please note: musical instruments are subject to change from performance to performance \n*Doors open 6:30p*
URL:https://odessaarts.org/event/a-taste-of-ireland/
LOCATION:Wagner Noël Performing Arts Center\, 1310 FM 1788\, Midland\, Texas
CATEGORIES:Music,Theatre & Literary Arts
END:VEVENT
END:VCALENDAR