BEGIN:VCALENDAR
VERSION:2.0
PRODID:-//Odessa Arts - ECPv6.15.20//NONSGML v1.0//EN
CALSCALE:GREGORIAN
METHOD:PUBLISH
X-ORIGINAL-URL:https://odessaarts.org
X-WR-CALDESC:Events for Odessa Arts
REFRESH-INTERVAL;VALUE=DURATION:PT1H
X-Robots-Tag:noindex
X-PUBLISHED-TTL:PT1H
BEGIN:VTIMEZONE
TZID:America/Chicago
BEGIN:DAYLIGHT
TZOFFSETFROM:-0600
TZOFFSETTO:-0500
TZNAME:CDT
DTSTART:20240310T080000
END:DAYLIGHT
BEGIN:STANDARD
TZOFFSETFROM:-0500
TZOFFSETTO:-0600
TZNAME:CST
DTSTART:20241103T070000
END:STANDARD
BEGIN:DAYLIGHT
TZOFFSETFROM:-0600
TZOFFSETTO:-0500
TZNAME:CDT
DTSTART:20250309T080000
END:DAYLIGHT
BEGIN:STANDARD
TZOFFSETFROM:-0500
TZOFFSETTO:-0600
TZNAME:CST
DTSTART:20251102T070000
END:STANDARD
BEGIN:DAYLIGHT
TZOFFSETFROM:-0600
TZOFFSETTO:-0500
TZNAME:CDT
DTSTART:20260308T080000
END:DAYLIGHT
BEGIN:STANDARD
TZOFFSETFROM:-0500
TZOFFSETTO:-0600
TZNAME:CST
DTSTART:20261101T070000
END:STANDARD
END:VTIMEZONE
BEGIN:VEVENT
DTSTART;VALUE=DATE:20250425
DTEND;VALUE=DATE:20250511
DTSTAMP:20260424T220156
CREATED:20250425T153735Z
LAST-MODIFIED:20250425T153735Z
UID:76293-1745539200-1746921599@odessaarts.org
SUMMARY:Puffs
DESCRIPTION:For seven years\, a boy went to wizard school and conquered evil–but this is not his story. This is the story of Puffs\, who just happened to be there too. \nGet Tickets
URL:https://odessaarts.org/event/puffs-2/
LOCATION:Midland Community Theatre\, 2000 W. Wadley\, Midland\, 79705\, United States
CATEGORIES:Theatre & Literary Arts
END:VEVENT
BEGIN:VEVENT
DTSTART;TZID=America/Chicago:20250508T160000
DTEND;TZID=America/Chicago:20250508T170000
DTSTAMP:20260424T220156
CREATED:20250424T151703Z
LAST-MODIFIED:20250424T151703Z
UID:76210-1746720000-1746723600@odessaarts.org
SUMMARY:Read to Louie
DESCRIPTION:Felix is still on vacation\, but his friend Louie is ready for you to grab a book and maybe scritch ears! \nFélix todavía está de vacaciones\, ¡pero su amigo Louie está listo para que tomes un libro y quizás le rasques las orejas!
URL:https://odessaarts.org/event/read-to-louie/
LOCATION:Ector County Library
CATEGORIES:Theatre & Literary Arts
END:VEVENT
BEGIN:VEVENT
DTSTART;TZID=America/Chicago:20250508T180000
DTEND;TZID=America/Chicago:20250508T180000
DTSTAMP:20260424T220156
CREATED:20250325T151257Z
LAST-MODIFIED:20250325T151257Z
UID:75909-1746727200-1746727200@odessaarts.org
SUMMARY:Book Buzz
DESCRIPTION:Join Penguin/Random House Representative\, Liz Sullivan\, for a lively discussion about new releases and interesting reads. We’ll also be searching for a future Book Talk Selection. Free! Drinks and snacks with be served. Ages 18+
URL:https://odessaarts.org/event/book-buzz-3/
LOCATION:Ellen Noel Art Museum\, 4909 E. University\, Odessa\, TX\, 79762\, United States
CATEGORIES:Humanities,Theatre & Literary Arts
END:VEVENT
END:VCALENDAR