BEGIN:VCALENDAR
VERSION:2.0
PRODID:-//Odessa Arts - ECPv6.15.20//NONSGML v1.0//EN
CALSCALE:GREGORIAN
METHOD:PUBLISH
X-ORIGINAL-URL:https://odessaarts.org
X-WR-CALDESC:Events for Odessa Arts
REFRESH-INTERVAL;VALUE=DURATION:PT1H
X-Robots-Tag:noindex
X-PUBLISHED-TTL:PT1H
BEGIN:VTIMEZONE
TZID:America/Chicago
BEGIN:DAYLIGHT
TZOFFSETFROM:-0600
TZOFFSETTO:-0500
TZNAME:CDT
DTSTART:20240310T080000
END:DAYLIGHT
BEGIN:STANDARD
TZOFFSETFROM:-0500
TZOFFSETTO:-0600
TZNAME:CST
DTSTART:20241103T070000
END:STANDARD
BEGIN:DAYLIGHT
TZOFFSETFROM:-0600
TZOFFSETTO:-0500
TZNAME:CDT
DTSTART:20250309T080000
END:DAYLIGHT
BEGIN:STANDARD
TZOFFSETFROM:-0500
TZOFFSETTO:-0600
TZNAME:CST
DTSTART:20251102T070000
END:STANDARD
BEGIN:DAYLIGHT
TZOFFSETFROM:-0600
TZOFFSETTO:-0500
TZNAME:CDT
DTSTART:20260308T080000
END:DAYLIGHT
BEGIN:STANDARD
TZOFFSETFROM:-0500
TZOFFSETTO:-0600
TZNAME:CST
DTSTART:20261101T070000
END:STANDARD
END:VTIMEZONE
BEGIN:VEVENT
DTSTART;VALUE=DATE:20250425
DTEND;VALUE=DATE:20250511
DTSTAMP:20260424T214031
CREATED:20250425T153735Z
LAST-MODIFIED:20250425T153735Z
UID:76293-1745539200-1746921599@odessaarts.org
SUMMARY:Puffs
DESCRIPTION:For seven years\, a boy went to wizard school and conquered evil–but this is not his story. This is the story of Puffs\, who just happened to be there too. \nGet Tickets
URL:https://odessaarts.org/event/puffs-2/
LOCATION:Midland Community Theatre\, 2000 W. Wadley\, Midland\, 79705\, United States
CATEGORIES:Theatre & Literary Arts
END:VEVENT
BEGIN:VEVENT
DTSTART;TZID=America/Chicago:20250510T183000
DTEND;TZID=America/Chicago:20250510T183000
DTSTAMP:20260424T214031
CREATED:20250421T203015Z
LAST-MODIFIED:20250421T203015Z
UID:76075-1746901800-1746901800@odessaarts.org
SUMMARY:Midland Festival Ballet Presents Bach in Ballet
DESCRIPTION:This year’s showcase is themed around Johan Sebastian Bach. The Baroque composer may seem old\, and maybe even irrelevant\, but many famous neoclassical ballets are set to Bach’s music – most notably Concerto Barocco by George Balanchine\, which remains one of Balanchine’s most performed works around the world! Neoclassical ballet is all about making the music visual\, a difficult skill we start teaching and refining even in our youngest dancers. We’re excited to work with them as they hear new melodies (and instruments!) and learn about some of these ballets (an important part of a dancer’s education) while demonstrating all they’ve learned this year!
URL:https://odessaarts.org/event/midland-festival-ballet-presents-bach-in-ballet/
LOCATION:Wagner Noël Performing Arts Center\, 1310 FM 1788\, Midland\, Texas
CATEGORIES:Music,Theatre & Literary Arts
END:VEVENT
BEGIN:VEVENT
DTSTART;TZID=America/Chicago:20250510T193000
DTEND;TZID=America/Chicago:20250510T193000
DTSTAMP:20260424T214031
CREATED:20250424T142657Z
LAST-MODIFIED:20250424T142657Z
UID:76120-1746905400-1746905400@odessaarts.org
SUMMARY:The Last Five Years
DESCRIPTION:Discover the emotional journey of love in The Last Five Years\, a captivating musical that follows Cathy and Jamie as they navigate the highs and lows of their relationship over five transformative years. Join us for an unforgettable experience that will resonate with anyone who has ever loved. Don’t miss your chance to see this extraordinary production live!
URL:https://odessaarts.org/event/the-last-five-years/2025-05-10/
LOCATION:Basin Theatre Works\, 310 W. 42nd Street\, Odessa\, TX\, 79764\, United States
CATEGORIES:Theatre & Literary Arts
END:VEVENT
END:VCALENDAR