BEGIN:VCALENDAR
VERSION:2.0
PRODID:-//Odessa Arts - ECPv6.15.20//NONSGML v1.0//EN
CALSCALE:GREGORIAN
METHOD:PUBLISH
X-ORIGINAL-URL:https://odessaarts.org
X-WR-CALDESC:Events for Odessa Arts
REFRESH-INTERVAL;VALUE=DURATION:PT1H
X-Robots-Tag:noindex
X-PUBLISHED-TTL:PT1H
BEGIN:VTIMEZONE
TZID:America/Chicago
BEGIN:DAYLIGHT
TZOFFSETFROM:-0600
TZOFFSETTO:-0500
TZNAME:CDT
DTSTART:20240310T080000
END:DAYLIGHT
BEGIN:STANDARD
TZOFFSETFROM:-0500
TZOFFSETTO:-0600
TZNAME:CST
DTSTART:20241103T070000
END:STANDARD
BEGIN:DAYLIGHT
TZOFFSETFROM:-0600
TZOFFSETTO:-0500
TZNAME:CDT
DTSTART:20250309T080000
END:DAYLIGHT
BEGIN:STANDARD
TZOFFSETFROM:-0500
TZOFFSETTO:-0600
TZNAME:CST
DTSTART:20251102T070000
END:STANDARD
BEGIN:DAYLIGHT
TZOFFSETFROM:-0600
TZOFFSETTO:-0500
TZNAME:CDT
DTSTART:20260308T080000
END:DAYLIGHT
BEGIN:STANDARD
TZOFFSETFROM:-0500
TZOFFSETTO:-0600
TZNAME:CST
DTSTART:20261101T070000
END:STANDARD
END:VTIMEZONE
BEGIN:VEVENT
DTSTART;TZID=America/Chicago:20250514T200000
DTEND;TZID=America/Chicago:20250531T200000
DTSTAMP:20260424T202834
CREATED:20250421T191913Z
LAST-MODIFIED:20250421T191913Z
UID:76045-1747252800-1748721600@odessaarts.org
SUMMARY:Ballet Arizona presents Eroica: An Evening at Desert Botanical Garden
DESCRIPTION:DATE: May 14-31 | Tues. – Sat.\nTIME: 8 p.m.\nPRICE: Tickets at balletaz.org \nSurrounded by the magnificent desert landscape with the setting sun as its backdrop\, Eroica makes a comeback at An Evening at Desert Botanical Garden. Expect the unexpected as this ballet evolves\, takes chances and challenges your emotional boundaries in the desert that we call our home.
URL:https://odessaarts.org/event/ballet-arizona-presents-eroica-an-evening-at-desert-botanical-garden/
LOCATION:Desert Botanical Garden\, 1201 N. GALVIN PARKWAY\, Phoenix\, AZ\, 85008\, United States
CATEGORIES:Theatre & Literary Arts
END:VEVENT
BEGIN:VEVENT
DTSTART;TZID=America/Chicago:20250528T110000
DTEND;TZID=America/Chicago:20250528T113000
DTSTAMP:20260424T202834
CREATED:20250304T182844Z
LAST-MODIFIED:20250304T182844Z
UID:75624-1748430000-1748431800@odessaarts.org
SUMMARY:Toddler Tales Storytime - CENTENNIAL
DESCRIPTION:Fun ways to help support toddlers’ developing literacy and cognitive growth by incorporating action rhymes\, songs\, and movement. Child must have an accompanying adult. Ages 3-5.
URL:https://odessaarts.org/event/toddler-tales-storytime-centennial-5/2025-05-28/
LOCATION:Midland County Library – Centennial Branch\, 2503 Loop 250 Frontage Rd.\, Midland\, TX\, 79705\, United States
CATEGORIES:Humanities,Theatre & Literary Arts
END:VEVENT
BEGIN:VEVENT
DTSTART;TZID=America/Chicago:20250528T110000
DTEND;TZID=America/Chicago:20250528T113000
DTSTAMP:20260424T202834
CREATED:20250304T183001Z
LAST-MODIFIED:20250304T183001Z
UID:75666-1748430000-1748431800@odessaarts.org
SUMMARY:Toddler Tales Storytime - DOWNTOWN
DESCRIPTION:Fun ways to help support toddlers’ developing literacy and cognitive growth by incorporating action rhymes\, songs\, and movement. Child must have an accompanying adult. Ages 3-5.
URL:https://odessaarts.org/event/toddler-tales-storytime-downtown-5/2025-05-28/
LOCATION:Midland Library at the Plaza (Downtown)\, 301 W. Missouri Ave.\, Midland\, TX\, 79701\, United States
CATEGORIES:Humanities,Theatre & Literary Arts
END:VEVENT
BEGIN:VEVENT
DTSTART;TZID=America/Chicago:20250528T160000
DTEND;TZID=America/Chicago:20250528T170000
DTSTAMP:20260424T202834
CREATED:20250424T152934Z
LAST-MODIFIED:20250424T152934Z
UID:76216-1748448000-1748451600@odessaarts.org
SUMMARY:Sensory Friendly Storytime
DESCRIPTION:Share West Texas is back to help the Library present a Sesnory Friendly Storytime where we read a few books\, sing some songs\, and make a craft. Sensory bins are available to play with\, too! \nShare West Texas regresa para ayudar a la Biblioteca a presentar una Hora del Cuento Sensorial donde leemos algunos libros\, cantamos canciones y hacemos una manualidad. ¡También hay contenedores sensoriales disponibles para jugar!
URL:https://odessaarts.org/event/sensory-friendly-storytime-4/
LOCATION:Ector County Library
CATEGORIES:Theatre & Literary Arts
END:VEVENT
END:VCALENDAR