BEGIN:VCALENDAR
VERSION:2.0
PRODID:-//Odessa Arts - ECPv6.15.20//NONSGML v1.0//EN
CALSCALE:GREGORIAN
METHOD:PUBLISH
X-ORIGINAL-URL:https://odessaarts.org
X-WR-CALDESC:Events for Odessa Arts
REFRESH-INTERVAL;VALUE=DURATION:PT1H
X-Robots-Tag:noindex
X-PUBLISHED-TTL:PT1H
BEGIN:VTIMEZONE
TZID:America/Chicago
BEGIN:DAYLIGHT
TZOFFSETFROM:-0600
TZOFFSETTO:-0500
TZNAME:CDT
DTSTART:20240310T080000
END:DAYLIGHT
BEGIN:STANDARD
TZOFFSETFROM:-0500
TZOFFSETTO:-0600
TZNAME:CST
DTSTART:20241103T070000
END:STANDARD
BEGIN:DAYLIGHT
TZOFFSETFROM:-0600
TZOFFSETTO:-0500
TZNAME:CDT
DTSTART:20250309T080000
END:DAYLIGHT
BEGIN:STANDARD
TZOFFSETFROM:-0500
TZOFFSETTO:-0600
TZNAME:CST
DTSTART:20251102T070000
END:STANDARD
BEGIN:DAYLIGHT
TZOFFSETFROM:-0600
TZOFFSETTO:-0500
TZNAME:CDT
DTSTART:20260308T080000
END:DAYLIGHT
BEGIN:STANDARD
TZOFFSETFROM:-0500
TZOFFSETTO:-0600
TZNAME:CST
DTSTART:20261101T070000
END:STANDARD
END:VTIMEZONE
BEGIN:VEVENT
DTSTART;TZID=America/Chicago:20250605T103000
DTEND;TZID=America/Chicago:20250605T110000
DTSTAMP:20260424T185449
CREATED:20250421T183529Z
LAST-MODIFIED:20250421T183529Z
UID:76021-1749119400-1749121200@odessaarts.org
SUMMARY:Storytime
DESCRIPTION:TICKETS: Free for Members | Included in general admission for the general public \nAdvance registration recommended \nDesigned for our youngest PhxArt visitors (ages 0-5) and their parents or caregivers\, Storytime is a wonderful opportunity to share the joy of early literacy\, art-inspired play\, and hands-on learning with family and friends. The Storytime series is offered on the first Thursday of each month inside the Museum. \nStorytime is made possible by the Angela and Leonard Singer Endowment for the Performing Arts\, The Discount Tire Endowment for Children’s Art Programs\, the William Randolph Hearst Endowed Fund for Education Programs\, and Traditional Legacy Schools.
URL:https://odessaarts.org/event/storytime-3/
LOCATION:Phoenix Art Museum\, 1625 North Central Ave.\, Phoenix\, AZ\, 85004\, United States
CATEGORIES:Museum,Theatre & Literary Arts
END:VEVENT
END:VCALENDAR