BEGIN:VCALENDAR
VERSION:2.0
PRODID:-//Odessa Arts - ECPv6.15.20//NONSGML v1.0//EN
CALSCALE:GREGORIAN
METHOD:PUBLISH
X-ORIGINAL-URL:https://odessaarts.org
X-WR-CALDESC:Events for Odessa Arts
REFRESH-INTERVAL;VALUE=DURATION:PT1H
X-Robots-Tag:noindex
X-PUBLISHED-TTL:PT1H
BEGIN:VTIMEZONE
TZID:America/Chicago
BEGIN:DAYLIGHT
TZOFFSETFROM:-0600
TZOFFSETTO:-0500
TZNAME:CDT
DTSTART:20240310T080000
END:DAYLIGHT
BEGIN:STANDARD
TZOFFSETFROM:-0500
TZOFFSETTO:-0600
TZNAME:CST
DTSTART:20241103T070000
END:STANDARD
BEGIN:DAYLIGHT
TZOFFSETFROM:-0600
TZOFFSETTO:-0500
TZNAME:CDT
DTSTART:20250309T080000
END:DAYLIGHT
BEGIN:STANDARD
TZOFFSETFROM:-0500
TZOFFSETTO:-0600
TZNAME:CST
DTSTART:20251102T070000
END:STANDARD
BEGIN:DAYLIGHT
TZOFFSETFROM:-0600
TZOFFSETTO:-0500
TZNAME:CDT
DTSTART:20260308T080000
END:DAYLIGHT
BEGIN:STANDARD
TZOFFSETFROM:-0500
TZOFFSETTO:-0600
TZNAME:CST
DTSTART:20261101T070000
END:STANDARD
END:VTIMEZONE
BEGIN:VEVENT
DTSTART;TZID=America/Chicago:20250801T193000
DTEND;TZID=America/Chicago:20250801T193000
DTSTAMP:20260424T141711
CREATED:20250109T222355Z
LAST-MODIFIED:20250109T222355Z
UID:75114-1754076600-1754076600@odessaarts.org
SUMMARY:Brit Floyd Wish You Were Here 50th Anniversary
DESCRIPTION:Brit Floyd returns to the stage in 2025 with their biggest and most spectacular production to date\, celebrating the 50th anniversary of Pink Floyd’s classic album ‘Wish You Were Here’\, complete with a stunning laser and light show\, iconic circular screen\, inflatables and theatrics. \nReleased in 1975 and featuring four of the band’s most beloved loved songs\, ‘Shine On You Crazy Diamond\, ‘Welcome to the Machine’\, ‘Have a Cigar’ and the title track\, ‘Wish You Were Here’ is widely regarded as one of the greatest albums of all time.\nThe 2 and a half hour plus show will also feature classic tracks from Pink Floyd’s magnificent catalogue of albums\, including the Dark Side of the Moon\, The Wall\, Animals\, The Division Bell\, Meddle and much more. \nTaking to the stage to perform note for note renditions of all these classic Pink Floyd tracks is the band of musicians that audiences have become to love and respect worldwide over the years\, featuring long time guitarist/lead vocalist and musical director Damian Darlington and bassist/lead vocalist Ian Cattell as well as the other expert musicians that have joined the ranks of Brit Floyd over the course of the last decade. \nHaving performed over 1\,000 shows since its launch in Liverpool\, England in January 2011\, Brit Floyd have circled the world\, sold out tours across Europe\, North America\, South America\, Asia and the Middle East\, and performed concerts at some of the world’s greatest venues\, including London’s prestigious Royal Albert Hall; the awe inspiring Red Rocks Amphitheatre in Denver\, Colorado; the historic Greek Theatre in Los Angeles\, and ‘The Showplace of the Nation’\, NYC’s Radio City Music Hall in Manhattan. \nThe Brit Floyd show has become a phenomenon\, widely regarded as the world’s greatest rock tribute experience! \n 
URL:https://odessaarts.org/event/brit-floyd-wish-you-were-here-50th-anniversary/
LOCATION:Wagner Noël Performing Arts Center\, 1310 FM 1788\, Midland\, Texas
CATEGORIES:Music,Theatre & Literary Arts
END:VEVENT
BEGIN:VEVENT
DTSTART;TZID=America/Chicago:20250801T200000
DTEND;TZID=America/Chicago:20250801T220000
DTSTAMP:20260424T141711
CREATED:20250723T205026Z
LAST-MODIFIED:20250723T205026Z
UID:76474-1754078400-1754085600@odessaarts.org
SUMMARY:Joseph and the Amazing Technicolor Dreamcoat
DESCRIPTION:Basin Theatre Works invites audiences of all ages to experience the colorful\, high-energy musical Joseph and the Amazing Technicolor Dreamcoat\, live under the West Texas sky. This family-friendly production will be performed in the outdoor amphitheater at Stonegate Church (4240 Preston Smith Road) on July 25\, 26\, 31\, and August 1 & 2. Each performance begins at 8:00 PM\, with local food trucks opening at 6:30 PM to serve up delicious pre-show eats.\nTold entirely through song\, Joseph and the Amazing Technicolor Dreamcoat is a vibrant retelling of the Biblical story of Joseph\, his jealous brothers\, and his journey from slave to ruler of Egypt. With music by Andrew Lloyd Webber and lyrics by Tim Rice\, the show blends pop\, rock\, calypso\, and country into a joyful celebration of faith\, forgiveness\, and the power of dreams.\n\n“This production is a celebration of community and storytelling\,” said BTW artistic director Scott Windham. “It’s a musical the whole family can enjoy together\, set against a stunning West Texas sunset.”\n\nGuests are encouraged to bring lawn chairs or blankets for comfortable seating in the amphitheater. With lively music\, a heartwarming message\, and an outdoor setting perfect for summer evenings\, this show promises fun for all ages.\nTickets are $15 and available now at www.basintheatreworks.org.\nDon’t miss these unforgettable nights of music\, food\, and family-friendly entertainment—Go\, Go\, Go Joseph!
URL:https://odessaarts.org/event/joseph-and-the-amazing-technicolor-dreamcoat/2025-08-01/
LOCATION:Stonegate Church\, 4240 Preston Smith Rd\, Odessa\, TX\, 79761\, United States
CATEGORIES:Theatre & Literary Arts
END:VEVENT
END:VCALENDAR