BEGIN:VCALENDAR
VERSION:2.0
PRODID:-//Odessa Arts - ECPv6.15.20//NONSGML v1.0//EN
CALSCALE:GREGORIAN
METHOD:PUBLISH
X-ORIGINAL-URL:https://odessaarts.org
X-WR-CALDESC:Events for Odessa Arts
REFRESH-INTERVAL;VALUE=DURATION:PT1H
X-Robots-Tag:noindex
X-PUBLISHED-TTL:PT1H
BEGIN:VTIMEZONE
TZID:America/Chicago
BEGIN:DAYLIGHT
TZOFFSETFROM:-0600
TZOFFSETTO:-0500
TZNAME:CDT
DTSTART:20240310T080000
END:DAYLIGHT
BEGIN:STANDARD
TZOFFSETFROM:-0500
TZOFFSETTO:-0600
TZNAME:CST
DTSTART:20241103T070000
END:STANDARD
BEGIN:DAYLIGHT
TZOFFSETFROM:-0600
TZOFFSETTO:-0500
TZNAME:CDT
DTSTART:20250309T080000
END:DAYLIGHT
BEGIN:STANDARD
TZOFFSETFROM:-0500
TZOFFSETTO:-0600
TZNAME:CST
DTSTART:20251102T070000
END:STANDARD
BEGIN:DAYLIGHT
TZOFFSETFROM:-0600
TZOFFSETTO:-0500
TZNAME:CDT
DTSTART:20260308T080000
END:DAYLIGHT
BEGIN:STANDARD
TZOFFSETFROM:-0500
TZOFFSETTO:-0600
TZNAME:CST
DTSTART:20261101T070000
END:STANDARD
END:VTIMEZONE
BEGIN:VEVENT
DTSTART;TZID=America/Chicago:20250802T200000
DTEND;TZID=America/Chicago:20250802T220000
DTSTAMP:20260424T171620
CREATED:20250723T205026Z
LAST-MODIFIED:20250723T205026Z
UID:76475-1754164800-1754172000@odessaarts.org
SUMMARY:Joseph and the Amazing Technicolor Dreamcoat
DESCRIPTION:Basin Theatre Works invites audiences of all ages to experience the colorful\, high-energy musical Joseph and the Amazing Technicolor Dreamcoat\, live under the West Texas sky. This family-friendly production will be performed in the outdoor amphitheater at Stonegate Church (4240 Preston Smith Road) on July 25\, 26\, 31\, and August 1 & 2. Each performance begins at 8:00 PM\, with local food trucks opening at 6:30 PM to serve up delicious pre-show eats.\nTold entirely through song\, Joseph and the Amazing Technicolor Dreamcoat is a vibrant retelling of the Biblical story of Joseph\, his jealous brothers\, and his journey from slave to ruler of Egypt. With music by Andrew Lloyd Webber and lyrics by Tim Rice\, the show blends pop\, rock\, calypso\, and country into a joyful celebration of faith\, forgiveness\, and the power of dreams.\n\n“This production is a celebration of community and storytelling\,” said BTW artistic director Scott Windham. “It’s a musical the whole family can enjoy together\, set against a stunning West Texas sunset.”\n\nGuests are encouraged to bring lawn chairs or blankets for comfortable seating in the amphitheater. With lively music\, a heartwarming message\, and an outdoor setting perfect for summer evenings\, this show promises fun for all ages.\nTickets are $15 and available now at www.basintheatreworks.org.\nDon’t miss these unforgettable nights of music\, food\, and family-friendly entertainment—Go\, Go\, Go Joseph!
URL:https://odessaarts.org/event/joseph-and-the-amazing-technicolor-dreamcoat/2025-08-02/
LOCATION:Stonegate Church\, 4240 Preston Smith Rd\, Odessa\, TX\, 79761\, United States
CATEGORIES:Theatre & Literary Arts
END:VEVENT
END:VCALENDAR