BEGIN:VCALENDAR
VERSION:2.0
PRODID:-//Odessa Arts - ECPv6.15.20//NONSGML v1.0//EN
CALSCALE:GREGORIAN
METHOD:PUBLISH
X-ORIGINAL-URL:https://odessaarts.org
X-WR-CALDESC:Events for Odessa Arts
REFRESH-INTERVAL;VALUE=DURATION:PT1H
X-Robots-Tag:noindex
X-PUBLISHED-TTL:PT1H
BEGIN:VTIMEZONE
TZID:America/Chicago
BEGIN:DAYLIGHT
TZOFFSETFROM:-0600
TZOFFSETTO:-0500
TZNAME:CDT
DTSTART:20240310T080000
END:DAYLIGHT
BEGIN:STANDARD
TZOFFSETFROM:-0500
TZOFFSETTO:-0600
TZNAME:CST
DTSTART:20241103T070000
END:STANDARD
BEGIN:DAYLIGHT
TZOFFSETFROM:-0600
TZOFFSETTO:-0500
TZNAME:CDT
DTSTART:20250309T080000
END:DAYLIGHT
BEGIN:STANDARD
TZOFFSETFROM:-0500
TZOFFSETTO:-0600
TZNAME:CST
DTSTART:20251102T070000
END:STANDARD
BEGIN:DAYLIGHT
TZOFFSETFROM:-0600
TZOFFSETTO:-0500
TZNAME:CDT
DTSTART:20260308T080000
END:DAYLIGHT
BEGIN:STANDARD
TZOFFSETFROM:-0500
TZOFFSETTO:-0600
TZNAME:CST
DTSTART:20261101T070000
END:STANDARD
END:VTIMEZONE
BEGIN:VEVENT
DTSTART;TZID=America/Chicago:20250905T183000
DTEND;TZID=America/Chicago:20250927T183000
DTSTAMP:20260424T101837
CREATED:20250819T181916Z
LAST-MODIFIED:20250819T182118Z
UID:76582-1757097000-1758997800@odessaarts.org
SUMMARY:BONNIE & CLYDE: THE MUSICAL
DESCRIPTION:  \n\n\n\n\nMabee Theatre II \n\n\n\n\n\n\n\nRATING: Recommended for Adults 18+.   \n\n\n\n\n\n\nAmerica’s most notorious lovers and bank robbers take the country by storm in this sexy and compelling adventure. \n\n\n\n  \n 
URL:https://odessaarts.org/event/bonnie-clyde-the-musical/
LOCATION:Midland Community Theatre\, 2000 W. Wadley\, Midland\, 79705\, United States
CATEGORIES:Theatre & Literary Arts
END:VEVENT
BEGIN:VEVENT
DTSTART;TZID=America/Chicago:20250905T193000
DTEND;TZID=America/Chicago:20250927T193000
DTSTAMP:20260424T101837
CREATED:20250908T165157Z
LAST-MODIFIED:20250908T165157Z
UID:76736-1757100600-1759001400@odessaarts.org
SUMMARY:The performance of Bonnie & Clyde: The Musical is directed by Ben Spencer
DESCRIPTION:vent by Midland Community Theatre\n\n\n\n\n\n\n\n\n\n\n\n\n2000 W Wadley Ave\, Midland\, TX\, United States\, Texas 79705\n\n\n\n\n\n\n\n\n\n\n\n\n\nPublic  · Anyone on or off Facebook\n\n\n\n\n\n\n\nThe performance of Bonnie & Clyde: The Musical is directed by Ben Spencer and will open at the Mabee Theatre II on September 5th\, 2025.\nAmerica’s most notorious lovers and bank robbers take the country by storm in this sexy and compelling adventure.\n**Discretion is advised for depictions of prison content and violence\nTickets open to Members on August 17th (become a member today at mctmidland.org)\nTickets open to the public on August 24th\nPay-What-You-Can Performance on Sunday\, September 14th\, 2025
URL:https://odessaarts.org/event/the-performance-of-bonnie-clyde-the-musical-is-directed-by-ben-spencer/
LOCATION:Midland Community Theatre\, 2000 W. Wadley\, Midland\, 79705\, United States
CATEGORIES:Theatre & Literary Arts
END:VEVENT
END:VCALENDAR