BEGIN:VCALENDAR
VERSION:2.0
PRODID:-//Odessa Arts - ECPv6.15.20//NONSGML v1.0//EN
CALSCALE:GREGORIAN
METHOD:PUBLISH
X-WR-CALNAME:Odessa Arts
X-ORIGINAL-URL:https://odessaarts.org
X-WR-CALDESC:Events for Odessa Arts
REFRESH-INTERVAL;VALUE=DURATION:PT1H
X-Robots-Tag:noindex
X-PUBLISHED-TTL:PT1H
BEGIN:VTIMEZONE
TZID:America/Chicago
BEGIN:DAYLIGHT
TZOFFSETFROM:-0600
TZOFFSETTO:-0500
TZNAME:CDT
DTSTART:20240310T080000
END:DAYLIGHT
BEGIN:STANDARD
TZOFFSETFROM:-0500
TZOFFSETTO:-0600
TZNAME:CST
DTSTART:20241103T070000
END:STANDARD
BEGIN:DAYLIGHT
TZOFFSETFROM:-0600
TZOFFSETTO:-0500
TZNAME:CDT
DTSTART:20250309T080000
END:DAYLIGHT
BEGIN:STANDARD
TZOFFSETFROM:-0500
TZOFFSETTO:-0600
TZNAME:CST
DTSTART:20251102T070000
END:STANDARD
BEGIN:DAYLIGHT
TZOFFSETFROM:-0600
TZOFFSETTO:-0500
TZNAME:CDT
DTSTART:20260308T080000
END:DAYLIGHT
BEGIN:STANDARD
TZOFFSETFROM:-0500
TZOFFSETTO:-0600
TZNAME:CST
DTSTART:20261101T070000
END:STANDARD
END:VTIMEZONE
BEGIN:VEVENT
DTSTART;TZID=America/Chicago:20251006T180000
DTEND;TZID=America/Chicago:20251006T180000
DTSTAMP:20260424T101323
CREATED:20250911T164022Z
LAST-MODIFIED:20250911T164022Z
UID:76754-1759773600-1759773600@odessaarts.org
SUMMARY:Sesame Street LIVE! Elmo & Friends Say Hello
DESCRIPTION:Elmo\, Abby Cadabby\, Cookie Monster\, and their friends from Sesame Street are coming to your neighborhood to say hello! In Sesame Street Live! Say Hello\, you can sing and dance with your favorite furry friends while enjoying fun surprises along the way. So put on your dancing shoes and make your way to where the air is sweet for this all-new celebration on Sesame Street!
URL:https://odessaarts.org/event/sesame-street-live-elmo-friends-say-hello/
LOCATION:Wagner Noël Performing Arts Center\, 1310 FM 1788\, Midland\, Texas
CATEGORIES:Humanities,Music,Theatre & Literary Arts,Visual Arts
END:VEVENT
END:VCALENDAR