BEGIN:VCALENDAR
VERSION:2.0
PRODID:-//Odessa Arts - ECPv6.15.20//NONSGML v1.0//EN
CALSCALE:GREGORIAN
METHOD:PUBLISH
X-WR-CALNAME:Odessa Arts
X-ORIGINAL-URL:https://odessaarts.org
X-WR-CALDESC:Events for Odessa Arts
REFRESH-INTERVAL;VALUE=DURATION:PT1H
X-Robots-Tag:noindex
X-PUBLISHED-TTL:PT1H
BEGIN:VTIMEZONE
TZID:America/Chicago
BEGIN:DAYLIGHT
TZOFFSETFROM:-0600
TZOFFSETTO:-0500
TZNAME:CDT
DTSTART:20240310T080000
END:DAYLIGHT
BEGIN:STANDARD
TZOFFSETFROM:-0500
TZOFFSETTO:-0600
TZNAME:CST
DTSTART:20241103T070000
END:STANDARD
BEGIN:DAYLIGHT
TZOFFSETFROM:-0600
TZOFFSETTO:-0500
TZNAME:CDT
DTSTART:20250309T080000
END:DAYLIGHT
BEGIN:STANDARD
TZOFFSETFROM:-0500
TZOFFSETTO:-0600
TZNAME:CST
DTSTART:20251102T070000
END:STANDARD
BEGIN:DAYLIGHT
TZOFFSETFROM:-0600
TZOFFSETTO:-0500
TZNAME:CDT
DTSTART:20260308T080000
END:DAYLIGHT
BEGIN:STANDARD
TZOFFSETFROM:-0500
TZOFFSETTO:-0600
TZNAME:CST
DTSTART:20261101T070000
END:STANDARD
END:VTIMEZONE
BEGIN:VEVENT
DTSTART;TZID=America/Chicago:20251019T190000
DTEND;TZID=America/Chicago:20251019T213000
DTSTAMP:20260424T115530
CREATED:20250724T173925Z
LAST-MODIFIED:20250724T194840Z
UID:76480-1760900400-1760909400@odessaarts.org
SUMMARY:TINA – The Tina Turner Musical
DESCRIPTION:An uplifting comeback story like no other\, TINA – The Tina Turner Musical is the inspiring journey of a woman who broke barriers and became the Queen of Rock n’ Roll.  Set to the pulse-pounding soundtrack of her most beloved hits\, this electrifying sensation will send you soaring to the rafters. \nOne of the world’s best-selling artists of all time\, Tina Turner won 12 Grammy Awards and her live shows were seen by millions\, with more concert tickets sold than any other solo performer in music history. \nFeaturing her much loved songs\, TINA – The Tina Turner Musical is written by Pulitzer Prize-winning playwright Katori Hall.
URL:https://odessaarts.org/event/tina-the-tina-turner-musical/
LOCATION:Wagner Noël Performing Arts Center\, 1310 FM 1788\, Midland\, Texas
CATEGORIES:Theatre & Literary Arts
END:VEVENT
END:VCALENDAR