BEGIN:VCALENDAR
VERSION:2.0
PRODID:-//Odessa Arts - ECPv6.15.20//NONSGML v1.0//EN
CALSCALE:GREGORIAN
METHOD:PUBLISH
X-ORIGINAL-URL:https://odessaarts.org
X-WR-CALDESC:Events for Odessa Arts
REFRESH-INTERVAL;VALUE=DURATION:PT1H
X-Robots-Tag:noindex
X-PUBLISHED-TTL:PT1H
BEGIN:VTIMEZONE
TZID:America/Chicago
BEGIN:DAYLIGHT
TZOFFSETFROM:-0600
TZOFFSETTO:-0500
TZNAME:CDT
DTSTART:20240310T080000
END:DAYLIGHT
BEGIN:STANDARD
TZOFFSETFROM:-0500
TZOFFSETTO:-0600
TZNAME:CST
DTSTART:20241103T070000
END:STANDARD
BEGIN:DAYLIGHT
TZOFFSETFROM:-0600
TZOFFSETTO:-0500
TZNAME:CDT
DTSTART:20250309T080000
END:DAYLIGHT
BEGIN:STANDARD
TZOFFSETFROM:-0500
TZOFFSETTO:-0600
TZNAME:CST
DTSTART:20251102T070000
END:STANDARD
BEGIN:DAYLIGHT
TZOFFSETFROM:-0600
TZOFFSETTO:-0500
TZNAME:CDT
DTSTART:20260308T080000
END:DAYLIGHT
BEGIN:STANDARD
TZOFFSETFROM:-0500
TZOFFSETTO:-0600
TZNAME:CST
DTSTART:20261101T070000
END:STANDARD
END:VTIMEZONE
BEGIN:VEVENT
DTSTART;TZID=America/Chicago:20251119T110000
DTEND;TZID=America/Chicago:20251119T113000
DTSTAMP:20260424T070513
CREATED:20250304T182844Z
LAST-MODIFIED:20250304T182844Z
UID:75650-1763550000-1763551800@odessaarts.org
SUMMARY:Toddler Tales Storytime - CENTENNIAL
DESCRIPTION:Fun ways to help support toddlers’ developing literacy and cognitive growth by incorporating action rhymes\, songs\, and movement. Child must have an accompanying adult. Ages 3-5.
URL:https://odessaarts.org/event/toddler-tales-storytime-centennial-5/2025-11-19/
LOCATION:Midland County Library – Centennial Branch\, 2503 Loop 250 Frontage Rd.\, Midland\, TX\, 79705\, United States
CATEGORIES:Humanities,Theatre & Literary Arts
END:VEVENT
BEGIN:VEVENT
DTSTART;TZID=America/Chicago:20251119T110000
DTEND;TZID=America/Chicago:20251119T113000
DTSTAMP:20260424T070513
CREATED:20250304T183001Z
LAST-MODIFIED:20250304T183001Z
UID:75692-1763550000-1763551800@odessaarts.org
SUMMARY:Toddler Tales Storytime - DOWNTOWN
DESCRIPTION:Fun ways to help support toddlers’ developing literacy and cognitive growth by incorporating action rhymes\, songs\, and movement. Child must have an accompanying adult. Ages 3-5.
URL:https://odessaarts.org/event/toddler-tales-storytime-downtown-5/2025-11-19/
LOCATION:Midland Library at the Plaza (Downtown)\, 301 W. Missouri Ave.\, Midland\, TX\, 79701\, United States
CATEGORIES:Humanities,Theatre & Literary Arts
END:VEVENT
BEGIN:VEVENT
DTSTART;TZID=America/Chicago:20251119T130000
DTEND;TZID=America/Chicago:20251119T140000
DTSTAMP:20260424T070513
CREATED:20250911T190952Z
LAST-MODIFIED:20250911T190952Z
UID:76810-1763557200-1763560800@odessaarts.org
SUMMARY:Art Tales: Home
DESCRIPTION:Join us at the Ellen Noël Art Museum for a delightful event tailored for art-loving preschoolers aged 3-5 and their grown-ups. At 1:00 PM\, we invite you to immerse yourselves in a beautifully illustrated story and a fun art activity. This free event offers an engaging children’s story followed by a hands-on art project related to the tale. \nOur featured book for this session is Home by Carson Ellis. Young attendees will be entertained by an imaginative book about the the many possibilities of home. After the story\, children will participate in an art activity inspired by the adventures. It’s a wonderful opportunity to foster a love of reading and creativity in young children while spending quality time together. We look forward to welcoming you and your little artists to the museum for this fun and inspiring event!
URL:https://odessaarts.org/event/art-tales-home/
LOCATION:Ellen Noel Art Museum\, 4909 E. University\, Odessa\, TX\, 79762\, United States
CATEGORIES:Humanities,Museum,Theatre & Literary Arts,Visual Arts
END:VEVENT
BEGIN:VEVENT
DTSTART;TZID=America/Chicago:20251119T180000
DTEND;TZID=America/Chicago:20251119T180000
DTSTAMP:20260424T070513
CREATED:20251110T222035Z
LAST-MODIFIED:20251110T222035Z
UID:76984-1763575200-1763575200@odessaarts.org
SUMMARY:NUTCRACKER! MAGICAL CHRISTMAS BALLET 2025
DESCRIPTION:NUTCRACKER! MAGICAL CHRISTMAS BALLET 2025\n\n\nWagner Noël Performing Arts Center\n\n   November 19\, 2025 7:00 PM\nDoors Open: 6:00 PM\n\n\n\n\n\n\nBRAND NEW MAP Stage is now located at the top of this map\n\n\n\nTICKET PRICES $95.79 – $44.29\nAll In Pricing Includes Convenience Fees\nReserved Seating \nGROUP (10+)  $112.27 – $37.08\nAll In Pricing Includes Convenience Fees\n**Group rate not applicable to Platinum Package \n\nVIP PACKAGES AVAILABLE – $197.76 – $141.11\nAll In Pricing Includes Convenience Fees\nVIP SALES HAVE ENDED\n(See Descriptions below)\n 
URL:https://odessaarts.org/event/nutcracker-magical-christmas-ballet-2025/
LOCATION:Wagner Noël Performing Arts Center\, 1310 FM 1788\, Midland\, Texas
CATEGORIES:Theatre & Literary Arts
END:VEVENT
BEGIN:VEVENT
DTSTART;TZID=America/Chicago:20251119T190000
DTEND;TZID=America/Chicago:20251119T190000
DTSTAMP:20260424T070513
CREATED:20250911T170726Z
LAST-MODIFIED:20250911T170726Z
UID:76768-1763578800-1763578800@odessaarts.org
SUMMARY:Nutcracker! Magical Christmas Ballet
DESCRIPTION:Share the joy of NUTCRACKER! Magical Christmas Ballet with family and friends. Give the gift of a spectacular holiday experience featuring an international cast\, whimsical puppetry and opulent costumes and sets\, hand-crafted by the finest artisans of Europe. Go back to a simpler time and make memories your family will cherish forever. Celebrate the season with America’s most beloved Nutcracker tradition! Tchaikovsky’s timeless score sets the stage for a Christmas your family will never forget. Get tickets today! \n 
URL:https://odessaarts.org/event/nutcracker-magical-christmas-ballet-3/
LOCATION:Wagner Noël Performing Arts Center\, 1310 FM 1788\, Midland\, Texas
CATEGORIES:Humanities,Music,Public Art,Theatre & Literary Arts,Visual Arts
END:VEVENT
END:VCALENDAR