BEGIN:VCALENDAR
VERSION:2.0
PRODID:-//Odessa Arts - ECPv6.15.20//NONSGML v1.0//EN
CALSCALE:GREGORIAN
METHOD:PUBLISH
X-ORIGINAL-URL:https://odessaarts.org
X-WR-CALDESC:Events for Odessa Arts
REFRESH-INTERVAL;VALUE=DURATION:PT1H
X-Robots-Tag:noindex
X-PUBLISHED-TTL:PT1H
BEGIN:VTIMEZONE
TZID:America/Chicago
BEGIN:DAYLIGHT
TZOFFSETFROM:-0600
TZOFFSETTO:-0500
TZNAME:CDT
DTSTART:20240310T080000
END:DAYLIGHT
BEGIN:STANDARD
TZOFFSETFROM:-0500
TZOFFSETTO:-0600
TZNAME:CST
DTSTART:20241103T070000
END:STANDARD
BEGIN:DAYLIGHT
TZOFFSETFROM:-0600
TZOFFSETTO:-0500
TZNAME:CDT
DTSTART:20250309T080000
END:DAYLIGHT
BEGIN:STANDARD
TZOFFSETFROM:-0500
TZOFFSETTO:-0600
TZNAME:CST
DTSTART:20251102T070000
END:STANDARD
BEGIN:DAYLIGHT
TZOFFSETFROM:-0600
TZOFFSETTO:-0500
TZNAME:CDT
DTSTART:20260308T080000
END:DAYLIGHT
BEGIN:STANDARD
TZOFFSETFROM:-0500
TZOFFSETTO:-0600
TZNAME:CST
DTSTART:20261101T070000
END:STANDARD
END:VTIMEZONE
BEGIN:VEVENT
DTSTART;TZID=America/Chicago:20251122T190000
DTEND;TZID=America/Chicago:20251122T203000
DTSTAMP:20260424T070518
CREATED:20250924T163812Z
LAST-MODIFIED:20250924T163812Z
UID:76883-1763838000-1763843400@odessaarts.org
SUMMARY:Odessa Shakespeare Festival- Julius Caesar
DESCRIPTION:Experience Julius Caesar like never before as the Texas Shakespeare Festival brings this gripping political tragedy to life at the historic Globe Theatre at Odessa College. \nA highlight of the 2025 Odessa Shakespeare Festival\, this live performance takes place in a venue unlike any other—a faithful replica of William Shakespeare’s original 1599 Globe Theatre. \nSet in ancient Rome\, Julius Caesar explores themes of ambition\, loyalty\, and betrayal as senators plot to assassinate Caesar to save the republic\, only to unleash chaos and civil war. The play’s iconic lines\, moral complexity\, and dramatic intensity remain strikingly relevant today. This is a rare opportunity to witness professional Shakespearean theatre in an authentic setting that evokes the experience of 16th-century London. \nThis is your chance to see one of the Bard’s most powerful works performed by some of Texas’s finest classical actors\, live and on stage\, where Shakespeare himself would feel right at home.
URL:https://odessaarts.org/event/odessa-shakespeare-festival-julius-caesar/
LOCATION:The Globe of the Great Southwest\, 2308 Shakespeare Road\, Odessa\, TX\, 79761\, United States
CATEGORIES:Humanities,Museum,Music,Public Art,Theatre & Literary Arts
END:VEVENT
END:VCALENDAR