BEGIN:VCALENDAR
VERSION:2.0
PRODID:-//Odessa Arts - ECPv6.15.20//NONSGML v1.0//EN
CALSCALE:GREGORIAN
METHOD:PUBLISH
X-ORIGINAL-URL:https://odessaarts.org
X-WR-CALDESC:Events for Odessa Arts
REFRESH-INTERVAL;VALUE=DURATION:PT1H
X-Robots-Tag:noindex
X-PUBLISHED-TTL:PT1H
BEGIN:VTIMEZONE
TZID:America/Chicago
BEGIN:DAYLIGHT
TZOFFSETFROM:-0600
TZOFFSETTO:-0500
TZNAME:CDT
DTSTART:20250309T080000
END:DAYLIGHT
BEGIN:STANDARD
TZOFFSETFROM:-0500
TZOFFSETTO:-0600
TZNAME:CST
DTSTART:20251102T070000
END:STANDARD
BEGIN:DAYLIGHT
TZOFFSETFROM:-0600
TZOFFSETTO:-0500
TZNAME:CDT
DTSTART:20260308T080000
END:DAYLIGHT
BEGIN:STANDARD
TZOFFSETFROM:-0500
TZOFFSETTO:-0600
TZNAME:CST
DTSTART:20261101T070000
END:STANDARD
BEGIN:DAYLIGHT
TZOFFSETFROM:-0600
TZOFFSETTO:-0500
TZNAME:CDT
DTSTART:20270314T080000
END:DAYLIGHT
BEGIN:STANDARD
TZOFFSETFROM:-0500
TZOFFSETTO:-0600
TZNAME:CST
DTSTART:20271107T070000
END:STANDARD
END:VTIMEZONE
BEGIN:VEVENT
DTSTART;TZID=America/Chicago:20260322T140000
DTEND;TZID=America/Chicago:20260322T153000
DTSTAMP:20260425T065331
CREATED:20260320T202647Z
LAST-MODIFIED:20260320T202647Z
UID:78457-1774188000-1774193400@odessaarts.org
SUMMARY:Laundry and Bourbon
DESCRIPTION:Fort Stockton Community Theatre is currently in production of Laundry and Bourbon\, a play by James McLure\, to be performed for competition in Theatre Network of Texas’ (TNT) TEXFest. Following competition\, Laundry and Bourbon will be staged for local audiences at the Nelson Street Theatre March 20-22\, 2026. \nFriday\, March 20th – 7:00 p.m. – Opening Performance \nSaturday\, March 21st – 7:00 p.m. – Performance\, followed with a light snack reception hosted by FSCT’s Board of Directors \nSunday\, March 22nd – 2:00 p.m. – Matinee \nDoors will open 30 minutes prior to each performance. \nABOUT THE SHOW: On a hot summer afternoon in Maynard\, Texas\, Elizabeth and her friend Hattie sit out on the front porch folding laundry\, watching TV\, sipping bourbon and Coke\, and gossiping about small-town secrets.  They are joined by the self-righteous Amy Lee who can’t resist blurting out that Elizabeth’s husband Roy has been seen around town with another woman. While the ensuing conversation is increasingly edged with bitter humor\, from it emerges a sense of Elizabeth’s inner strength and her quiet understanding of the turmoil which has beset her husband since his return from Vietnam. \nLaundry and Bourbon stars Kendra Gray-Reed as Elizabeth Caulder\, Staci Schoenfeldt as Hattie Dealing\, and Penny Smith as Amy Lee Fullernoy. \nTickets are $10.00 for Adults and $5.00 for Seniors (65+} and Students \nAdvanced tickets may be purchased online.
URL:https://odessaarts.org/event/laundry-and-bourbon/2026-03-22/
LOCATION:Nelson Street Theatre
CATEGORIES:Theatre & Literary Arts
END:VEVENT
BEGIN:VEVENT
DTSTART;TZID=America/Chicago:20260322T143000
DTEND;TZID=America/Chicago:20260322T160000
DTSTAMP:20260425T065331
CREATED:20260320T215300Z
LAST-MODIFIED:20260320T215300Z
UID:78462-1774189800-1774195200@odessaarts.org
SUMMARY:Sawyer/Finn
DESCRIPTION:Original play Sawyer/Finn written by our Associate Artistic Director A Chris Barton. Sawyer/Finn will take the beloved Mark Twain characters\, and see how these two boys brought up in different backgrounds become the best of friends\, and consequently American Legends. \n\n\n\n\n\n\n\n Current Performance Dates are as follows; Fridays and Saturdays at 7:30 PM and Sundays at 2:30 Pm \nMarch \nFri 20 | Sat 21 | Sun 22 \nFri 27 | Sat 28 | Sun 29 \nApril \nFri 3 | Sat 4
URL:https://odessaarts.org/event/sawyer-finn/2026-03-22/
LOCATION:Midland Community Theatre\, 2000 W. Wadley\, Midland\, 79705\, United States
CATEGORIES:Theatre & Literary Arts
END:VEVENT
BEGIN:VEVENT
DTSTART;TZID=America/Chicago:20260322T190000
DTEND;TZID=America/Chicago:20260322T190000
DTSTAMP:20260425T065331
CREATED:20260202T205630Z
LAST-MODIFIED:20260202T205819Z
UID:77735-1774206000-1774206000@odessaarts.org
SUMMARY:The Next Generation Leahy
DESCRIPTION:As with all forces of nature\, the music and energy created by The Next Generation Leahy simply cannot be contained. The drive to create music is powerful within each of the Leahy children. It has given rise to multi-instrumental talents\, whose dynamic live performances have been described as “astounding” and “breath-taking.” \nFor the last several years\, Next Generation Leahy has performed across North America\, and shared the stage with the likes of The Chieftains\, We Banjo 3\, The Tenors\, and Natalie MacMaster & Donnell Leahy. With one CD under their belt\, they are working on new material for a new CD to be released in 2019. \nBelying their young ages\, these siblings are all accomplished multi-instrumentalists whose live performances are filled with the high-energy\, infectious music associated with the Leahy name. However\, not content to play only the music of their Celtic heritage\, these musicians explore many genres of music and pull influences from far and wide. Fiddle\, cello\, French accordion\, singing\, piano\, and French-Canadian step-dancing serve to bring their unique style of music to life. \nThe music that lives in each of these young people – which is so joyful\, so positive\, and so rare – overflows from them and affects audiences who have witnessed something truly unique and remarkable.
URL:https://odessaarts.org/event/the-next-generation-leahy/
LOCATION:Wagner Noël Performing Arts Center\, 1310 FM 1788\, Midland\, Texas
CATEGORIES:Music,Theatre & Literary Arts
END:VEVENT
BEGIN:VEVENT
DTSTART;TZID=America/Chicago:20260325T100000
DTEND;TZID=America/Chicago:20260325T113000
DTSTAMP:20260425T065331
CREATED:20260218T202240Z
LAST-MODIFIED:20260218T202240Z
UID:78042-1774432800-1774438200@odessaarts.org
SUMMARY:Storytime and Crafts: Pigs
DESCRIPTION:March 25 @ 10:00 am – 11:30 am\n\n\n\nOink\, oink\, oink\, there were three little pigs\, right? But learn about what pigs not chased by the big bad wolf are up to in storytime today. \nOink\, oink\, oink\, había tres cerditos\, ¿verdad? Pero hoy\, en la hora del cuento\, descubriremos qué hacen los cerdos que no son perseguidos por el lobo feroz.
URL:https://odessaarts.org/event/storytime-and-crafts-pigs/
LOCATION:Ector County Library
CATEGORIES:Theatre & Literary Arts
END:VEVENT
BEGIN:VEVENT
DTSTART;TZID=America/Chicago:20260325T110000
DTEND;TZID=America/Chicago:20260325T113000
DTSTAMP:20260425T065331
CREATED:20250304T182844Z
LAST-MODIFIED:20250304T182844Z
UID:78191-1774436400-1774438200@odessaarts.org
SUMMARY:Toddler Tales Storytime - CENTENNIAL
DESCRIPTION:Fun ways to help support toddlers’ developing literacy and cognitive growth by incorporating action rhymes\, songs\, and movement. Child must have an accompanying adult. Ages 3-5.
URL:https://odessaarts.org/event/toddler-tales-storytime-centennial-5/2026-03-25/
LOCATION:Midland County Library – Centennial Branch\, 2503 Loop 250 Frontage Rd.\, Midland\, TX\, 79705\, United States
CATEGORIES:Humanities,Theatre & Literary Arts
END:VEVENT
BEGIN:VEVENT
DTSTART;TZID=America/Chicago:20260325T110000
DTEND;TZID=America/Chicago:20260325T113000
DTSTAMP:20260425T065331
CREATED:20250304T183001Z
LAST-MODIFIED:20250304T183001Z
UID:75710-1774436400-1774438200@odessaarts.org
SUMMARY:Toddler Tales Storytime - DOWNTOWN
DESCRIPTION:Fun ways to help support toddlers’ developing literacy and cognitive growth by incorporating action rhymes\, songs\, and movement. Child must have an accompanying adult. Ages 3-5.
URL:https://odessaarts.org/event/toddler-tales-storytime-downtown-5/2026-03-25/
LOCATION:Midland Library at the Plaza (Downtown)\, 301 W. Missouri Ave.\, Midland\, TX\, 79701\, United States
CATEGORIES:Humanities,Theatre & Literary Arts
END:VEVENT
BEGIN:VEVENT
DTSTART;TZID=America/Chicago:20260325T163000
DTEND;TZID=America/Chicago:20260325T173000
DTSTAMP:20260425T065331
CREATED:20260219T150708Z
LAST-MODIFIED:20260219T150708Z
UID:78046-1774456200-1774459800@odessaarts.org
SUMMARY:Sensory Friendly Storytime
DESCRIPTION:March 25 @ 4:30 pm – 5:30 pm\n\n\n\nHave a child that finds big storytimes overwhelming? Join us for Sensory Friendly Storytime where we read a few books\, sing a few songs\, and get to play with the sensory bins or make a craft.\n¿Tienes un hijo al que le resultan abrumadoras las sesiones de cuentacuentos multitudinarias? Únete a nuestra sesión de cuentacuentos adaptada a personas con sensibilidad sensorial\, donde leeremos algunos libros\, cantaremos algunas canciones y podremos jugar con materiales sensoriales o hacer manualidades.
URL:https://odessaarts.org/event/sensory-friendly-storytime-7/
LOCATION:Ector County Library
CATEGORIES:Theatre & Literary Arts
END:VEVENT
BEGIN:VEVENT
DTSTART;TZID=America/Chicago:20260326T100000
DTEND;TZID=America/Chicago:20260430T110000
DTSTAMP:20260425T065331
CREATED:20260219T150926Z
LAST-MODIFIED:20260219T150926Z
UID:78048-1774519200-1777546800@odessaarts.org
SUMMARY:Books and Babies
DESCRIPTION:March 26 @ 10:00 am – April 30 @ 11:00 am\n\n\n\n\nBundle up your little tikes amd bring them to Books and Babies where we read a couple of books\, sing songs\, and get to play in the baby play room.\n\n\nAbriga bien a tus pequeños y tráelos a Books and Babies\, donde leeremos un par de libros\, cantaremos canciones y podrán jugar en la sala de juegos para bebés.
URL:https://odessaarts.org/event/books-and-babies-10/
LOCATION:Ector County Library
CATEGORIES:Theatre & Literary Arts
END:VEVENT
BEGIN:VEVENT
DTSTART;TZID=America/Chicago:20260326T160000
DTEND;TZID=America/Chicago:20260326T170000
DTSTAMP:20260425T065331
CREATED:20260219T151058Z
LAST-MODIFIED:20260219T151058Z
UID:78050-1774540800-1774544400@odessaarts.org
SUMMARY:Read to Felix
DESCRIPTION:March 26 @ 4:00 pm – 5:00 pm\n\n\n\nFelix will be in the Children’s Department from 4-5 today\, waiting to hear stories and get ear scritches. \nFelix estará en la sección infantil de 4 a 5 de la tarde de hoy\, esperando que le cuenten cuentos y le acaricien las orejas.
URL:https://odessaarts.org/event/read-to-felix-20/
LOCATION:Ector County Library
CATEGORIES:Theatre & Literary Arts
END:VEVENT
BEGIN:VEVENT
DTSTART;TZID=America/Chicago:20260327T193000
DTEND;TZID=America/Chicago:20260327T210000
DTSTAMP:20260425T065331
CREATED:20260320T215300Z
LAST-MODIFIED:20260320T215300Z
UID:78463-1774639800-1774645200@odessaarts.org
SUMMARY:Sawyer/Finn
DESCRIPTION:Original play Sawyer/Finn written by our Associate Artistic Director A Chris Barton. Sawyer/Finn will take the beloved Mark Twain characters\, and see how these two boys brought up in different backgrounds become the best of friends\, and consequently American Legends. \n\n\n\n\n\n\n\n Current Performance Dates are as follows; Fridays and Saturdays at 7:30 PM and Sundays at 2:30 Pm \nMarch \nFri 20 | Sat 21 | Sun 22 \nFri 27 | Sat 28 | Sun 29 \nApril \nFri 3 | Sat 4
URL:https://odessaarts.org/event/sawyer-finn/2026-03-27/
LOCATION:Midland Community Theatre\, 2000 W. Wadley\, Midland\, 79705\, United States
CATEGORIES:Theatre & Literary Arts
END:VEVENT
BEGIN:VEVENT
DTSTART;TZID=America/Chicago:20260328T073000
DTEND;TZID=America/Chicago:20260329T193000
DTSTAMP:20260425T065331
CREATED:20260209T222608Z
LAST-MODIFIED:20260209T222608Z
UID:77876-1774683000-1774812600@odessaarts.org
SUMMARY:Aladdin and the Magic Carpet - Midland Festival Ballet
DESCRIPTION:Aladdin and the Magic Carpet\nACCOMPANIED BY THE WEST TEXAS SYMPHONY\nMarch 28 & 29\, 2026\nat the Wagner Noël Performing Arts Center\nCome see the story you know and love told in a whole new way.\nWith flying dancers\, animated backdrops\, live orchestra\, and over 140 costumes\nit’s sure to lift you out of your seat.
URL:https://odessaarts.org/event/aladdin-and-the-magic-carpet-midland-festival-ballet/
LOCATION:Wagner Noël Performing Arts Center\, 1310 FM 1788\, Midland\, Texas
CATEGORIES:Theatre & Literary Arts
END:VEVENT
BEGIN:VEVENT
DTSTART;TZID=America/Chicago:20260328T193000
DTEND;TZID=America/Chicago:20260328T210000
DTSTAMP:20260425T065331
CREATED:20260320T215300Z
LAST-MODIFIED:20260320T215300Z
UID:78464-1774726200-1774731600@odessaarts.org
SUMMARY:Sawyer/Finn
DESCRIPTION:Original play Sawyer/Finn written by our Associate Artistic Director A Chris Barton. Sawyer/Finn will take the beloved Mark Twain characters\, and see how these two boys brought up in different backgrounds become the best of friends\, and consequently American Legends. \n\n\n\n\n\n\n\n Current Performance Dates are as follows; Fridays and Saturdays at 7:30 PM and Sundays at 2:30 Pm \nMarch \nFri 20 | Sat 21 | Sun 22 \nFri 27 | Sat 28 | Sun 29 \nApril \nFri 3 | Sat 4
URL:https://odessaarts.org/event/sawyer-finn/2026-03-28/
LOCATION:Midland Community Theatre\, 2000 W. Wadley\, Midland\, 79705\, United States
CATEGORIES:Theatre & Literary Arts
END:VEVENT
BEGIN:VEVENT
DTSTART;TZID=America/Chicago:20260328T193000
DTEND;TZID=America/Chicago:20260328T213000
DTSTAMP:20260425T065331
CREATED:20260114T184700Z
LAST-MODIFIED:20260202T210003Z
UID:77658-1774726200-1774733400@odessaarts.org
SUMMARY:Aladdin and the Magic Carpet: Presented by Midland Festival Ballet
DESCRIPTION:Come see the story you know and love told in a whole new way! With flying dancers\, animated backdrops\, live orchestra\, and over 140 costumes\, it’s sure to lift you out of your seat! \nThis ballet was many “firsts” for Midland Festival Ballet\, the most significant being it is the first full length ballet they created. Other exciting firsts included flying dancers and using digital projections as the backdrop. The result is a mesmerizing explosion of movement\, light and color unlike anything MFB had performed before. All that paired with the drama of live orchestral accompaniment made this\, without a doubt\, the largest collaborative project MFB had ever undertaken. And West Texans were the first to see it at the premiere performance here at the Wagner Noël Performing Arts Center in April 2022! Midland Festival Ballet is excited to bring it back. \nAccompanied by the West Texas Symphony.
URL:https://odessaarts.org/event/aladdin-and-the-magic-carpet-presented-by-midland-festival-ballet/2026-03-28/
LOCATION:Wagner Noël Performing Arts Center\, 1310 FM 1788\, Midland\, Texas
CATEGORIES:Theatre & Literary Arts
END:VEVENT
BEGIN:VEVENT
DTSTART;TZID=America/Chicago:20260329T140000
DTEND;TZID=America/Chicago:20260329T160000
DTSTAMP:20260425T065331
CREATED:20260114T184700Z
LAST-MODIFIED:20260202T210003Z
UID:77659-1774792800-1774800000@odessaarts.org
SUMMARY:Aladdin and the Magic Carpet: Presented by Midland Festival Ballet
DESCRIPTION:Come see the story you know and love told in a whole new way! With flying dancers\, animated backdrops\, live orchestra\, and over 140 costumes\, it’s sure to lift you out of your seat! \nThis ballet was many “firsts” for Midland Festival Ballet\, the most significant being it is the first full length ballet they created. Other exciting firsts included flying dancers and using digital projections as the backdrop. The result is a mesmerizing explosion of movement\, light and color unlike anything MFB had performed before. All that paired with the drama of live orchestral accompaniment made this\, without a doubt\, the largest collaborative project MFB had ever undertaken. And West Texans were the first to see it at the premiere performance here at the Wagner Noël Performing Arts Center in April 2022! Midland Festival Ballet is excited to bring it back. \nAccompanied by the West Texas Symphony.
URL:https://odessaarts.org/event/aladdin-and-the-magic-carpet-presented-by-midland-festival-ballet/2026-03-29/
LOCATION:Wagner Noël Performing Arts Center\, 1310 FM 1788\, Midland\, Texas
CATEGORIES:Theatre & Literary Arts
END:VEVENT
BEGIN:VEVENT
DTSTART;TZID=America/Chicago:20260329T143000
DTEND;TZID=America/Chicago:20260329T160000
DTSTAMP:20260425T065331
CREATED:20260320T215300Z
LAST-MODIFIED:20260320T215300Z
UID:78465-1774794600-1774800000@odessaarts.org
SUMMARY:Sawyer/Finn
DESCRIPTION:Original play Sawyer/Finn written by our Associate Artistic Director A Chris Barton. Sawyer/Finn will take the beloved Mark Twain characters\, and see how these two boys brought up in different backgrounds become the best of friends\, and consequently American Legends. \n\n\n\n\n\n\n\n Current Performance Dates are as follows; Fridays and Saturdays at 7:30 PM and Sundays at 2:30 Pm \nMarch \nFri 20 | Sat 21 | Sun 22 \nFri 27 | Sat 28 | Sun 29 \nApril \nFri 3 | Sat 4
URL:https://odessaarts.org/event/sawyer-finn/2026-03-29/
LOCATION:Midland Community Theatre\, 2000 W. Wadley\, Midland\, 79705\, United States
CATEGORIES:Theatre & Literary Arts
END:VEVENT
BEGIN:VEVENT
DTSTART;TZID=America/Chicago:20260331T193000
DTEND;TZID=America/Chicago:20260331T220000
DTSTAMP:20260425T065331
CREATED:20250724T202243Z
LAST-MODIFIED:20250724T202243Z
UID:76486-1774985400-1774994400@odessaarts.org
SUMMARY:SIX The Musical
DESCRIPTION:From Tudor Queens to Pop Icons\, the SIX wives of Henry VIII take the microphone to remix five hundred years of historical heartbreak into a Euphoric Celebration of 21st century girl power! This new original musical is the global sensation that everyone is losing their head over! \nThe New York Times says SIX “TOTALLY RULES!” (Critic’s Pick) and The Washington Post hails SIX as “Exactly the kind of energizing\, inspirational illumination this town aches for!” \nThe SIX: LIVE ON OPENING NIGHT Broadway album debuted at Number 1 on the Billboard cast album charts and surpassed one billion streams worldwide!
URL:https://odessaarts.org/event/six-the-musical/2026-03-31/
LOCATION:Wagner Noël Performing Arts Center\, 1310 FM 1788\, Midland\, Texas
CATEGORIES:Theatre & Literary Arts
END:VEVENT
BEGIN:VEVENT
DTSTART;TZID=America/Chicago:20260401T100000
DTEND;TZID=America/Chicago:20260401T223000
DTSTAMP:20260425T065331
CREATED:20260227T170937Z
LAST-MODIFIED:20260227T170937Z
UID:78135-1775037600-1775082600@odessaarts.org
SUMMARY:Art Tales: The Honeybee
DESCRIPTION:Art-loving preschoolers ages 3-5 and their grown-ups are invited to join us at the Museum for a beautifully illustrated story and art activity. Free!
URL:https://odessaarts.org/event/art-tales-the-honeybee/
LOCATION:Ellen Noel Art Museum\, 4909 E. University\, Odessa\, TX\, 79762\, United States
CATEGORIES:Museum,Theatre & Literary Arts
END:VEVENT
BEGIN:VEVENT
DTSTART;TZID=America/Chicago:20260401T110000
DTEND;TZID=America/Chicago:20260401T113000
DTSTAMP:20260425T065331
CREATED:20250304T182844Z
LAST-MODIFIED:20250304T182844Z
UID:78192-1775041200-1775043000@odessaarts.org
SUMMARY:Toddler Tales Storytime - CENTENNIAL
DESCRIPTION:Fun ways to help support toddlers’ developing literacy and cognitive growth by incorporating action rhymes\, songs\, and movement. Child must have an accompanying adult. Ages 3-5.
URL:https://odessaarts.org/event/toddler-tales-storytime-centennial-5/2026-04-01/
LOCATION:Midland County Library – Centennial Branch\, 2503 Loop 250 Frontage Rd.\, Midland\, TX\, 79705\, United States
CATEGORIES:Humanities,Theatre & Literary Arts
END:VEVENT
BEGIN:VEVENT
DTSTART;TZID=America/Chicago:20260401T110000
DTEND;TZID=America/Chicago:20260401T113000
DTSTAMP:20260425T065331
CREATED:20250304T183001Z
LAST-MODIFIED:20250304T183001Z
UID:75711-1775041200-1775043000@odessaarts.org
SUMMARY:Toddler Tales Storytime - DOWNTOWN
DESCRIPTION:Fun ways to help support toddlers’ developing literacy and cognitive growth by incorporating action rhymes\, songs\, and movement. Child must have an accompanying adult. Ages 3-5.
URL:https://odessaarts.org/event/toddler-tales-storytime-downtown-5/2026-04-01/
LOCATION:Midland Library at the Plaza (Downtown)\, 301 W. Missouri Ave.\, Midland\, TX\, 79701\, United States
CATEGORIES:Humanities,Theatre & Literary Arts
END:VEVENT
BEGIN:VEVENT
DTSTART;TZID=America/Chicago:20260401T193000
DTEND;TZID=America/Chicago:20260401T220000
DTSTAMP:20260425T065331
CREATED:20250724T202243Z
LAST-MODIFIED:20250724T202243Z
UID:76487-1775071800-1775080800@odessaarts.org
SUMMARY:SIX The Musical
DESCRIPTION:From Tudor Queens to Pop Icons\, the SIX wives of Henry VIII take the microphone to remix five hundred years of historical heartbreak into a Euphoric Celebration of 21st century girl power! This new original musical is the global sensation that everyone is losing their head over! \nThe New York Times says SIX “TOTALLY RULES!” (Critic’s Pick) and The Washington Post hails SIX as “Exactly the kind of energizing\, inspirational illumination this town aches for!” \nThe SIX: LIVE ON OPENING NIGHT Broadway album debuted at Number 1 on the Billboard cast album charts and surpassed one billion streams worldwide!
URL:https://odessaarts.org/event/six-the-musical/2026-04-01/
LOCATION:Wagner Noël Performing Arts Center\, 1310 FM 1788\, Midland\, Texas
CATEGORIES:Theatre & Literary Arts
END:VEVENT
BEGIN:VEVENT
DTSTART;TZID=America/Chicago:20260403T180000
DTEND;TZID=America/Chicago:20260403T210000
DTSTAMP:20260425T065331
CREATED:20260114T175014Z
LAST-MODIFIED:20260114T175034Z
UID:77582-1775239200-1775250000@odessaarts.org
SUMMARY:First Friday ODTX!
DESCRIPTION:First Friday ODTX is a monthly gathering every first Friday of the month for residents and visitors of downtown Odessa. Each month\, the streets are lively and colorful with music\, games\, and delicious food. There are unbeatable deals from local businesses and exciting opportunities to collect amazing giveaways. The event is open to all ages and caters to everyone’s interests. For music lovers\, there are live performances by local bands and artists\, while foodies can indulge in a diverse range of street eats. Downtown shops and eateries will offer special promotions. First Friday ODTX event brings vibrancy and community spirit to downtown Odessa\, making it the perfect place to spend a Friday evening.
URL:https://odessaarts.org/event/first-friday-6/2026-04-03/
LOCATION:Downtown Odessa\, 79761\, United States
CATEGORIES:Humanities,Music,Public Art,Theatre & Literary Arts,Visual Arts
END:VEVENT
BEGIN:VEVENT
DTSTART;TZID=America/Chicago:20260403T193000
DTEND;TZID=America/Chicago:20260403T210000
DTSTAMP:20260425T065331
CREATED:20260320T215300Z
LAST-MODIFIED:20260320T215300Z
UID:78466-1775244600-1775250000@odessaarts.org
SUMMARY:Sawyer/Finn
DESCRIPTION:Original play Sawyer/Finn written by our Associate Artistic Director A Chris Barton. Sawyer/Finn will take the beloved Mark Twain characters\, and see how these two boys brought up in different backgrounds become the best of friends\, and consequently American Legends. \n\n\n\n\n\n\n\n Current Performance Dates are as follows; Fridays and Saturdays at 7:30 PM and Sundays at 2:30 Pm \nMarch \nFri 20 | Sat 21 | Sun 22 \nFri 27 | Sat 28 | Sun 29 \nApril \nFri 3 | Sat 4
URL:https://odessaarts.org/event/sawyer-finn/2026-04-03/
LOCATION:Midland Community Theatre\, 2000 W. Wadley\, Midland\, 79705\, United States
CATEGORIES:Theatre & Literary Arts
END:VEVENT
BEGIN:VEVENT
DTSTART;TZID=America/Chicago:20260404T193000
DTEND;TZID=America/Chicago:20260404T210000
DTSTAMP:20260425T065331
CREATED:20260320T215300Z
LAST-MODIFIED:20260320T215300Z
UID:78467-1775331000-1775336400@odessaarts.org
SUMMARY:Sawyer/Finn
DESCRIPTION:Original play Sawyer/Finn written by our Associate Artistic Director A Chris Barton. Sawyer/Finn will take the beloved Mark Twain characters\, and see how these two boys brought up in different backgrounds become the best of friends\, and consequently American Legends. \n\n\n\n\n\n\n\n Current Performance Dates are as follows; Fridays and Saturdays at 7:30 PM and Sundays at 2:30 Pm \nMarch \nFri 20 | Sat 21 | Sun 22 \nFri 27 | Sat 28 | Sun 29 \nApril \nFri 3 | Sat 4
URL:https://odessaarts.org/event/sawyer-finn/2026-04-04/
LOCATION:Midland Community Theatre\, 2000 W. Wadley\, Midland\, 79705\, United States
CATEGORIES:Theatre & Literary Arts
END:VEVENT
BEGIN:VEVENT
DTSTART;TZID=America/Chicago:20260408T110000
DTEND;TZID=America/Chicago:20260408T113000
DTSTAMP:20260425T065331
CREATED:20250304T182844Z
LAST-MODIFIED:20250304T182844Z
UID:78193-1775646000-1775647800@odessaarts.org
SUMMARY:Toddler Tales Storytime - CENTENNIAL
DESCRIPTION:Fun ways to help support toddlers’ developing literacy and cognitive growth by incorporating action rhymes\, songs\, and movement. Child must have an accompanying adult. Ages 3-5.
URL:https://odessaarts.org/event/toddler-tales-storytime-centennial-5/2026-04-08/
LOCATION:Midland County Library – Centennial Branch\, 2503 Loop 250 Frontage Rd.\, Midland\, TX\, 79705\, United States
CATEGORIES:Humanities,Theatre & Literary Arts
END:VEVENT
BEGIN:VEVENT
DTSTART;TZID=America/Chicago:20260408T110000
DTEND;TZID=America/Chicago:20260408T113000
DTSTAMP:20260425T065331
CREATED:20250304T183001Z
LAST-MODIFIED:20250304T183001Z
UID:75712-1775646000-1775647800@odessaarts.org
SUMMARY:Toddler Tales Storytime - DOWNTOWN
DESCRIPTION:Fun ways to help support toddlers’ developing literacy and cognitive growth by incorporating action rhymes\, songs\, and movement. Child must have an accompanying adult. Ages 3-5.
URL:https://odessaarts.org/event/toddler-tales-storytime-downtown-5/2026-04-08/
LOCATION:Midland Library at the Plaza (Downtown)\, 301 W. Missouri Ave.\, Midland\, TX\, 79701\, United States
CATEGORIES:Humanities,Theatre & Literary Arts
END:VEVENT
BEGIN:VEVENT
DTSTART;TZID=America/Chicago:20260411T100000
DTEND;TZID=America/Chicago:20260411T100000
DTSTAMP:20260425T065331
CREATED:20260409T152029Z
LAST-MODIFIED:20260409T153433Z
UID:78541-1775901600-1775901600@odessaarts.org
SUMMARY:Morning Tales in the Garden
DESCRIPTION: 
URL:https://odessaarts.org/event/morning-tales-in-the-garden-2/
LOCATION:ECISD Development Office\, 619 W. 10th Street\, Odessa\, TX\, 79761\, United States
CATEGORIES:Theatre & Literary Arts
ORGANIZER;CN="Education Partnership of the Permian Basin":MAILTO:SHANNON.TORRES@EDUCATEPB.ORG
END:VEVENT
BEGIN:VEVENT
DTSTART;TZID=America/Chicago:20260415T100000
DTEND;TZID=America/Chicago:20260415T110000
DTSTAMP:20260425T065331
CREATED:20260227T174450Z
LAST-MODIFIED:20260227T174450Z
UID:78155-1776247200-1776250800@odessaarts.org
SUMMARY:Art Tales: Home
DESCRIPTION:Art-loving preschoolers ages 3-5 and their grown-ups are invited to join us at the Museum for a beautifully illustrated story and art activity. Free!
URL:https://odessaarts.org/event/art-tales-home-2/
LOCATION:Ellen Noel Art Museum\, 4909 E. University\, Odessa\, TX\, 79762\, United States
CATEGORIES:Museum,Theatre & Literary Arts
END:VEVENT
BEGIN:VEVENT
DTSTART;TZID=America/Chicago:20260415T110000
DTEND;TZID=America/Chicago:20260415T113000
DTSTAMP:20260425T065331
CREATED:20250304T182844Z
LAST-MODIFIED:20250304T182844Z
UID:78194-1776250800-1776252600@odessaarts.org
SUMMARY:Toddler Tales Storytime - CENTENNIAL
DESCRIPTION:Fun ways to help support toddlers’ developing literacy and cognitive growth by incorporating action rhymes\, songs\, and movement. Child must have an accompanying adult. Ages 3-5.
URL:https://odessaarts.org/event/toddler-tales-storytime-centennial-5/2026-04-15/
LOCATION:Midland County Library – Centennial Branch\, 2503 Loop 250 Frontage Rd.\, Midland\, TX\, 79705\, United States
CATEGORIES:Humanities,Theatre & Literary Arts
END:VEVENT
BEGIN:VEVENT
DTSTART;TZID=America/Chicago:20260415T110000
DTEND;TZID=America/Chicago:20260415T113000
DTSTAMP:20260425T065331
CREATED:20250304T183001Z
LAST-MODIFIED:20250304T183001Z
UID:75713-1776250800-1776252600@odessaarts.org
SUMMARY:Toddler Tales Storytime - DOWNTOWN
DESCRIPTION:Fun ways to help support toddlers’ developing literacy and cognitive growth by incorporating action rhymes\, songs\, and movement. Child must have an accompanying adult. Ages 3-5.
URL:https://odessaarts.org/event/toddler-tales-storytime-downtown-5/2026-04-15/
LOCATION:Midland Library at the Plaza (Downtown)\, 301 W. Missouri Ave.\, Midland\, TX\, 79701\, United States
CATEGORIES:Humanities,Theatre & Literary Arts
END:VEVENT
BEGIN:VEVENT
DTSTART;TZID=America/Chicago:20260415T180000
DTEND;TZID=America/Chicago:20260415T180000
DTSTAMP:20260425T065331
CREATED:20260202T210222Z
LAST-MODIFIED:20260202T210222Z
UID:77739-1776276000-1776276000@odessaarts.org
SUMMARY:Be Like Blippi Tour
DESCRIPTION:Get ready to see the world more curiously\, because Blippi is coming to your hometown in the all-new Be Like Blippi Tour! \nJoin Blippi and Meekah live on stage for a one-of-a-kind interactive adventure that inspires kids to move like\, play like\, and explore just like Blippi! \nThis brand-new show is packed with high-energy music and surprises\, featuring fan-favorite songs like “The Excavator Song\,” “Monster Truck\,” “Dino Dance\,” and “Curious Like Me.”  With Blippi’s signature mix of play\, learning\, and exploration\, families can get curious together while singing\, laughing\, and dancing along during this unforgettable adventure full of fun and discovery. \nThe Be Like Blippi Tour invites you to break out your orange Blippi glasses and ignite that spark of curiosity that lives inside every single one of us and share in an unforgettable experience that encourages kids to… Be Like Blippi!
URL:https://odessaarts.org/event/be-like-blippi-tour/
LOCATION:Wagner Noël Performing Arts Center\, 1310 FM 1788\, Midland\, Texas
CATEGORIES:Music,Theatre & Literary Arts
END:VEVENT
END:VCALENDAR