BEGIN:VCALENDAR
VERSION:2.0
PRODID:-//Odessa Arts - ECPv6.15.20//NONSGML v1.0//EN
CALSCALE:GREGORIAN
METHOD:PUBLISH
X-WR-CALNAME:Odessa Arts
X-ORIGINAL-URL:https://odessaarts.org
X-WR-CALDESC:Events for Odessa Arts
REFRESH-INTERVAL;VALUE=DURATION:PT1H
X-Robots-Tag:noindex
X-PUBLISHED-TTL:PT1H
BEGIN:VTIMEZONE
TZID:America/Chicago
BEGIN:DAYLIGHT
TZOFFSETFROM:-0600
TZOFFSETTO:-0500
TZNAME:CDT
DTSTART:20250309T080000
END:DAYLIGHT
BEGIN:STANDARD
TZOFFSETFROM:-0500
TZOFFSETTO:-0600
TZNAME:CST
DTSTART:20251102T070000
END:STANDARD
BEGIN:DAYLIGHT
TZOFFSETFROM:-0600
TZOFFSETTO:-0500
TZNAME:CDT
DTSTART:20260308T080000
END:DAYLIGHT
BEGIN:STANDARD
TZOFFSETFROM:-0500
TZOFFSETTO:-0600
TZNAME:CST
DTSTART:20261101T070000
END:STANDARD
BEGIN:DAYLIGHT
TZOFFSETFROM:-0600
TZOFFSETTO:-0500
TZNAME:CDT
DTSTART:20270314T080000
END:DAYLIGHT
BEGIN:STANDARD
TZOFFSETFROM:-0500
TZOFFSETTO:-0600
TZNAME:CST
DTSTART:20271107T070000
END:STANDARD
END:VTIMEZONE
BEGIN:VEVENT
DTSTART;TZID=America/Chicago:20260622T193000
DTEND;TZID=America/Chicago:20260622T210000
DTSTAMP:20260424T053821
CREATED:20250729T170905Z
LAST-MODIFIED:20250729T170905Z
UID:76503-1782156600-1782162000@odessaarts.org
SUMMARY:The Music Man
DESCRIPTION:There’s trouble in River City when a fast-talking salesman gets his heart stolen by the town librarian. Meredith Willson’s six-time\, Tony Award-winning musical comedy The Music Man follows fast-talking traveling salesman\, Harold Hill\, as he cons the people of River City\, Iowa\, into buying instruments and uniforms for a boys’ band that he vows to organize – this\, despite the fact that he doesn’t know a trombone from a treble clef. His plans to skip town with the cash are foiled when he falls for Marian\, the librarian\, who transforms him into a respectable citizen by curtain’s fall.  Featuring songs such as “Seventy-Six Trombones\,” “Trouble\,” “‘Til There Was You\,” “Pickalittle” and “Gary\, Indiana\,” The Music Man is a family-friendly story to be shared with every generation.
URL:https://odessaarts.org/event/the-music-man/
LOCATION:Wagner Noël Performing Arts Center\, 1310 FM 1788\, Midland\, Texas
CATEGORIES:Theatre & Literary Arts
END:VEVENT
BEGIN:VEVENT
DTSTART;TZID=America/Chicago:20260624T110000
DTEND;TZID=America/Chicago:20260624T113000
DTSTAMP:20260424T053821
CREATED:20250304T182844Z
LAST-MODIFIED:20250304T182844Z
UID:78204-1782298800-1782300600@odessaarts.org
SUMMARY:Toddler Tales Storytime - CENTENNIAL
DESCRIPTION:Fun ways to help support toddlers’ developing literacy and cognitive growth by incorporating action rhymes\, songs\, and movement. Child must have an accompanying adult. Ages 3-5.
URL:https://odessaarts.org/event/toddler-tales-storytime-centennial-5/2026-06-24/
LOCATION:Midland County Library – Centennial Branch\, 2503 Loop 250 Frontage Rd.\, Midland\, TX\, 79705\, United States
CATEGORIES:Humanities,Theatre & Literary Arts
END:VEVENT
BEGIN:VEVENT
DTSTART;TZID=America/Chicago:20260624T110000
DTEND;TZID=America/Chicago:20260624T113000
DTSTAMP:20260424T053821
CREATED:20250304T183001Z
LAST-MODIFIED:20250304T183001Z
UID:75723-1782298800-1782300600@odessaarts.org
SUMMARY:Toddler Tales Storytime - DOWNTOWN
DESCRIPTION:Fun ways to help support toddlers’ developing literacy and cognitive growth by incorporating action rhymes\, songs\, and movement. Child must have an accompanying adult. Ages 3-5.
URL:https://odessaarts.org/event/toddler-tales-storytime-downtown-5/2026-06-24/
LOCATION:Midland Library at the Plaza (Downtown)\, 301 W. Missouri Ave.\, Midland\, TX\, 79701\, United States
CATEGORIES:Humanities,Theatre & Literary Arts
END:VEVENT
BEGIN:VEVENT
DTSTART;TZID=America/Chicago:20260701T110000
DTEND;TZID=America/Chicago:20260701T113000
DTSTAMP:20260424T053821
CREATED:20250304T182844Z
LAST-MODIFIED:20250304T182844Z
UID:78205-1782903600-1782905400@odessaarts.org
SUMMARY:Toddler Tales Storytime - CENTENNIAL
DESCRIPTION:Fun ways to help support toddlers’ developing literacy and cognitive growth by incorporating action rhymes\, songs\, and movement. Child must have an accompanying adult. Ages 3-5.
URL:https://odessaarts.org/event/toddler-tales-storytime-centennial-5/2026-07-01/
LOCATION:Midland County Library – Centennial Branch\, 2503 Loop 250 Frontage Rd.\, Midland\, TX\, 79705\, United States
CATEGORIES:Humanities,Theatre & Literary Arts
END:VEVENT
BEGIN:VEVENT
DTSTART;TZID=America/Chicago:20260701T110000
DTEND;TZID=America/Chicago:20260701T113000
DTSTAMP:20260424T053821
CREATED:20250304T183001Z
LAST-MODIFIED:20250304T183001Z
UID:75724-1782903600-1782905400@odessaarts.org
SUMMARY:Toddler Tales Storytime - DOWNTOWN
DESCRIPTION:Fun ways to help support toddlers’ developing literacy and cognitive growth by incorporating action rhymes\, songs\, and movement. Child must have an accompanying adult. Ages 3-5.
URL:https://odessaarts.org/event/toddler-tales-storytime-downtown-5/2026-07-01/
LOCATION:Midland Library at the Plaza (Downtown)\, 301 W. Missouri Ave.\, Midland\, TX\, 79701\, United States
CATEGORIES:Humanities,Theatre & Literary Arts
END:VEVENT
BEGIN:VEVENT
DTSTART;TZID=America/Chicago:20260703T180000
DTEND;TZID=America/Chicago:20260703T210000
DTSTAMP:20260424T053821
CREATED:20260114T175014Z
LAST-MODIFIED:20260114T175034Z
UID:77585-1783101600-1783112400@odessaarts.org
SUMMARY:First Friday ODTX!
DESCRIPTION:First Friday ODTX is a monthly gathering every first Friday of the month for residents and visitors of downtown Odessa. Each month\, the streets are lively and colorful with music\, games\, and delicious food. There are unbeatable deals from local businesses and exciting opportunities to collect amazing giveaways. The event is open to all ages and caters to everyone’s interests. For music lovers\, there are live performances by local bands and artists\, while foodies can indulge in a diverse range of street eats. Downtown shops and eateries will offer special promotions. First Friday ODTX event brings vibrancy and community spirit to downtown Odessa\, making it the perfect place to spend a Friday evening.
URL:https://odessaarts.org/event/first-friday-6/2026-07-03/
LOCATION:Downtown Odessa\, 79761\, United States
CATEGORIES:Humanities,Music,Public Art,Theatre & Literary Arts,Visual Arts
END:VEVENT
BEGIN:VEVENT
DTSTART;TZID=America/Chicago:20260708T110000
DTEND;TZID=America/Chicago:20260708T113000
DTSTAMP:20260424T053821
CREATED:20250304T182844Z
LAST-MODIFIED:20250304T182844Z
UID:78206-1783508400-1783510200@odessaarts.org
SUMMARY:Toddler Tales Storytime - CENTENNIAL
DESCRIPTION:Fun ways to help support toddlers’ developing literacy and cognitive growth by incorporating action rhymes\, songs\, and movement. Child must have an accompanying adult. Ages 3-5.
URL:https://odessaarts.org/event/toddler-tales-storytime-centennial-5/2026-07-08/
LOCATION:Midland County Library – Centennial Branch\, 2503 Loop 250 Frontage Rd.\, Midland\, TX\, 79705\, United States
CATEGORIES:Humanities,Theatre & Literary Arts
END:VEVENT
BEGIN:VEVENT
DTSTART;TZID=America/Chicago:20260708T110000
DTEND;TZID=America/Chicago:20260708T113000
DTSTAMP:20260424T053821
CREATED:20250304T183001Z
LAST-MODIFIED:20250304T183001Z
UID:75725-1783508400-1783510200@odessaarts.org
SUMMARY:Toddler Tales Storytime - DOWNTOWN
DESCRIPTION:Fun ways to help support toddlers’ developing literacy and cognitive growth by incorporating action rhymes\, songs\, and movement. Child must have an accompanying adult. Ages 3-5.
URL:https://odessaarts.org/event/toddler-tales-storytime-downtown-5/2026-07-08/
LOCATION:Midland Library at the Plaza (Downtown)\, 301 W. Missouri Ave.\, Midland\, TX\, 79701\, United States
CATEGORIES:Humanities,Theatre & Literary Arts
END:VEVENT
BEGIN:VEVENT
DTSTART;TZID=America/Chicago:20260715T110000
DTEND;TZID=America/Chicago:20260715T113000
DTSTAMP:20260424T053821
CREATED:20250304T182844Z
LAST-MODIFIED:20250304T182844Z
UID:78207-1784113200-1784115000@odessaarts.org
SUMMARY:Toddler Tales Storytime - CENTENNIAL
DESCRIPTION:Fun ways to help support toddlers’ developing literacy and cognitive growth by incorporating action rhymes\, songs\, and movement. Child must have an accompanying adult. Ages 3-5.
URL:https://odessaarts.org/event/toddler-tales-storytime-centennial-5/2026-07-15/
LOCATION:Midland County Library – Centennial Branch\, 2503 Loop 250 Frontage Rd.\, Midland\, TX\, 79705\, United States
CATEGORIES:Humanities,Theatre & Literary Arts
END:VEVENT
BEGIN:VEVENT
DTSTART;TZID=America/Chicago:20260715T110000
DTEND;TZID=America/Chicago:20260715T113000
DTSTAMP:20260424T053821
CREATED:20250304T183001Z
LAST-MODIFIED:20250304T183001Z
UID:75726-1784113200-1784115000@odessaarts.org
SUMMARY:Toddler Tales Storytime - DOWNTOWN
DESCRIPTION:Fun ways to help support toddlers’ developing literacy and cognitive growth by incorporating action rhymes\, songs\, and movement. Child must have an accompanying adult. Ages 3-5.
URL:https://odessaarts.org/event/toddler-tales-storytime-downtown-5/2026-07-15/
LOCATION:Midland Library at the Plaza (Downtown)\, 301 W. Missouri Ave.\, Midland\, TX\, 79701\, United States
CATEGORIES:Humanities,Theatre & Literary Arts
END:VEVENT
BEGIN:VEVENT
DTSTART;TZID=America/Chicago:20260722T110000
DTEND;TZID=America/Chicago:20260722T113000
DTSTAMP:20260424T053821
CREATED:20250304T182844Z
LAST-MODIFIED:20250304T182844Z
UID:78208-1784718000-1784719800@odessaarts.org
SUMMARY:Toddler Tales Storytime - CENTENNIAL
DESCRIPTION:Fun ways to help support toddlers’ developing literacy and cognitive growth by incorporating action rhymes\, songs\, and movement. Child must have an accompanying adult. Ages 3-5.
URL:https://odessaarts.org/event/toddler-tales-storytime-centennial-5/2026-07-22/
LOCATION:Midland County Library – Centennial Branch\, 2503 Loop 250 Frontage Rd.\, Midland\, TX\, 79705\, United States
CATEGORIES:Humanities,Theatre & Literary Arts
END:VEVENT
BEGIN:VEVENT
DTSTART;TZID=America/Chicago:20260722T110000
DTEND;TZID=America/Chicago:20260722T113000
DTSTAMP:20260424T053821
CREATED:20250304T183001Z
LAST-MODIFIED:20250304T183001Z
UID:75727-1784718000-1784719800@odessaarts.org
SUMMARY:Toddler Tales Storytime - DOWNTOWN
DESCRIPTION:Fun ways to help support toddlers’ developing literacy and cognitive growth by incorporating action rhymes\, songs\, and movement. Child must have an accompanying adult. Ages 3-5.
URL:https://odessaarts.org/event/toddler-tales-storytime-downtown-5/2026-07-22/
LOCATION:Midland Library at the Plaza (Downtown)\, 301 W. Missouri Ave.\, Midland\, TX\, 79701\, United States
CATEGORIES:Humanities,Theatre & Literary Arts
END:VEVENT
BEGIN:VEVENT
DTSTART;TZID=America/Chicago:20260725T173000
DTEND;TZID=America/Chicago:20260725T173000
DTSTAMP:20260424T053821
CREATED:20260312T202741Z
LAST-MODIFIED:20260312T202741Z
UID:78393-1785000600-1785000600@odessaarts.org
SUMMARY:KILLERS OF KILL TONY
DESCRIPTION:July 25\, 2026 7:00 PM\nDoors Open: 5:30 PM\n\n\n\n\n\n\n\nTICKET PRICES $75.54 – $53.24All In Pricing includes Convenience fees.   \n AISLE SEATING – $86.69 – $64.39All In Pricing includes Convenience fees.Choose from the best available aisle seats and enjoy the convenience of easy access to refreshments\, restrooms\nand venue exits\, or seating in the front row of your preferred section. \n \nPLATINUM $108.99\nAll In Pricing includes Convenience fees.\nPlatinum Tickets are tickets that are dynamically priced up and down based on demand.\nPlatinum Tickets are not part of VIP packages – they are tickets only.
URL:https://odessaarts.org/event/killers-of-kill-tony/
LOCATION:Wagner Noël Performing Arts Center\, 1310 FM 1788\, Midland\, Texas
CATEGORIES:Theatre & Literary Arts
END:VEVENT
BEGIN:VEVENT
DTSTART;TZID=America/Chicago:20260729T110000
DTEND;TZID=America/Chicago:20260729T113000
DTSTAMP:20260424T053821
CREATED:20250304T182844Z
LAST-MODIFIED:20250304T182844Z
UID:78209-1785322800-1785324600@odessaarts.org
SUMMARY:Toddler Tales Storytime - CENTENNIAL
DESCRIPTION:Fun ways to help support toddlers’ developing literacy and cognitive growth by incorporating action rhymes\, songs\, and movement. Child must have an accompanying adult. Ages 3-5.
URL:https://odessaarts.org/event/toddler-tales-storytime-centennial-5/2026-07-29/
LOCATION:Midland County Library – Centennial Branch\, 2503 Loop 250 Frontage Rd.\, Midland\, TX\, 79705\, United States
CATEGORIES:Humanities,Theatre & Literary Arts
END:VEVENT
BEGIN:VEVENT
DTSTART;TZID=America/Chicago:20260729T110000
DTEND;TZID=America/Chicago:20260729T113000
DTSTAMP:20260424T053821
CREATED:20250304T183001Z
LAST-MODIFIED:20250304T183001Z
UID:75728-1785322800-1785324600@odessaarts.org
SUMMARY:Toddler Tales Storytime - DOWNTOWN
DESCRIPTION:Fun ways to help support toddlers’ developing literacy and cognitive growth by incorporating action rhymes\, songs\, and movement. Child must have an accompanying adult. Ages 3-5.
URL:https://odessaarts.org/event/toddler-tales-storytime-downtown-5/2026-07-29/
LOCATION:Midland Library at the Plaza (Downtown)\, 301 W. Missouri Ave.\, Midland\, TX\, 79701\, United States
CATEGORIES:Humanities,Theatre & Literary Arts
END:VEVENT
BEGIN:VEVENT
DTSTART;TZID=America/Chicago:20260805T110000
DTEND;TZID=America/Chicago:20260805T113000
DTSTAMP:20260424T053821
CREATED:20250304T182844Z
LAST-MODIFIED:20250304T182844Z
UID:78210-1785927600-1785929400@odessaarts.org
SUMMARY:Toddler Tales Storytime - CENTENNIAL
DESCRIPTION:Fun ways to help support toddlers’ developing literacy and cognitive growth by incorporating action rhymes\, songs\, and movement. Child must have an accompanying adult. Ages 3-5.
URL:https://odessaarts.org/event/toddler-tales-storytime-centennial-5/2026-08-05/
LOCATION:Midland County Library – Centennial Branch\, 2503 Loop 250 Frontage Rd.\, Midland\, TX\, 79705\, United States
CATEGORIES:Humanities,Theatre & Literary Arts
END:VEVENT
BEGIN:VEVENT
DTSTART;TZID=America/Chicago:20260805T110000
DTEND;TZID=America/Chicago:20260805T113000
DTSTAMP:20260424T053821
CREATED:20250304T183001Z
LAST-MODIFIED:20250304T183001Z
UID:75729-1785927600-1785929400@odessaarts.org
SUMMARY:Toddler Tales Storytime - DOWNTOWN
DESCRIPTION:Fun ways to help support toddlers’ developing literacy and cognitive growth by incorporating action rhymes\, songs\, and movement. Child must have an accompanying adult. Ages 3-5.
URL:https://odessaarts.org/event/toddler-tales-storytime-downtown-5/2026-08-05/
LOCATION:Midland Library at the Plaza (Downtown)\, 301 W. Missouri Ave.\, Midland\, TX\, 79701\, United States
CATEGORIES:Humanities,Theatre & Literary Arts
END:VEVENT
BEGIN:VEVENT
DTSTART;TZID=America/Chicago:20260807T180000
DTEND;TZID=America/Chicago:20260807T210000
DTSTAMP:20260424T053821
CREATED:20260114T175014Z
LAST-MODIFIED:20260114T175034Z
UID:77586-1786125600-1786136400@odessaarts.org
SUMMARY:First Friday ODTX!
DESCRIPTION:First Friday ODTX is a monthly gathering every first Friday of the month for residents and visitors of downtown Odessa. Each month\, the streets are lively and colorful with music\, games\, and delicious food. There are unbeatable deals from local businesses and exciting opportunities to collect amazing giveaways. The event is open to all ages and caters to everyone’s interests. For music lovers\, there are live performances by local bands and artists\, while foodies can indulge in a diverse range of street eats. Downtown shops and eateries will offer special promotions. First Friday ODTX event brings vibrancy and community spirit to downtown Odessa\, making it the perfect place to spend a Friday evening.
URL:https://odessaarts.org/event/first-friday-6/2026-08-07/
LOCATION:Downtown Odessa\, 79761\, United States
CATEGORIES:Humanities,Music,Public Art,Theatre & Literary Arts,Visual Arts
END:VEVENT
BEGIN:VEVENT
DTSTART;TZID=America/Chicago:20260807T190000
DTEND;TZID=America/Chicago:20260807T220000
DTSTAMP:20260424T053821
CREATED:20260227T161352Z
LAST-MODIFIED:20260227T161352Z
UID:78104-1786129200-1786140000@odessaarts.org
SUMMARY:Rodney Carrington LIVE 2026
DESCRIPTION:Rodney Carrington is a multi-talented comedian\, actor\, singer and writer playing sold-out shows around the world as one of the top 10 highest-grossing touring comedians for the past two decades. \nA platinum-recording artist\, Rodney’s recorded eight major record label comedy albums\, followed by three albums on his own record label\, Laughter’s Good Records. Rodney is fresh off the release of his latest album\, “Get Em Out\,” (released 2019) which hit #1 on iTunes. His album “Here Comes the Truth” (released 2017) climbed to #3 on the comedy charts\, accruing tens of millions of streams on Spotify and even spawned a Netflix special. \nRodney broke through with his major label comedy CD debut “Hangin’ With Rodney” in 1998. The next few years saw nine more Top 10 comedy albums: Live\, Morning Wood\, Nutsack\, Greatest Hits\, King of the Mountains\, El Nino Loco\, C’mon Laugh You Bastards\, Laughter’s Good and The Hits\, all of which continue to receive radio airplay and regularly place on the national comedy charts. “Hangin’ With Rodney” and “Morning Wood” earned RIAA gold record certification\, and his Greatest Hits (a double CD) album reached platinum status. Rodney also released “Make it Christmas” which features his original song “Camouflage and Christmas Lights\,” a tribute to our military. \nMature Audiences ONLY!
URL:https://odessaarts.org/event/rodney-carrington-live-2026-2/
LOCATION:Wagner Noël Performing Arts Center\, 1310 FM 1788\, Midland\, Texas
CATEGORIES:Theatre & Literary Arts
END:VEVENT
BEGIN:VEVENT
DTSTART;TZID=America/Chicago:20260812T110000
DTEND;TZID=America/Chicago:20260812T113000
DTSTAMP:20260424T053821
CREATED:20250304T182844Z
LAST-MODIFIED:20250304T182844Z
UID:78211-1786532400-1786534200@odessaarts.org
SUMMARY:Toddler Tales Storytime - CENTENNIAL
DESCRIPTION:Fun ways to help support toddlers’ developing literacy and cognitive growth by incorporating action rhymes\, songs\, and movement. Child must have an accompanying adult. Ages 3-5.
URL:https://odessaarts.org/event/toddler-tales-storytime-centennial-5/2026-08-12/
LOCATION:Midland County Library – Centennial Branch\, 2503 Loop 250 Frontage Rd.\, Midland\, TX\, 79705\, United States
CATEGORIES:Humanities,Theatre & Literary Arts
END:VEVENT
BEGIN:VEVENT
DTSTART;TZID=America/Chicago:20260812T110000
DTEND;TZID=America/Chicago:20260812T113000
DTSTAMP:20260424T053821
CREATED:20250304T183001Z
LAST-MODIFIED:20250304T183001Z
UID:75730-1786532400-1786534200@odessaarts.org
SUMMARY:Toddler Tales Storytime - DOWNTOWN
DESCRIPTION:Fun ways to help support toddlers’ developing literacy and cognitive growth by incorporating action rhymes\, songs\, and movement. Child must have an accompanying adult. Ages 3-5.
URL:https://odessaarts.org/event/toddler-tales-storytime-downtown-5/2026-08-12/
LOCATION:Midland Library at the Plaza (Downtown)\, 301 W. Missouri Ave.\, Midland\, TX\, 79701\, United States
CATEGORIES:Humanities,Theatre & Literary Arts
END:VEVENT
BEGIN:VEVENT
DTSTART;TZID=America/Chicago:20260819T110000
DTEND;TZID=America/Chicago:20260819T113000
DTSTAMP:20260424T053821
CREATED:20250304T182844Z
LAST-MODIFIED:20250304T182844Z
UID:78212-1787137200-1787139000@odessaarts.org
SUMMARY:Toddler Tales Storytime - CENTENNIAL
DESCRIPTION:Fun ways to help support toddlers’ developing literacy and cognitive growth by incorporating action rhymes\, songs\, and movement. Child must have an accompanying adult. Ages 3-5.
URL:https://odessaarts.org/event/toddler-tales-storytime-centennial-5/2026-08-19/
LOCATION:Midland County Library – Centennial Branch\, 2503 Loop 250 Frontage Rd.\, Midland\, TX\, 79705\, United States
CATEGORIES:Humanities,Theatre & Literary Arts
END:VEVENT
BEGIN:VEVENT
DTSTART;TZID=America/Chicago:20260819T110000
DTEND;TZID=America/Chicago:20260819T113000
DTSTAMP:20260424T053821
CREATED:20250304T183001Z
LAST-MODIFIED:20250304T183001Z
UID:75731-1787137200-1787139000@odessaarts.org
SUMMARY:Toddler Tales Storytime - DOWNTOWN
DESCRIPTION:Fun ways to help support toddlers’ developing literacy and cognitive growth by incorporating action rhymes\, songs\, and movement. Child must have an accompanying adult. Ages 3-5.
URL:https://odessaarts.org/event/toddler-tales-storytime-downtown-5/2026-08-19/
LOCATION:Midland Library at the Plaza (Downtown)\, 301 W. Missouri Ave.\, Midland\, TX\, 79701\, United States
CATEGORIES:Humanities,Theatre & Literary Arts
END:VEVENT
BEGIN:VEVENT
DTSTART;TZID=America/Chicago:20260826T110000
DTEND;TZID=America/Chicago:20260826T113000
DTSTAMP:20260424T053821
CREATED:20250304T182844Z
LAST-MODIFIED:20250304T182844Z
UID:78213-1787742000-1787743800@odessaarts.org
SUMMARY:Toddler Tales Storytime - CENTENNIAL
DESCRIPTION:Fun ways to help support toddlers’ developing literacy and cognitive growth by incorporating action rhymes\, songs\, and movement. Child must have an accompanying adult. Ages 3-5.
URL:https://odessaarts.org/event/toddler-tales-storytime-centennial-5/2026-08-26/
LOCATION:Midland County Library – Centennial Branch\, 2503 Loop 250 Frontage Rd.\, Midland\, TX\, 79705\, United States
CATEGORIES:Humanities,Theatre & Literary Arts
END:VEVENT
BEGIN:VEVENT
DTSTART;TZID=America/Chicago:20260826T110000
DTEND;TZID=America/Chicago:20260826T113000
DTSTAMP:20260424T053821
CREATED:20250304T183001Z
LAST-MODIFIED:20250304T183001Z
UID:75732-1787742000-1787743800@odessaarts.org
SUMMARY:Toddler Tales Storytime - DOWNTOWN
DESCRIPTION:Fun ways to help support toddlers’ developing literacy and cognitive growth by incorporating action rhymes\, songs\, and movement. Child must have an accompanying adult. Ages 3-5.
URL:https://odessaarts.org/event/toddler-tales-storytime-downtown-5/2026-08-26/
LOCATION:Midland Library at the Plaza (Downtown)\, 301 W. Missouri Ave.\, Midland\, TX\, 79701\, United States
CATEGORIES:Humanities,Theatre & Literary Arts
END:VEVENT
BEGIN:VEVENT
DTSTART;TZID=America/Chicago:20260902T110000
DTEND;TZID=America/Chicago:20260902T113000
DTSTAMP:20260424T053821
CREATED:20250304T182844Z
LAST-MODIFIED:20250304T182844Z
UID:78214-1788346800-1788348600@odessaarts.org
SUMMARY:Toddler Tales Storytime - CENTENNIAL
DESCRIPTION:Fun ways to help support toddlers’ developing literacy and cognitive growth by incorporating action rhymes\, songs\, and movement. Child must have an accompanying adult. Ages 3-5.
URL:https://odessaarts.org/event/toddler-tales-storytime-centennial-5/2026-09-02/
LOCATION:Midland County Library – Centennial Branch\, 2503 Loop 250 Frontage Rd.\, Midland\, TX\, 79705\, United States
CATEGORIES:Humanities,Theatre & Literary Arts
END:VEVENT
BEGIN:VEVENT
DTSTART;TZID=America/Chicago:20260902T110000
DTEND;TZID=America/Chicago:20260902T113000
DTSTAMP:20260424T053821
CREATED:20250304T183001Z
LAST-MODIFIED:20250304T183001Z
UID:75733-1788346800-1788348600@odessaarts.org
SUMMARY:Toddler Tales Storytime - DOWNTOWN
DESCRIPTION:Fun ways to help support toddlers’ developing literacy and cognitive growth by incorporating action rhymes\, songs\, and movement. Child must have an accompanying adult. Ages 3-5.
URL:https://odessaarts.org/event/toddler-tales-storytime-downtown-5/2026-09-02/
LOCATION:Midland Library at the Plaza (Downtown)\, 301 W. Missouri Ave.\, Midland\, TX\, 79701\, United States
CATEGORIES:Humanities,Theatre & Literary Arts
END:VEVENT
BEGIN:VEVENT
DTSTART;TZID=America/Chicago:20260904T180000
DTEND;TZID=America/Chicago:20260904T210000
DTSTAMP:20260424T053821
CREATED:20260114T175014Z
LAST-MODIFIED:20260114T175034Z
UID:77587-1788544800-1788555600@odessaarts.org
SUMMARY:First Friday ODTX!
DESCRIPTION:First Friday ODTX is a monthly gathering every first Friday of the month for residents and visitors of downtown Odessa. Each month\, the streets are lively and colorful with music\, games\, and delicious food. There are unbeatable deals from local businesses and exciting opportunities to collect amazing giveaways. The event is open to all ages and caters to everyone’s interests. For music lovers\, there are live performances by local bands and artists\, while foodies can indulge in a diverse range of street eats. Downtown shops and eateries will offer special promotions. First Friday ODTX event brings vibrancy and community spirit to downtown Odessa\, making it the perfect place to spend a Friday evening.
URL:https://odessaarts.org/event/first-friday-6/2026-09-04/
LOCATION:Downtown Odessa\, 79761\, United States
CATEGORIES:Humanities,Music,Public Art,Theatre & Literary Arts,Visual Arts
END:VEVENT
BEGIN:VEVENT
DTSTART;TZID=America/Chicago:20260909T110000
DTEND;TZID=America/Chicago:20260909T113000
DTSTAMP:20260424T053821
CREATED:20250304T182844Z
LAST-MODIFIED:20250304T182844Z
UID:78215-1788951600-1788953400@odessaarts.org
SUMMARY:Toddler Tales Storytime - CENTENNIAL
DESCRIPTION:Fun ways to help support toddlers’ developing literacy and cognitive growth by incorporating action rhymes\, songs\, and movement. Child must have an accompanying adult. Ages 3-5.
URL:https://odessaarts.org/event/toddler-tales-storytime-centennial-5/2026-09-09/
LOCATION:Midland County Library – Centennial Branch\, 2503 Loop 250 Frontage Rd.\, Midland\, TX\, 79705\, United States
CATEGORIES:Humanities,Theatre & Literary Arts
END:VEVENT
BEGIN:VEVENT
DTSTART;TZID=America/Chicago:20260909T110000
DTEND;TZID=America/Chicago:20260909T113000
DTSTAMP:20260424T053821
CREATED:20250304T183001Z
LAST-MODIFIED:20250304T183001Z
UID:75734-1788951600-1788953400@odessaarts.org
SUMMARY:Toddler Tales Storytime - DOWNTOWN
DESCRIPTION:Fun ways to help support toddlers’ developing literacy and cognitive growth by incorporating action rhymes\, songs\, and movement. Child must have an accompanying adult. Ages 3-5.
URL:https://odessaarts.org/event/toddler-tales-storytime-downtown-5/2026-09-09/
LOCATION:Midland Library at the Plaza (Downtown)\, 301 W. Missouri Ave.\, Midland\, TX\, 79701\, United States
CATEGORIES:Humanities,Theatre & Literary Arts
END:VEVENT
END:VCALENDAR