BEGIN:VCALENDAR
VERSION:2.0
PRODID:-//Odessa Arts - ECPv6.15.20//NONSGML v1.0//EN
CALSCALE:GREGORIAN
METHOD:PUBLISH
X-ORIGINAL-URL:https://odessaarts.org
X-WR-CALDESC:Events for Odessa Arts
REFRESH-INTERVAL;VALUE=DURATION:PT1H
X-Robots-Tag:noindex
X-PUBLISHED-TTL:PT1H
BEGIN:VTIMEZONE
TZID:America/Chicago
BEGIN:DAYLIGHT
TZOFFSETFROM:-0600
TZOFFSETTO:-0500
TZNAME:CDT
DTSTART:20240310T080000
END:DAYLIGHT
BEGIN:STANDARD
TZOFFSETFROM:-0500
TZOFFSETTO:-0600
TZNAME:CST
DTSTART:20241103T070000
END:STANDARD
BEGIN:DAYLIGHT
TZOFFSETFROM:-0600
TZOFFSETTO:-0500
TZNAME:CDT
DTSTART:20250309T080000
END:DAYLIGHT
BEGIN:STANDARD
TZOFFSETFROM:-0500
TZOFFSETTO:-0600
TZNAME:CST
DTSTART:20251102T070000
END:STANDARD
BEGIN:DAYLIGHT
TZOFFSETFROM:-0600
TZOFFSETTO:-0500
TZNAME:CDT
DTSTART:20260308T080000
END:DAYLIGHT
BEGIN:STANDARD
TZOFFSETFROM:-0500
TZOFFSETTO:-0600
TZNAME:CST
DTSTART:20261101T070000
END:STANDARD
END:VTIMEZONE
BEGIN:VEVENT
DTSTART;TZID=America/Chicago:20250318T110000
DTEND;TZID=America/Chicago:20250318T113000
DTSTAMP:20260425T085815
CREATED:20250304T170525Z
LAST-MODIFIED:20250304T170525Z
UID:75497-1742295600-1742297400@odessaarts.org
SUMMARY:Rhythm and Rhyme Storytime - CENTENNIAL
DESCRIPTION:Interactive storytime that includes early literacy fun with books\, songs\, fingerplays\, and body movement. Child must have an accompanying adult. Ages 0-2.
URL:https://odessaarts.org/event/rhythm-and-rhyme-storytime-centennial-3/
LOCATION:Midland County Library – Centennial Branch\, 2503 Loop 250 Frontage Rd.\, Midland\, TX\, 79705\, United States
CATEGORIES:Humanities,Theatre & Literary Arts
END:VEVENT
BEGIN:VEVENT
DTSTART;TZID=America/Chicago:20250319T100000
DTEND;TZID=America/Chicago:20250319T113000
DTSTAMP:20260425T085815
CREATED:20250303T215553Z
LAST-MODIFIED:20250303T215553Z
UID:75448-1742378400-1742383800@odessaarts.org
SUMMARY:Storytime: Flowers/Spring
DESCRIPTION:We are going to talk about spring and flowers today in storytime.
URL:https://odessaarts.org/event/storytime-flowers-spring/
LOCATION:Ector County Library
CATEGORIES:Humanities,Theatre & Literary Arts
END:VEVENT
BEGIN:VEVENT
DTSTART;TZID=America/Chicago:20250319T110000
DTEND;TZID=America/Chicago:20250319T113000
DTSTAMP:20260425T085815
CREATED:20250304T180825Z
LAST-MODIFIED:20250304T180825Z
UID:75500-1742382000-1742383800@odessaarts.org
SUMMARY:Toddler Tales Storytime - CENTENNIAL
DESCRIPTION:Fun ways to help support toddlers’ developing literacy and cognitive growth by incorporating action rhymes\, songs\, and movement. Child must have an accompanying adult. Ages 3-5.
URL:https://odessaarts.org/event/toddler-tales-storytime-centennial-3/
LOCATION:Midland County Library – Centennial Branch\, 2503 Loop 250 Frontage Rd.\, Midland\, TX\, 79705\, United States
CATEGORIES:Humanities,Theatre & Literary Arts
END:VEVENT
BEGIN:VEVENT
DTSTART;TZID=America/Chicago:20250319T110000
DTEND;TZID=America/Chicago:20250319T113000
DTSTAMP:20260425T085815
CREATED:20250304T181206Z
LAST-MODIFIED:20250304T181206Z
UID:75502-1742382000-1742383800@odessaarts.org
SUMMARY:Toddler Tales Storytime - DOWNTOWN
DESCRIPTION:Fun ways to help support toddlers’ developing literacy and cognitive growth by incorporating action rhymes\, songs\, and movement. Child must have an accompanying adult. Ages 3-5.
URL:https://odessaarts.org/event/toddler-tales-storytime-downtown-3/
LOCATION:Midland Library at the Plaza (Downtown)\, 301 W. Missouri Ave.\, Midland\, TX\, 79701\, United States
CATEGORIES:Humanities,Theatre & Literary Arts
END:VEVENT
BEGIN:VEVENT
DTSTART;TZID=America/Chicago:20250319T130000
DTEND;TZID=America/Chicago:20250319T133000
DTSTAMP:20260425T085815
CREATED:20250225T181648Z
LAST-MODIFIED:20250225T182256Z
UID:75389-1742389200-1742391000@odessaarts.org
SUMMARY:Art Tales: Sleep Like a Tiger
DESCRIPTION:Join us at the Ellen Noël Art Museum for a delightful event tailored for art-loving preschoolers aged 3-5 and their grown-ups. At 1:00 PM\, we invite you to immerse yourselves in a beautifully illustrated story and a fun art activity. This free event offers an engaging children’s story followed by a hands-on art project related to the tale. \nOur featured book for this session is Sleep Like a Tiger by Mary Logue. Young attendees will be entertained by the charming story of a young girl who just isn’t tired at bedtime. After the story\, children will participate in an art activity inspired by her adventures. It’s a wonderful opportunity to foster a love of reading and creativity in young children while spending quality time together. We look forward to welcoming you and your little artists to the museum for this fun and inspiring event!
URL:https://odessaarts.org/event/art-tales-sleep-like-a-tiger/
LOCATION:Ellen Noel Art Museum\, 4909 E. University\, Odessa\, TX\, 79762\, United States
CATEGORIES:Humanities,Theatre & Literary Arts
END:VEVENT
BEGIN:VEVENT
DTSTART;TZID=America/Chicago:20250320T100000
DTEND;TZID=America/Chicago:20250320T110000
DTSTAMP:20260425T085815
CREATED:20250303T215715Z
LAST-MODIFIED:20250303T215715Z
UID:75450-1742464800-1742468400@odessaarts.org
SUMMARY:Bilingual Storytime: Spring
DESCRIPTION:Our bilingual storytime today is all about spring. \nNuestra hora de cuentos bilingües de hoy tiene que ver con la primavera.
URL:https://odessaarts.org/event/bilingual-storytime-spring/
LOCATION:Ector County Library
CATEGORIES:Humanities,Theatre & Literary Arts
END:VEVENT
BEGIN:VEVENT
DTSTART;TZID=America/Chicago:20250320T170000
DTEND;TZID=America/Chicago:20250320T180000
DTSTAMP:20260425T085815
CREATED:20250320T152850Z
LAST-MODIFIED:20250320T152850Z
UID:75871-1742490000-1742493600@odessaarts.org
SUMMARY:Habia una vez un cuento - DOWNTOWN
DESCRIPTION:Build early literacy skills in a welcoming environment through meaningful stories and crafts. This storytime in both English and Spanish is a great introduction to different languages. Family.
URL:https://odessaarts.org/event/habia-una-vez-un-cuento-downtown/
LOCATION:Midland Library at the Plaza (Downtown)\, 301 W. Missouri Ave.\, Midland\, TX\, 79701\, United States
CATEGORIES:Humanities,Theatre & Literary Arts
END:VEVENT
BEGIN:VEVENT
DTSTART;TZID=America/Chicago:20250321T000000
DTEND;TZID=America/Chicago:20250405T000000
DTSTAMP:20260425T085815
CREATED:20250307T221407Z
LAST-MODIFIED:20250307T221407Z
UID:75777-1742515200-1743811200@odessaarts.org
SUMMARY:Girls in the Boat
DESCRIPTION:Midland Community Theatre announces its production of “Girls in the Boat” by Alice Austen March 21- April 5. Directed by Emma Evenson\, this show was inspired by the first US women’s rowing team and its determination to compete in the 1976 Olympics. Tickets are available now at mctmidland.org.
URL:https://odessaarts.org/event/girls-in-the-boat/
LOCATION:Midland Community Theatre\, 2000 W. Wadley\, Midland\, 79705\, United States
CATEGORIES:Theatre & Literary Arts
END:VEVENT
BEGIN:VEVENT
DTSTART;TZID=America/Chicago:20250321T100000
DTEND;TZID=America/Chicago:20250321T120000
DTSTAMP:20260425T085815
CREATED:20250320T154421Z
LAST-MODIFIED:20250320T154421Z
UID:75875-1742551200-1742558400@odessaarts.org
SUMMARY:I-20 Wildlife Preserve: Playtime at the Playa - BOOKMOBILE
DESCRIPTION:The Midland County Library Bookmobile is available to come to any event for book checkouts and library card sign ups. To make a bookmobile stop request\, please call Dulciana Olguin at (432)-688-4325 or email at dolguin@mcounty.com.
URL:https://odessaarts.org/event/i-20-wildlife-preserve-playtime-at-the-playa-bookmobile/
LOCATION:I-20 Wildlife Preserve\, 2201 S Midland Dr\, Midland\, TX\, 79703\, United States
CATEGORIES:Theatre & Literary Arts
END:VEVENT
BEGIN:VEVENT
DTSTART;TZID=America/Chicago:20250322T190000
DTEND;TZID=America/Chicago:20250322T213000
DTSTAMP:20260425T085815
CREATED:20250203T160939Z
LAST-MODIFIED:20250203T160939Z
UID:75255-1742670000-1742679000@odessaarts.org
SUMMARY:MC Magic\, Baby Bash & Lil Rob
DESCRIPTION:Get ready to experience an unforgettable night at the iconic Ector Theatre on Saturday\, March 29\, 2025! Join us for an electrifying performance featuring the legendary MC Magic\, the smooth sounds of Baby Bash\, and the unforgettable Lil Rob. \nDon’t miss your chance to vibe to their greatest hits in Odessa\, Texas. This is the concert of the year that you absolutely cannot afford to miss! Grab your friends and get ready for a night filled with amazing music and unforgettable memories!
URL:https://odessaarts.org/event/mc-magic-baby-bash-lil-rob/
LOCATION:The Ector Theatre\, 500 N. Texas\, Odessa\, TX\, 79761\, United States
CATEGORIES:Music,Theatre & Literary Arts
END:VEVENT
BEGIN:VEVENT
DTSTART;TZID=America/Chicago:20250325T110000
DTEND;TZID=America/Chicago:20250325T113000
DTSTAMP:20260425T085815
CREATED:20250304T181517Z
LAST-MODIFIED:20250304T181517Z
UID:75506-1742900400-1742902200@odessaarts.org
SUMMARY:Rhythm and Rhyme Storytime - CENTENNIAL
DESCRIPTION:Interactive storytime that includes early literacy fun with books\, songs\, fingerplays\, and body movement. Child must have an accompanying adult. Ages 0-2.
URL:https://odessaarts.org/event/rhythm-and-rhyme-storytime-centennial-4/
LOCATION:Midland County Library – Centennial Branch\, 2503 Loop 250 Frontage Rd.\, Midland\, TX\, 79705\, United States
CATEGORIES:Humanities,Theatre & Literary Arts
END:VEVENT
BEGIN:VEVENT
DTSTART;TZID=America/Chicago:20250326T100000
DTEND;TZID=America/Chicago:20250326T113000
DTSTAMP:20260425T085815
CREATED:20250303T220027Z
LAST-MODIFIED:20250303T220027Z
UID:75452-1742983200-1742988600@odessaarts.org
SUMMARY:Storytime: Numbers
DESCRIPTION:1-2-3\, do you think numbers can behave? Let’s find out in storytime today.
URL:https://odessaarts.org/event/storytime-numbers-2/
LOCATION:Ector County Library
CATEGORIES:Humanities,Theatre & Literary Arts
END:VEVENT
BEGIN:VEVENT
DTSTART;TZID=America/Chicago:20250326T110000
DTEND;TZID=America/Chicago:20250326T113000
DTSTAMP:20260425T085815
CREATED:20250304T181633Z
LAST-MODIFIED:20250304T181633Z
UID:75508-1742986800-1742988600@odessaarts.org
SUMMARY:Toddler Tales Storytime - CENTENNIAL
DESCRIPTION:Fun ways to help support toddlers’ developing literacy and cognitive growth by incorporating action rhymes\, songs\, and movement. Child must have an accompanying adult. Ages 3-5.
URL:https://odessaarts.org/event/toddler-tales-storytime-centennial-4/
LOCATION:Midland County Library – Centennial Branch\, 2503 Loop 250 Frontage Rd.\, Midland\, TX\, 79705\, United States
CATEGORIES:Humanities,Theatre & Literary Arts
END:VEVENT
BEGIN:VEVENT
DTSTART;TZID=America/Chicago:20250326T110000
DTEND;TZID=America/Chicago:20250326T113000
DTSTAMP:20260425T085815
CREATED:20250304T181732Z
LAST-MODIFIED:20250304T181732Z
UID:75510-1742986800-1742988600@odessaarts.org
SUMMARY:Toddler Tales Storytime - DOWNTOWN
DESCRIPTION:Fun ways to help support toddlers’ developing literacy and cognitive growth by incorporating action rhymes\, songs\, and movement. Child must have an accompanying adult. Ages 3-5.
URL:https://odessaarts.org/event/toddler-tales-storytime-downtown-4/
LOCATION:Midland Library at the Plaza (Downtown)\, 301 W. Missouri Ave.\, Midland\, TX\, 79701\, United States
CATEGORIES:Humanities,Theatre & Literary Arts
END:VEVENT
BEGIN:VEVENT
DTSTART;TZID=America/Chicago:20250326T130000
DTEND;TZID=America/Chicago:20250326T160000
DTSTAMP:20260425T085815
CREATED:20250320T155954Z
LAST-MODIFIED:20250320T155954Z
UID:75884-1742994000-1743004800@odessaarts.org
SUMMARY:Midland Health Department: Wellness Wednesday - BOOKMOBILE
DESCRIPTION:The Midland County Library Bookmobile is available to come to any event for book checkouts and library card sign ups. To make a bookmobile stop request\, please call Dulciana Olguin at (432)-688-4325 or email at dolguin@mcounty.com.
URL:https://odessaarts.org/event/midland-health-department-wellness-wednesday-bookmobile/
LOCATION:Midland County Health Department\, 3303 W Illinois Ave\, Midland\, TX\, 79703\, United States
CATEGORIES:Humanities,Theatre & Literary Arts
END:VEVENT
BEGIN:VEVENT
DTSTART;TZID=America/Chicago:20250327T100000
DTEND;TZID=America/Chicago:20250327T110000
DTSTAMP:20260425T085815
CREATED:20250304T153145Z
LAST-MODIFIED:20250304T153145Z
UID:75460-1743069600-1743073200@odessaarts.org
SUMMARY:Books and Babies
DESCRIPTION:Books and Babies is back again this week. Gather up your littles and join us for books\, songs\, and playtime.
URL:https://odessaarts.org/event/books-and-babies-6/
LOCATION:Ector County Library
CATEGORIES:Humanities,Theatre & Literary Arts
END:VEVENT
BEGIN:VEVENT
DTSTART;TZID=America/Chicago:20250327T170000
DTEND;TZID=America/Chicago:20250327T180000
DTSTAMP:20260425T085815
CREATED:20250320T160518Z
LAST-MODIFIED:20250320T160518Z
UID:75889-1743094800-1743098400@odessaarts.org
SUMMARY:Habia una vez un cuento - CENTENNIAL
DESCRIPTION:Build early literacy skills in a welcoming environment through meaningful stories and crafts. This storytime in both English and Spanish is a great introduction to different languages. Family.
URL:https://odessaarts.org/event/habia-una-vez-un-cuento-centennial/
LOCATION:Midland County Library – Centennial Branch\, 2503 Loop 250 Frontage Rd.\, Midland\, TX\, 79705\, United States
CATEGORIES:Humanities,Theatre & Literary Arts
END:VEVENT
BEGIN:VEVENT
DTSTART;TZID=America/Chicago:20250328T180000
DTEND;TZID=America/Chicago:20250328T190000
DTSTAMP:20260425T085815
CREATED:20250320T160726Z
LAST-MODIFIED:20250320T160726Z
UID:75891-1743184800-1743188400@odessaarts.org
SUMMARY:Pickwick Players Present Little Women - DOWNTOWN
DESCRIPTION:A one-act adaptation of the Louisa May Alcott classic presented by Midland Community Theatre’s Pickwick Players\, sponsored by HEB. Family.
URL:https://odessaarts.org/event/pickwick-players-present-little-women-downtown/
LOCATION:Midland Library at the Plaza (Downtown)\, 301 W. Missouri Ave.\, Midland\, TX\, 79701\, United States
CATEGORIES:Theatre & Literary Arts
END:VEVENT
BEGIN:VEVENT
DTSTART;TZID=America/Chicago:20250329T090000
DTEND;TZID=America/Chicago:20250329T120000
DTSTAMP:20260425T085815
CREATED:20250320T163453Z
LAST-MODIFIED:20250320T163453Z
UID:75895-1743238800-1743249600@odessaarts.org
SUMMARY:Midland Farmers Market - Bookmobile
DESCRIPTION:The Midland County Library Bookmobile is available to come to any event for book checkouts and library card sign ups. To make a bookmobile stop request\, please call Dulciana Olguin at (432)-688-4325 or email at dolguin@mcounty.com.
URL:https://odessaarts.org/event/midland-farmers-market-bookmobile/
LOCATION:Midland Farmers Market\, 404 N. Colorado Street\, Midland\, TX\, 79701\, United States
CATEGORIES:Humanities,Theatre & Literary Arts
END:VEVENT
BEGIN:VEVENT
DTSTART;TZID=America/Chicago:20250329T193000
DTEND;TZID=America/Chicago:20250329T193000
DTSTAMP:20260425T085815
CREATED:20241024T204633Z
LAST-MODIFIED:20241024T204633Z
UID:74225-1743276600-1743276600@odessaarts.org
SUMMARY:Midland Festival Ballet Presents Firebird
DESCRIPTION:Midland Festival Ballet presents not just one\, but three exciting ballets! First\, the rattling tambourines and rustling tutus of Nadia Thompson’s Grand Tarantella. Next\, feel the rhythm and the rhyme with all the animals in Pearl Wamsley’s award winning contemporary ballet\, The Incredible Petes. Finally\, join Prince Ivan as his search for golden apples becomes a much grander adventure in the featured ballet\, George Skibine’s The Firebird. This classic fairytale has it all: magical creatures\, daring battles\, an enchanted forest\, an imprisoned princess – you don’t want to miss it. Accompanied by the West Texas Symphony.
URL:https://odessaarts.org/event/midland-festival-ballet-presents-firebird/2025-03-29/
LOCATION:Wagner Noël Performing Arts Center\, 1310 FM 1788\, Midland\, Texas
CATEGORIES:Humanities,Music,Theatre & Literary Arts
END:VEVENT
BEGIN:VEVENT
DTSTART;TZID=America/Chicago:20250329T193000
DTEND;TZID=America/Chicago:20250329T193000
DTSTAMP:20260425T085815
CREATED:20250110T213052Z
LAST-MODIFIED:20250110T213052Z
UID:75148-1743276600-1743276600@odessaarts.org
SUMMARY:Michael Feinstein in Because of You My Tribute to Tony Bennett featuring the Carnegie Hall Big Band - Free Event
DESCRIPTION:The Phyllis and Bob Cowan Performing Arts Series presents Michael Feinstein as he brings to life Big Band Celebrations and the Tony Bennett legacy.  Supported by the Carnegie Hall Big Band\, Feinstein pays a heartfelt tribute to the legendary Tony Bennett\, bringing his iconic songs to life in a symphony of sound. \nFree Event \nBecause of the geneous endowment bestowed to Midland College by the late Phyllis and Bob Cowan\, this event is FREE.  Tickets are not required for general admission seating.  Preferred seating is available for Friends of the Series and Midland College Distinguished Donors ($1\,000 minimum donation in 2025). Contact the Midland College Foundation\, (432) 685-4526\, for more information about preferred seating opportunities. \nAbout the Performance \nThe performance will feature hits such as “Because of You\,” “Rags to Riches\,” “I Left My Heart in San Francisco\,” “The Best is Yet To Come\,” “I Get a Kick Out of You\,” “Stranger in Paradise” and many more.  Feinstein’s dynamic interpretations\, coupled with the grandeur of the big band\, will create an unforgettable night that honors the legacy of Tony Bennett in all its glory. \nMichael Feinstein’s close friendship with Tony Bennett adds a profound layer to this tribute\, as their camaraderie brings authenticity and depth to each note performed.  Not only does Feinstein’s masterful interpretation of Bennett’s timeless repertoire pay homage to an era of classic songwriting\, but it also preserves the rich cultural heritage that these songs represent. \nThe show also brings to bear the history of Carnegie Hall\, which has been connected to the American big band for decades.  Icons from across the 20th and 21st centuries have graced the stage of Carnegie Hall\, from Benny Goodman to Duke Ellington\, Louis Armstrong to Ella Fitzgerald and from Frank Sinatra to\, of course\, Tony Bennett.  A multi-media element of the show will help to bring this history to life onstage. \n“Tony Bennett is one of the most enduring icons of the 20th century.  He has created a body of work surpassed by none.” – Michael Feinstein \n(This show is not affiliated with the Tony Bennett Estate.)
URL:https://odessaarts.org/event/michael-feinstein-in-because-of-you-my-tribute-to-tony-bennett-featuring-the-carnegie-hall-big-band-free-event/
LOCATION:Midland College Chaparral Center\, 3600 N. Garfield\, Midland\, TX
CATEGORIES:Humanities,Music,Theatre & Literary Arts
END:VEVENT
BEGIN:VEVENT
DTSTART;TZID=America/Chicago:20250330T140000
DTEND;TZID=America/Chicago:20250330T140000
DTSTAMP:20260425T085815
CREATED:20241024T204633Z
LAST-MODIFIED:20241024T204633Z
UID:74226-1743343200-1743343200@odessaarts.org
SUMMARY:Midland Festival Ballet Presents Firebird
DESCRIPTION:Midland Festival Ballet presents not just one\, but three exciting ballets! First\, the rattling tambourines and rustling tutus of Nadia Thompson’s Grand Tarantella. Next\, feel the rhythm and the rhyme with all the animals in Pearl Wamsley’s award winning contemporary ballet\, The Incredible Petes. Finally\, join Prince Ivan as his search for golden apples becomes a much grander adventure in the featured ballet\, George Skibine’s The Firebird. This classic fairytale has it all: magical creatures\, daring battles\, an enchanted forest\, an imprisoned princess – you don’t want to miss it. Accompanied by the West Texas Symphony.
URL:https://odessaarts.org/event/midland-festival-ballet-presents-firebird/2025-03-30/
LOCATION:Wagner Noël Performing Arts Center\, 1310 FM 1788\, Midland\, Texas
CATEGORIES:Humanities,Music,Theatre & Literary Arts
END:VEVENT
BEGIN:VEVENT
DTSTART;TZID=America/Chicago:20250401T110000
DTEND;TZID=America/Chicago:20250401T113000
DTSTAMP:20260425T085815
CREATED:20250304T182343Z
LAST-MODIFIED:20250304T182343Z
UID:75614-1743505200-1743507000@odessaarts.org
SUMMARY:Rhythm and Rhyme Storytime - CENTENNIAL
DESCRIPTION:Interactive storytime that includes early literacy fun with books\, songs\, fingerplays\, and body movement. Child must have an accompanying adult. Ages 0-2.
URL:https://odessaarts.org/event/rhythm-and-rhyme-storytime-centennial-5/
LOCATION:Midland County Library – Centennial Branch\, 2503 Loop 250 Frontage Rd.\, Midland\, TX\, 79705\, United States
CATEGORIES:Humanities,Theatre & Literary Arts
END:VEVENT
BEGIN:VEVENT
DTSTART;TZID=America/Chicago:20250402T110000
DTEND;TZID=America/Chicago:20250402T113000
DTSTAMP:20260425T085815
CREATED:20250304T182844Z
LAST-MODIFIED:20250304T182844Z
UID:75616-1743591600-1743593400@odessaarts.org
SUMMARY:Toddler Tales Storytime - CENTENNIAL
DESCRIPTION:Fun ways to help support toddlers’ developing literacy and cognitive growth by incorporating action rhymes\, songs\, and movement. Child must have an accompanying adult. Ages 3-5.
URL:https://odessaarts.org/event/toddler-tales-storytime-centennial-5/2025-04-02/
LOCATION:Midland County Library – Centennial Branch\, 2503 Loop 250 Frontage Rd.\, Midland\, TX\, 79705\, United States
CATEGORIES:Humanities,Theatre & Literary Arts
END:VEVENT
BEGIN:VEVENT
DTSTART;TZID=America/Chicago:20250402T110000
DTEND;TZID=America/Chicago:20250402T113000
DTSTAMP:20260425T085815
CREATED:20250304T183001Z
LAST-MODIFIED:20250304T183001Z
UID:75658-1743591600-1743593400@odessaarts.org
SUMMARY:Toddler Tales Storytime - DOWNTOWN
DESCRIPTION:Fun ways to help support toddlers’ developing literacy and cognitive growth by incorporating action rhymes\, songs\, and movement. Child must have an accompanying adult. Ages 3-5.
URL:https://odessaarts.org/event/toddler-tales-storytime-downtown-5/2025-04-02/
LOCATION:Midland Library at the Plaza (Downtown)\, 301 W. Missouri Ave.\, Midland\, TX\, 79701\, United States
CATEGORIES:Humanities,Theatre & Literary Arts
END:VEVENT
BEGIN:VEVENT
DTSTART;TZID=America/Chicago:20250402T130000
DTEND;TZID=America/Chicago:20250402T133000
DTSTAMP:20260425T085815
CREATED:20250227T162710Z
LAST-MODIFIED:20250227T162710Z
UID:75395-1743598800-1743600600@odessaarts.org
SUMMARY:Art Tales: Don't Let the Pigeon Stay Up Late
DESCRIPTION:Join us at the Ellen Noël Art Museum for a delightful event tailored for art-loving preschoolers aged 3-5 and their grown-ups. At 1:00 PM\, we invite you to immerse yourselves in a beautifully illustrated story and a fun art activity. This free event offers an engaging children’s story followed by a hands-on art project related to the tale. \nOur featured book for this session is Sleep Like a Tiger by Mo Willems. Young attendees will be entertained by the charming story of a pigeon who just isn’t tired at bedtime. After the story\, children will participate in an art activity inspired by the adventures. It’s a wonderful opportunity to foster a love of reading and creativity in young children while spending quality time together. We look forward to welcoming you and your little artists to the museum for this fun and inspiring event!
URL:https://odessaarts.org/event/art-tales-dont-let-the-pigeon-stay-up-late/
LOCATION:Ellen Noel Art Museum\, 4909 E. University\, Odessa\, TX\, 79762\, United States
CATEGORIES:Humanities,Theatre & Literary Arts
END:VEVENT
BEGIN:VEVENT
DTSTART;TZID=America/Chicago:20250403T160000
DTEND;TZID=America/Chicago:20250403T170000
DTSTAMP:20260425T085815
CREATED:20250320T145616Z
LAST-MODIFIED:20250424T145621Z
UID:75825-1743696000-1743699600@odessaarts.org
SUMMARY:Read to Felix
DESCRIPTION:Felix is ready to have his ears scritches and have stories read to him. Come to the Children’s Department @ 4:00 to find him.
URL:https://odessaarts.org/event/read-to-felix-14/
LOCATION:Ector County Library
CATEGORIES:Humanities,Theatre & Literary Arts
END:VEVENT
BEGIN:VEVENT
DTSTART;TZID=America/Chicago:20250403T193000
DTEND;TZID=America/Chicago:20250403T193000
DTSTAMP:20260425T085815
CREATED:20250121T160643Z
LAST-MODIFIED:20250121T160643Z
UID:75178-1743708600-1743708600@odessaarts.org
SUMMARY:Pretty Guardian Sailor Moon: The Super Live
DESCRIPTION:Prepare to be enchanted! \nPretty Guardian Sailor Moon: The Super Live\, the ground breaking 2.5D musical\, is bringing the iconic Sailor Moon universe to life like never before. This stunning stage adaptation—based on the legendary manga and anime—transports audiences into a dazzling world of magic\, friendship and justice with its electrifying performances\, unforgettable choreography and show-stopping music. \nThis production was the first-ever 2.5D musical to hit North American stages\, ushering in anew era of live theatre that merges the visual style of manga and anime with the immersive power of live performance. Pretty Guardian Sailor Moon: The Super Live is a one-of-a-kind experience that will captivate fans of all ages. \nWith book\, lyrics and direction by Kaori Miura (The Musical The Prince of Tennis\, Tokyo Revengers the Musical)\, choreography by Satomi Toma and music by Go Sakabe and KYOHEI\, this is your chance to see “Sailor Moon” like never before\, live\, on stage\, in aspectacular 2.5D musical event! \nFeel the magic\, witness the excitement and be part of the phenomenon that’s captured the hearts of millions worldwide! Pretty Guardian Sailor Moon: The Super Live will be performed in Japanese with English subtitles. \nRunning time: 90 minutes with no intermission
URL:https://odessaarts.org/event/pretty-guardian-sailor-moon-the-super-live/
LOCATION:Wagner Noël Performing Arts Center\, 1310 FM 1788\, Midland\, Texas
CATEGORIES:Music,Theatre & Literary Arts
END:VEVENT
BEGIN:VEVENT
DTSTART;TZID=America/Chicago:20250407T183000
DTEND;TZID=America/Chicago:20250407T183000
DTSTAMP:20260425T085815
CREATED:20250227T175657Z
LAST-MODIFIED:20250227T175825Z
UID:75420-1744050600-1744050600@odessaarts.org
SUMMARY:The Snow Queen Community Performance - Free
DESCRIPTION:Come and see the children’s opera “The Snow Queen” performed by Opera of the Planes presented by Permian Basin Opera. The story will be led by music from “Oberon” by Carl Maria Von Weber. There will be two community performances geared towards fourth grade and their families. For FREE tickets to our community event of “Opera in the Schools”\, held at Midland College on April 7\, 2025\, @ 6:30 pm in the Allison Fine Arts Building – Wagner and Brown Auditorium\, just visit this link. \nhttps://www.mypbo.org/event-details/the-snow-queen-community-performance
URL:https://odessaarts.org/event/the-snow-queen-community-performance-free/
LOCATION:Allison Fine Arts Building\, 3600 N Garfield St\, Midland\, TX\, 79705\, United States
CATEGORIES:Music,Theatre & Literary Arts
END:VEVENT
BEGIN:VEVENT
DTSTART;TZID=America/Chicago:20250409T100000
DTEND;TZID=America/Chicago:20250409T113000
DTSTAMP:20260425T085815
CREATED:20250320T145838Z
LAST-MODIFIED:20250320T145838Z
UID:75827-1744192800-1744198200@odessaarts.org
SUMMARY:Storytime: Libraries
DESCRIPTION:It’s National Library Month so we’re going to kick off our storytimes for April talking all about libraries! Join us @ 10:00 AM in the auditorium then head to the basement activity room for a craft.
URL:https://odessaarts.org/event/storytime-libraries/
LOCATION:Ector County Library
CATEGORIES:Humanities,Theatre & Literary Arts
END:VEVENT
END:VCALENDAR