BEGIN:VCALENDAR
VERSION:2.0
PRODID:-//Odessa Arts - ECPv6.15.20//NONSGML v1.0//EN
CALSCALE:GREGORIAN
METHOD:PUBLISH
X-ORIGINAL-URL:https://odessaarts.org
X-WR-CALDESC:Events for Odessa Arts
REFRESH-INTERVAL;VALUE=DURATION:PT1H
X-Robots-Tag:noindex
X-PUBLISHED-TTL:PT1H
BEGIN:VTIMEZONE
TZID:America/Chicago
BEGIN:DAYLIGHT
TZOFFSETFROM:-0600
TZOFFSETTO:-0500
TZNAME:CDT
DTSTART:20240310T080000
END:DAYLIGHT
BEGIN:STANDARD
TZOFFSETFROM:-0500
TZOFFSETTO:-0600
TZNAME:CST
DTSTART:20241103T070000
END:STANDARD
BEGIN:DAYLIGHT
TZOFFSETFROM:-0600
TZOFFSETTO:-0500
TZNAME:CDT
DTSTART:20250309T080000
END:DAYLIGHT
BEGIN:STANDARD
TZOFFSETFROM:-0500
TZOFFSETTO:-0600
TZNAME:CST
DTSTART:20251102T070000
END:STANDARD
BEGIN:DAYLIGHT
TZOFFSETFROM:-0600
TZOFFSETTO:-0500
TZNAME:CDT
DTSTART:20260308T080000
END:DAYLIGHT
BEGIN:STANDARD
TZOFFSETFROM:-0500
TZOFFSETTO:-0600
TZNAME:CST
DTSTART:20261101T070000
END:STANDARD
END:VTIMEZONE
BEGIN:VEVENT
DTSTART;TZID=America/Chicago:20250424T170000
DTEND;TZID=America/Chicago:20250424T173000
DTSTAMP:20260425T052252
CREATED:20250424T154552Z
LAST-MODIFIED:20250424T154552Z
UID:76224-1745514000-1745515800@odessaarts.org
SUMMARY:Once Upon A Time: Family Storytime - DOWNTOWN
DESCRIPTION:Build early literacy skills in a welcoming environment through meaningful stories and crafts. Family.
URL:https://odessaarts.org/event/once-upon-a-time-family-storytime-downtown-2/
LOCATION:Midland Library at the Plaza (Downtown)\, 301 W. Missouri Ave.\, Midland\, TX\, 79701\, United States
CATEGORIES:Humanities,Theatre & Literary Arts
END:VEVENT
BEGIN:VEVENT
DTSTART;TZID=America/Chicago:20250424T193000
DTEND;TZID=America/Chicago:20250424T193000
DTSTAMP:20260425T052252
CREATED:20250122T161733Z
LAST-MODIFIED:20250122T161733Z
UID:75186-1745523000-1745523000@odessaarts.org
SUMMARY:360 Allstars
DESCRIPTION:BMX\, basketball\, breakdancing\, acrobatics\, drumming and more\, the international smash hit returns! \nA phenomenal physical performance exploring all forms of rotation\, 360 ALLSTARS connects the street with the elite to deliver a super charged urban circus. Boasting a stellar cast of World Champion and World Record holding artists and athletes\, 360 ALLSTARS is a spectacular fusion of the extraordinary artistry that emerges from street culture. \nAdd to this a stunning live soundtrack delivered by award winning musicians\, coupled with spectacular video projections\, 360 ALLSTARS is as aurally exciting as it is visually astounding. \nA magnificent\, colourful and astonishing expression of a generation that has reinvented the circus\, 360ALLSTARS is a revolutionary production that will leave you dizzy with excitement! \nDon’t miss this chance to catch 360 ALLSTARS at Wagner Noël PAC as part of their 10 year anniversary World Tour.
URL:https://odessaarts.org/event/360-allstars/
LOCATION:Wagner Noël Performing Arts Center\, 1310 FM 1788\, Midland\, Texas
CATEGORIES:Theatre & Literary Arts
END:VEVENT
BEGIN:VEVENT
DTSTART;VALUE=DATE:20250425
DTEND;VALUE=DATE:20250511
DTSTAMP:20260425T052252
CREATED:20250425T153735Z
LAST-MODIFIED:20250425T153735Z
UID:76293-1745539200-1746921599@odessaarts.org
SUMMARY:Puffs
DESCRIPTION:For seven years\, a boy went to wizard school and conquered evil–but this is not his story. This is the story of Puffs\, who just happened to be there too. \nGet Tickets
URL:https://odessaarts.org/event/puffs-2/
LOCATION:Midland Community Theatre\, 2000 W. Wadley\, Midland\, 79705\, United States
CATEGORIES:Theatre & Literary Arts
END:VEVENT
BEGIN:VEVENT
DTSTART;TZID=America/Chicago:20250425T093000
DTEND;TZID=America/Chicago:20250425T100000
DTSTAMP:20260425T052252
CREATED:20250421T185605Z
LAST-MODIFIED:20250421T185605Z
UID:76031-1745573400-1745575200@odessaarts.org
SUMMARY:Storytime
DESCRIPTION:DATE: April 25\, 27 | May 2\, 4\nTIME: 9:30-10 a.m.\nPRICE: Included with Membership or General Admission \nJoin Desert Botanical Garden for Storytime. Introduce your child five and younger to the beauty and wonder of nature through engaging books\, songs\, activities and play. Designed for children and caretakers\, each session leads children through an immersive experience of nature learning in the Garden. \nStorytime attendance is first come\, first serve. Space is limited. \nStorytime will take place in Weisz Learning Center \nApril 25 & 27 | Love\, The Earth by Frances Stickley\nMay 2 & 4 | Can You Hear the Plants Speak? by Nicholas Hummingbird with Julia Wasson 
URL:https://odessaarts.org/event/storytime-4/2025-04-25/
LOCATION:Desert Botanical Garden\, 1201 N. GALVIN PARKWAY\, Phoenix\, AZ\, 85008\, United States
CATEGORIES:Humanities,Theatre & Literary Arts
END:VEVENT
BEGIN:VEVENT
DTSTART;TZID=America/Chicago:20250425T174500
DTEND;TZID=America/Chicago:20250425T184500
DTSTAMP:20260425T052252
CREATED:20250424T155449Z
LAST-MODIFIED:20250424T155449Z
UID:76226-1745603100-1745606700@odessaarts.org
SUMMARY:Pickwick Players Present Saint George and the Dragon Puppet Show - CENTENNIAL
DESCRIPTION:Experience the legend of Saint George and the dragon at The AmazingCastle™ Puppet Theatre. Presented by Midland Community Theatre’s Pickwick Players. Sponsored by HEB. Family.
URL:https://odessaarts.org/event/pickwick-players-present-saint-george-and-the-dragon-puppet-show-centennial/
LOCATION:Midland County Library – Centennial Branch\, 2503 Loop 250 Frontage Rd.\, Midland\, TX\, 79705\, United States
CATEGORIES:Theatre & Literary Arts
END:VEVENT
BEGIN:VEVENT
DTSTART;TZID=America/Chicago:20250425T180000
DTEND;TZID=America/Chicago:20250425T220000
DTSTAMP:20260425T052252
CREATED:20250227T174543Z
LAST-MODIFIED:20250227T174543Z
UID:75418-1745604000-1745618400@odessaarts.org
SUMMARY:Permian Basin Opera Gala
DESCRIPTION:The Permian Basin Opera’s Gala is an annual event in Midland\, Texas\, that celebrates opera and supports the local arts community. The gala offers guests an elegant evening featuring live performances by talented local opera singers. \nWe will have six performers this year. \nSoprano Daniella Rodriguez \nSoprano Caroline Booth \nMezzo Soprano Jillian Pena \nTenor Zachery Douglas \nTenor Andrew Ellis \nBaritone Dirk Ross.
URL:https://odessaarts.org/event/permian-basin-opera-gala/
LOCATION:TBD
CATEGORIES:Music,Theatre & Literary Arts
END:VEVENT
BEGIN:VEVENT
DTSTART;TZID=America/Chicago:20250426T073000
DTEND;TZID=America/Chicago:20250426T123000
DTSTAMP:20260425T052252
CREATED:20250424T160629Z
LAST-MODIFIED:20250424T160629Z
UID:76228-1745652600-1745670600@odessaarts.org
SUMMARY:SHARE Walk - BOOKMOBILE
DESCRIPTION:The Midland County Library Bookmobile is available to come to any event for book checkouts and library card sign ups. To make a bookmobile stop request\, please call Dulciana Olguin at (432)-688-4325 or email at dolguin@mcounty.com.
URL:https://odessaarts.org/event/share-walk-bookmobile/
LOCATION:Midland Horseshoe Arena\, 2514 Arena Trl\, Midland\, TX\, 79701\, United States
CATEGORIES:Humanities,Theatre & Literary Arts
END:VEVENT
BEGIN:VEVENT
DTSTART;TZID=America/Chicago:20250426T110000
DTEND;TZID=America/Chicago:20250426T113000
DTSTAMP:20260425T052252
CREATED:20250424T161041Z
LAST-MODIFIED:20250424T161041Z
UID:76231-1745665200-1745667000@odessaarts.org
SUMMARY:Once Upon A Time: Family Storytime - CENTENNIAL
DESCRIPTION:Build early literacy skills in a welcoming environment through meaningful stories and crafts. Family.
URL:https://odessaarts.org/event/once-upon-a-time-family-storytime-centennial-2/
LOCATION:Midland County Library – Centennial Branch\, 2503 Loop 250 Frontage Rd.\, Midland\, TX\, 79705\, United States
CATEGORIES:Humanities,Theatre & Literary Arts
END:VEVENT
BEGIN:VEVENT
DTSTART;TZID=America/Chicago:20250427T093000
DTEND;TZID=America/Chicago:20250427T100000
DTSTAMP:20260425T052252
CREATED:20250421T185605Z
LAST-MODIFIED:20250421T185605Z
UID:76032-1745746200-1745748000@odessaarts.org
SUMMARY:Storytime
DESCRIPTION:DATE: April 25\, 27 | May 2\, 4\nTIME: 9:30-10 a.m.\nPRICE: Included with Membership or General Admission \nJoin Desert Botanical Garden for Storytime. Introduce your child five and younger to the beauty and wonder of nature through engaging books\, songs\, activities and play. Designed for children and caretakers\, each session leads children through an immersive experience of nature learning in the Garden. \nStorytime attendance is first come\, first serve. Space is limited. \nStorytime will take place in Weisz Learning Center \nApril 25 & 27 | Love\, The Earth by Frances Stickley\nMay 2 & 4 | Can You Hear the Plants Speak? by Nicholas Hummingbird with Julia Wasson 
URL:https://odessaarts.org/event/storytime-4/2025-04-27/
LOCATION:Desert Botanical Garden\, 1201 N. GALVIN PARKWAY\, Phoenix\, AZ\, 85008\, United States
CATEGORIES:Humanities,Theatre & Literary Arts
END:VEVENT
BEGIN:VEVENT
DTSTART;TZID=America/Chicago:20250429T110000
DTEND;TZID=America/Chicago:20250429T113000
DTSTAMP:20260425T052252
CREATED:20250424T161729Z
LAST-MODIFIED:20250424T161729Z
UID:76233-1745924400-1745926200@odessaarts.org
SUMMARY:Rhythm and Rhyme Storytime - CENTENNIAL
DESCRIPTION:Interactive storytime that includes early literacy fun with books\, songs\, fingerplays\, and body movement. Child must have an accompanying adult. Ages 0-2.
URL:https://odessaarts.org/event/rhythm-and-rhyme-storytime-centennial-6/
LOCATION:Midland County Library – Centennial Branch\, 2503 Loop 250 Frontage Rd.\, Midland\, TX\, 79705\, United States
CATEGORIES:Humanities,Theatre & Literary Arts
END:VEVENT
BEGIN:VEVENT
DTSTART;TZID=America/Chicago:20250430T100000
DTEND;TZID=America/Chicago:20250430T113000
DTSTAMP:20260425T052252
CREATED:20250424T150813Z
LAST-MODIFIED:20250424T150813Z
UID:76204-1746007200-1746012600@odessaarts.org
SUMMARY:Storytime: Pets
DESCRIPTION:Dogs or cats or birds? Maybe even a hamster or even a snake. Pets fill homes and we’ll talk about pets in storytime today.
URL:https://odessaarts.org/event/storytime-pets/
LOCATION:Ector County Library
CATEGORIES:Theatre & Literary Arts
END:VEVENT
BEGIN:VEVENT
DTSTART;TZID=America/Chicago:20250430T110000
DTEND;TZID=America/Chicago:20250430T113000
DTSTAMP:20260425T052252
CREATED:20250304T182844Z
LAST-MODIFIED:20250304T182844Z
UID:75620-1746010800-1746012600@odessaarts.org
SUMMARY:Toddler Tales Storytime - CENTENNIAL
DESCRIPTION:Fun ways to help support toddlers’ developing literacy and cognitive growth by incorporating action rhymes\, songs\, and movement. Child must have an accompanying adult. Ages 3-5.
URL:https://odessaarts.org/event/toddler-tales-storytime-centennial-5/2025-04-30/
LOCATION:Midland County Library – Centennial Branch\, 2503 Loop 250 Frontage Rd.\, Midland\, TX\, 79705\, United States
CATEGORIES:Humanities,Theatre & Literary Arts
END:VEVENT
BEGIN:VEVENT
DTSTART;TZID=America/Chicago:20250430T110000
DTEND;TZID=America/Chicago:20250430T113000
DTSTAMP:20260425T052252
CREATED:20250304T183001Z
LAST-MODIFIED:20250304T183001Z
UID:75662-1746010800-1746012600@odessaarts.org
SUMMARY:Toddler Tales Storytime - DOWNTOWN
DESCRIPTION:Fun ways to help support toddlers’ developing literacy and cognitive growth by incorporating action rhymes\, songs\, and movement. Child must have an accompanying adult. Ages 3-5.
URL:https://odessaarts.org/event/toddler-tales-storytime-downtown-5/2025-04-30/
LOCATION:Midland Library at the Plaza (Downtown)\, 301 W. Missouri Ave.\, Midland\, TX\, 79701\, United States
CATEGORIES:Humanities,Theatre & Literary Arts
END:VEVENT
BEGIN:VEVENT
DTSTART;TZID=America/Chicago:20250430T130000
DTEND;TZID=America/Chicago:20250430T160000
DTSTAMP:20260425T052252
CREATED:20250424T162146Z
LAST-MODIFIED:20250424T162146Z
UID:76235-1746018000-1746028800@odessaarts.org
SUMMARY:Midland Health and Wellness - BOOKMOBILE
DESCRIPTION:The Midland County Library Bookmobile is available to come to any event for book checkouts and library card sign ups. To make a bookmobile stop request\, please call Dulciana Olguin at (432)-688-4325 or email at dolguin@mcounty.com.
URL:https://odessaarts.org/event/midland-health-and-wellness-bookmobile/
LOCATION:Midland Health Department\, 3303 W Illinois Ave\, Midland\, TX\, 79703\, United States
CATEGORIES:Humanities,Theatre & Literary Arts
END:VEVENT
BEGIN:VEVENT
DTSTART;TZID=America/Chicago:20250430T163000
DTEND;TZID=America/Chicago:20250430T173000
DTSTAMP:20260425T052252
CREATED:20250424T150952Z
LAST-MODIFIED:20250424T150952Z
UID:76206-1746030600-1746034200@odessaarts.org
SUMMARY:Sensory Friendly Storytime
DESCRIPTION:We are partnering with Share West Texas to offer friendly storytimes for local familes. We will meet for the storytime\, songs\, craft\, and sensory bins in the basement activity room.
URL:https://odessaarts.org/event/sensory-friendly-storytime-3/
LOCATION:Ector County Library
CATEGORIES:Theatre & Literary Arts
END:VEVENT
BEGIN:VEVENT
DTSTART;TZID=America/Chicago:20250501T160000
DTEND;TZID=America/Chicago:20250501T170000
DTSTAMP:20260425T052252
CREATED:20250424T151409Z
LAST-MODIFIED:20250424T151409Z
UID:76208-1746115200-1746118800@odessaarts.org
SUMMARY:Read to Rusty
DESCRIPTION:Felix is going on vacation\, but he has convinced his doggy friend\, Rusty\, to come let you read to him instead. \nFélix se va de vacaciones\, pero ha convencido a su amigo perrito\, Rusty\, para que venga a dejarte leerle.
URL:https://odessaarts.org/event/read-to-rusty/
LOCATION:Ector County Library
CATEGORIES:Theatre & Literary Arts
END:VEVENT
BEGIN:VEVENT
DTSTART;TZID=America/Chicago:20250501T173000
DTEND;TZID=America/Chicago:20250501T200000
DTSTAMP:20260425T052252
CREATED:20250425T195416Z
LAST-MODIFIED:20250425T195416Z
UID:76349-1746120600-1746129600@odessaarts.org
SUMMARY:Poetry\, Art and Music Night
DESCRIPTION:Midland College is celebrating the accomplishments of students in Fine Arts & Communications with the Hilda Simmons Levitt Poetry Contest\, the Student Art Show\, and a Student Music Concert! \n\nEach event will be held in the Allison Fine Arts Building\, on Thursday\, May 1st! The times for each are as follows:\n\n\n5:30 P.M. – Hilda Simmons Levitt Poetry Contest\n6:00 P.M. – 8:00 P.M. – Student Art Show Reception\n7:00 P.M. – Student Music Performance
URL:https://odessaarts.org/event/poetry-art-and-music-night/
LOCATION:Allison Fine Arts Building\, 3600 N Garfield St\, Midland\, TX\, 79705\, United States
CATEGORIES:Humanities,Music,Theatre & Literary Arts,Visual Arts
END:VEVENT
BEGIN:VEVENT
DTSTART;TZID=America/Chicago:20250502T093000
DTEND;TZID=America/Chicago:20250502T100000
DTSTAMP:20260425T052252
CREATED:20250421T185605Z
LAST-MODIFIED:20250421T185605Z
UID:76033-1746178200-1746180000@odessaarts.org
SUMMARY:Storytime
DESCRIPTION:DATE: April 25\, 27 | May 2\, 4\nTIME: 9:30-10 a.m.\nPRICE: Included with Membership or General Admission \nJoin Desert Botanical Garden for Storytime. Introduce your child five and younger to the beauty and wonder of nature through engaging books\, songs\, activities and play. Designed for children and caretakers\, each session leads children through an immersive experience of nature learning in the Garden. \nStorytime attendance is first come\, first serve. Space is limited. \nStorytime will take place in Weisz Learning Center \nApril 25 & 27 | Love\, The Earth by Frances Stickley\nMay 2 & 4 | Can You Hear the Plants Speak? by Nicholas Hummingbird with Julia Wasson 
URL:https://odessaarts.org/event/storytime-4/2025-05-02/
LOCATION:Desert Botanical Garden\, 1201 N. GALVIN PARKWAY\, Phoenix\, AZ\, 85008\, United States
CATEGORIES:Humanities,Theatre & Literary Arts
END:VEVENT
BEGIN:VEVENT
DTSTART;TZID=America/Chicago:20250504T093000
DTEND;TZID=America/Chicago:20250504T100000
DTSTAMP:20260425T052252
CREATED:20250421T185605Z
LAST-MODIFIED:20250421T185605Z
UID:76034-1746351000-1746352800@odessaarts.org
SUMMARY:Storytime
DESCRIPTION:DATE: April 25\, 27 | May 2\, 4\nTIME: 9:30-10 a.m.\nPRICE: Included with Membership or General Admission \nJoin Desert Botanical Garden for Storytime. Introduce your child five and younger to the beauty and wonder of nature through engaging books\, songs\, activities and play. Designed for children and caretakers\, each session leads children through an immersive experience of nature learning in the Garden. \nStorytime attendance is first come\, first serve. Space is limited. \nStorytime will take place in Weisz Learning Center \nApril 25 & 27 | Love\, The Earth by Frances Stickley\nMay 2 & 4 | Can You Hear the Plants Speak? by Nicholas Hummingbird with Julia Wasson 
URL:https://odessaarts.org/event/storytime-4/2025-05-04/
LOCATION:Desert Botanical Garden\, 1201 N. GALVIN PARKWAY\, Phoenix\, AZ\, 85008\, United States
CATEGORIES:Humanities,Theatre & Literary Arts
END:VEVENT
BEGIN:VEVENT
DTSTART;TZID=America/Chicago:20250506T110000
DTEND;TZID=America/Chicago:20250506T113000
DTSTAMP:20260425T052252
CREATED:20250424T162456Z
LAST-MODIFIED:20250424T162456Z
UID:76238-1746529200-1746531000@odessaarts.org
SUMMARY:Rhythm and Rhyme Storytime - CENTENNIA
DESCRIPTION:Interactive storytime that includes early literacy fun with books\, songs\, fingerplays\, and body movement. Child must have an accompanying adult. Ages 0-2.
URL:https://odessaarts.org/event/rhythm-and-rhyme-storytime-centennia/
LOCATION:Midland County Library – Centennial Branch\, 2503 Loop 250 Frontage Rd.\, Midland\, TX\, 79705\, United States
CATEGORIES:Humanities,Theatre & Literary Arts
END:VEVENT
BEGIN:VEVENT
DTSTART;TZID=America/Chicago:20250507T110000
DTEND;TZID=America/Chicago:20250507T113000
DTSTAMP:20260425T052252
CREATED:20250304T182844Z
LAST-MODIFIED:20250304T182844Z
UID:75621-1746615600-1746617400@odessaarts.org
SUMMARY:Toddler Tales Storytime - CENTENNIAL
DESCRIPTION:Fun ways to help support toddlers’ developing literacy and cognitive growth by incorporating action rhymes\, songs\, and movement. Child must have an accompanying adult. Ages 3-5.
URL:https://odessaarts.org/event/toddler-tales-storytime-centennial-5/2025-05-07/
LOCATION:Midland County Library – Centennial Branch\, 2503 Loop 250 Frontage Rd.\, Midland\, TX\, 79705\, United States
CATEGORIES:Humanities,Theatre & Literary Arts
END:VEVENT
BEGIN:VEVENT
DTSTART;TZID=America/Chicago:20250507T110000
DTEND;TZID=America/Chicago:20250507T113000
DTSTAMP:20260425T052252
CREATED:20250304T183001Z
LAST-MODIFIED:20250304T183001Z
UID:75663-1746615600-1746617400@odessaarts.org
SUMMARY:Toddler Tales Storytime - DOWNTOWN
DESCRIPTION:Fun ways to help support toddlers’ developing literacy and cognitive growth by incorporating action rhymes\, songs\, and movement. Child must have an accompanying adult. Ages 3-5.
URL:https://odessaarts.org/event/toddler-tales-storytime-downtown-5/2025-05-07/
LOCATION:Midland Library at the Plaza (Downtown)\, 301 W. Missouri Ave.\, Midland\, TX\, 79701\, United States
CATEGORIES:Humanities,Theatre & Literary Arts
END:VEVENT
BEGIN:VEVENT
DTSTART;TZID=America/Chicago:20250507T130000
DTEND;TZID=America/Chicago:20250507T133000
DTSTAMP:20260425T052252
CREATED:20250227T165620Z
LAST-MODIFIED:20250227T165620Z
UID:75410-1746622800-1746624600@odessaarts.org
SUMMARY:Art Tales: Waiting
DESCRIPTION:Join us at the Ellen Noël Art Museum for a delightful event tailored for art-loving preschoolers aged 3-5 and their grown-ups. At 1:00 PM\, we invite you to immerse yourselves in a beautifully illustrated story and a fun art activity. This free event offers an engaging children’s story followed by a hands-on art project related to the tale. \nOur featured book for this session is Waiting by Kevin Henkes. Young attendees will be entertained by the charming story of a group of animals waiting for various things. After the story\, children will participate in an art activity inspired by the adventures. It’s a wonderful opportunity to foster a love of reading and creativity in young children while spending quality time together. We look forward to welcoming you and your little artists to the museum for this fun and inspiring event!
URL:https://odessaarts.org/event/art-tales-waiting/
LOCATION:Ellen Noel Art Museum\, 4909 E. University\, Odessa\, TX\, 79762\, United States
CATEGORIES:Humanities,Theatre & Literary Arts
END:VEVENT
BEGIN:VEVENT
DTSTART;TZID=America/Chicago:20250507T193000
DTEND;TZID=America/Chicago:20250507T193000
DTSTAMP:20260425T052252
CREATED:20250109T222048Z
LAST-MODIFIED:20250109T222048Z
UID:75112-1746646200-1746646200@odessaarts.org
SUMMARY:Alton Brown Live Last Bite
DESCRIPTION:Alton Brown Live: Last Bite Alton Brown Live: Last Bite\, the famed foodist reflects on his decades in food media\, presents several of his favorite culinary mega-hacks\, sings some of his funny food songs\, and in general offers a culinary variety show the likes of which human eyes have never seen. \n 
URL:https://odessaarts.org/event/alton-brown-live-last-bite/
LOCATION:Wagner Noël Performing Arts Center\, 1310 FM 1788\, Midland\, Texas
CATEGORIES:Music,Theatre & Literary Arts
END:VEVENT
BEGIN:VEVENT
DTSTART;TZID=America/Chicago:20250508T160000
DTEND;TZID=America/Chicago:20250508T170000
DTSTAMP:20260425T052252
CREATED:20250424T151703Z
LAST-MODIFIED:20250424T151703Z
UID:76210-1746720000-1746723600@odessaarts.org
SUMMARY:Read to Louie
DESCRIPTION:Felix is still on vacation\, but his friend Louie is ready for you to grab a book and maybe scritch ears! \nFélix todavía está de vacaciones\, ¡pero su amigo Louie está listo para que tomes un libro y quizás le rasques las orejas!
URL:https://odessaarts.org/event/read-to-louie/
LOCATION:Ector County Library
CATEGORIES:Theatre & Literary Arts
END:VEVENT
BEGIN:VEVENT
DTSTART;TZID=America/Chicago:20250508T180000
DTEND;TZID=America/Chicago:20250508T180000
DTSTAMP:20260425T052252
CREATED:20250325T151257Z
LAST-MODIFIED:20250325T151257Z
UID:75909-1746727200-1746727200@odessaarts.org
SUMMARY:Book Buzz
DESCRIPTION:Join Penguin/Random House Representative\, Liz Sullivan\, for a lively discussion about new releases and interesting reads. We’ll also be searching for a future Book Talk Selection. Free! Drinks and snacks with be served. Ages 18+
URL:https://odessaarts.org/event/book-buzz-3/
LOCATION:Ellen Noel Art Museum\, 4909 E. University\, Odessa\, TX\, 79762\, United States
CATEGORIES:Humanities,Theatre & Literary Arts
END:VEVENT
BEGIN:VEVENT
DTSTART;TZID=America/Chicago:20250509T193000
DTEND;TZID=America/Chicago:20250509T193000
DTSTAMP:20260425T052252
CREATED:20250424T142657Z
LAST-MODIFIED:20250424T142657Z
UID:76119-1746819000-1746819000@odessaarts.org
SUMMARY:The Last Five Years
DESCRIPTION:Discover the emotional journey of love in The Last Five Years\, a captivating musical that follows Cathy and Jamie as they navigate the highs and lows of their relationship over five transformative years. Join us for an unforgettable experience that will resonate with anyone who has ever loved. Don’t miss your chance to see this extraordinary production live!
URL:https://odessaarts.org/event/the-last-five-years/2025-05-09/
LOCATION:Basin Theatre Works\, 310 W. 42nd Street\, Odessa\, TX\, 79764\, United States
CATEGORIES:Theatre & Literary Arts
END:VEVENT
BEGIN:VEVENT
DTSTART;TZID=America/Chicago:20250510T183000
DTEND;TZID=America/Chicago:20250510T183000
DTSTAMP:20260425T052252
CREATED:20250421T203015Z
LAST-MODIFIED:20250421T203015Z
UID:76075-1746901800-1746901800@odessaarts.org
SUMMARY:Midland Festival Ballet Presents Bach in Ballet
DESCRIPTION:This year’s showcase is themed around Johan Sebastian Bach. The Baroque composer may seem old\, and maybe even irrelevant\, but many famous neoclassical ballets are set to Bach’s music – most notably Concerto Barocco by George Balanchine\, which remains one of Balanchine’s most performed works around the world! Neoclassical ballet is all about making the music visual\, a difficult skill we start teaching and refining even in our youngest dancers. We’re excited to work with them as they hear new melodies (and instruments!) and learn about some of these ballets (an important part of a dancer’s education) while demonstrating all they’ve learned this year!
URL:https://odessaarts.org/event/midland-festival-ballet-presents-bach-in-ballet/
LOCATION:Wagner Noël Performing Arts Center\, 1310 FM 1788\, Midland\, Texas
CATEGORIES:Music,Theatre & Literary Arts
END:VEVENT
BEGIN:VEVENT
DTSTART;TZID=America/Chicago:20250510T193000
DTEND;TZID=America/Chicago:20250510T193000
DTSTAMP:20260425T052252
CREATED:20250424T142657Z
LAST-MODIFIED:20250424T142657Z
UID:76120-1746905400-1746905400@odessaarts.org
SUMMARY:The Last Five Years
DESCRIPTION:Discover the emotional journey of love in The Last Five Years\, a captivating musical that follows Cathy and Jamie as they navigate the highs and lows of their relationship over five transformative years. Join us for an unforgettable experience that will resonate with anyone who has ever loved. Don’t miss your chance to see this extraordinary production live!
URL:https://odessaarts.org/event/the-last-five-years/2025-05-10/
LOCATION:Basin Theatre Works\, 310 W. 42nd Street\, Odessa\, TX\, 79764\, United States
CATEGORIES:Theatre & Literary Arts
END:VEVENT
BEGIN:VEVENT
DTSTART;TZID=America/Chicago:20250511T093000
DTEND;TZID=America/Chicago:20250511T093000
DTSTAMP:20260425T052252
CREATED:20250421T191531Z
LAST-MODIFIED:20250421T191531Z
UID:76042-1746955800-1746955800@odessaarts.org
SUMMARY:The Great Arizona Puppet Theatre
DESCRIPTION:DATE: May 11\nTIME: 9:30 a.m. and 11:30 a.m.\nPRICE: Included with Membership or General Admission. Reservations required. \nThe Great Arizona Puppet Theater will be coming to the desert this year! Create a wonderful day at the Desert Botanical Garden. Enjoy an award-winning puppet show and spend time exploring our trails and the Cactus Clubhouse—our special play area for children and caregivers​ \nOld MacDonald’s Ranch | May 11 | Dorrance Hall | Performances at 9:30 and 11:30 a.m.\nJoin us for a special Mother’s Day event. Old MacDonald has moved off of the farm and onto a ranch right here in the Sonoran desert! Come along and meet all the native Arizona animals for this silly sing-along show. After each performance\, stay to make your own puppet! Puppet Making 10 a.m. – 1 p.m.
URL:https://odessaarts.org/event/the-great-arizona-puppet-theatre/
LOCATION:Desert Botanical Garden\, 1201 N. GALVIN PARKWAY\, Phoenix\, AZ\, 85008\, United States
CATEGORIES:Humanities,Theatre & Literary Arts
END:VEVENT
END:VCALENDAR