BEGIN:VCALENDAR
VERSION:2.0
PRODID:-//Odessa Arts - ECPv6.15.20//NONSGML v1.0//EN
CALSCALE:GREGORIAN
METHOD:PUBLISH
X-ORIGINAL-URL:https://odessaarts.org
X-WR-CALDESC:Events for Odessa Arts
REFRESH-INTERVAL;VALUE=DURATION:PT1H
X-Robots-Tag:noindex
X-PUBLISHED-TTL:PT1H
BEGIN:VTIMEZONE
TZID:America/Chicago
BEGIN:DAYLIGHT
TZOFFSETFROM:-0600
TZOFFSETTO:-0500
TZNAME:CDT
DTSTART:20260308T080000
END:DAYLIGHT
BEGIN:STANDARD
TZOFFSETFROM:-0500
TZOFFSETTO:-0600
TZNAME:CST
DTSTART:20261101T070000
END:STANDARD
BEGIN:DAYLIGHT
TZOFFSETFROM:-0600
TZOFFSETTO:-0500
TZNAME:CDT
DTSTART:20270314T080000
END:DAYLIGHT
BEGIN:STANDARD
TZOFFSETFROM:-0500
TZOFFSETTO:-0600
TZNAME:CST
DTSTART:20271107T070000
END:STANDARD
BEGIN:DAYLIGHT
TZOFFSETFROM:-0600
TZOFFSETTO:-0500
TZNAME:CDT
DTSTART:20280312T080000
END:DAYLIGHT
BEGIN:STANDARD
TZOFFSETFROM:-0500
TZOFFSETTO:-0600
TZNAME:CST
DTSTART:20281105T070000
END:STANDARD
END:VTIMEZONE
BEGIN:VEVENT
DTSTART;TZID=America/Chicago:20270310T110000
DTEND;TZID=America/Chicago:20270310T113000
DTSTAMP:20260425T081849
CREATED:20250304T182844Z
LAST-MODIFIED:20250304T182844Z
UID:75801-1804676400-1804678200@odessaarts.org
SUMMARY:Toddler Tales Storytime - CENTENNIAL
DESCRIPTION:Fun ways to help support toddlers’ developing literacy and cognitive growth by incorporating action rhymes\, songs\, and movement. Child must have an accompanying adult. Ages 3-5.
URL:https://odessaarts.org/event/toddler-tales-storytime-centennial-5/2027-03-10/
LOCATION:Midland County Library – Centennial Branch\, 2503 Loop 250 Frontage Rd.\, Midland\, TX\, 79705\, United States
CATEGORIES:Humanities,Theatre & Literary Arts
END:VEVENT
BEGIN:VEVENT
DTSTART;TZID=America/Chicago:20270310T110000
DTEND;TZID=America/Chicago:20270310T113000
DTSTAMP:20260425T081849
CREATED:20250304T183001Z
LAST-MODIFIED:20250304T183001Z
UID:75802-1804676400-1804678200@odessaarts.org
SUMMARY:Toddler Tales Storytime - DOWNTOWN
DESCRIPTION:Fun ways to help support toddlers’ developing literacy and cognitive growth by incorporating action rhymes\, songs\, and movement. Child must have an accompanying adult. Ages 3-5.
URL:https://odessaarts.org/event/toddler-tales-storytime-downtown-5/2027-03-10/
LOCATION:Midland Library at the Plaza (Downtown)\, 301 W. Missouri Ave.\, Midland\, TX\, 79701\, United States
CATEGORIES:Humanities,Theatre & Literary Arts
END:VEVENT
BEGIN:VEVENT
DTSTART;TZID=America/Chicago:20270317T110000
DTEND;TZID=America/Chicago:20270317T113000
DTSTAMP:20260425T081849
CREATED:20250304T182844Z
LAST-MODIFIED:20250304T182844Z
UID:75816-1805281200-1805283000@odessaarts.org
SUMMARY:Toddler Tales Storytime - CENTENNIAL
DESCRIPTION:Fun ways to help support toddlers’ developing literacy and cognitive growth by incorporating action rhymes\, songs\, and movement. Child must have an accompanying adult. Ages 3-5.
URL:https://odessaarts.org/event/toddler-tales-storytime-centennial-5/2027-03-17/
LOCATION:Midland County Library – Centennial Branch\, 2503 Loop 250 Frontage Rd.\, Midland\, TX\, 79705\, United States
CATEGORIES:Humanities,Theatre & Literary Arts
END:VEVENT
BEGIN:VEVENT
DTSTART;TZID=America/Chicago:20270317T110000
DTEND;TZID=America/Chicago:20270317T113000
DTSTAMP:20260425T081849
CREATED:20250304T183001Z
LAST-MODIFIED:20250304T183001Z
UID:75817-1805281200-1805283000@odessaarts.org
SUMMARY:Toddler Tales Storytime - DOWNTOWN
DESCRIPTION:Fun ways to help support toddlers’ developing literacy and cognitive growth by incorporating action rhymes\, songs\, and movement. Child must have an accompanying adult. Ages 3-5.
URL:https://odessaarts.org/event/toddler-tales-storytime-downtown-5/2027-03-17/
LOCATION:Midland Library at the Plaza (Downtown)\, 301 W. Missouri Ave.\, Midland\, TX\, 79701\, United States
CATEGORIES:Humanities,Theatre & Literary Arts
END:VEVENT
BEGIN:VEVENT
DTSTART;TZID=America/Chicago:20270324T110000
DTEND;TZID=America/Chicago:20270324T113000
DTSTAMP:20260425T081849
CREATED:20250304T182844Z
LAST-MODIFIED:20250304T182844Z
UID:75952-1805886000-1805887800@odessaarts.org
SUMMARY:Toddler Tales Storytime - CENTENNIAL
DESCRIPTION:Fun ways to help support toddlers’ developing literacy and cognitive growth by incorporating action rhymes\, songs\, and movement. Child must have an accompanying adult. Ages 3-5.
URL:https://odessaarts.org/event/toddler-tales-storytime-centennial-5/2027-03-24/
LOCATION:Midland County Library – Centennial Branch\, 2503 Loop 250 Frontage Rd.\, Midland\, TX\, 79705\, United States
CATEGORIES:Humanities,Theatre & Literary Arts
END:VEVENT
BEGIN:VEVENT
DTSTART;TZID=America/Chicago:20270324T110000
DTEND;TZID=America/Chicago:20270324T113000
DTSTAMP:20260425T081849
CREATED:20250304T183001Z
LAST-MODIFIED:20250304T183001Z
UID:75953-1805886000-1805887800@odessaarts.org
SUMMARY:Toddler Tales Storytime - DOWNTOWN
DESCRIPTION:Fun ways to help support toddlers’ developing literacy and cognitive growth by incorporating action rhymes\, songs\, and movement. Child must have an accompanying adult. Ages 3-5.
URL:https://odessaarts.org/event/toddler-tales-storytime-downtown-5/2027-03-24/
LOCATION:Midland Library at the Plaza (Downtown)\, 301 W. Missouri Ave.\, Midland\, TX\, 79701\, United States
CATEGORIES:Humanities,Theatre & Literary Arts
END:VEVENT
BEGIN:VEVENT
DTSTART;TZID=America/Chicago:20270331T110000
DTEND;TZID=America/Chicago:20270331T113000
DTSTAMP:20260425T081849
CREATED:20250304T182844Z
LAST-MODIFIED:20250304T182844Z
UID:75968-1806490800-1806492600@odessaarts.org
SUMMARY:Toddler Tales Storytime - CENTENNIAL
DESCRIPTION:Fun ways to help support toddlers’ developing literacy and cognitive growth by incorporating action rhymes\, songs\, and movement. Child must have an accompanying adult. Ages 3-5.
URL:https://odessaarts.org/event/toddler-tales-storytime-centennial-5/2027-03-31/
LOCATION:Midland County Library – Centennial Branch\, 2503 Loop 250 Frontage Rd.\, Midland\, TX\, 79705\, United States
CATEGORIES:Humanities,Theatre & Literary Arts
END:VEVENT
BEGIN:VEVENT
DTSTART;TZID=America/Chicago:20270331T110000
DTEND;TZID=America/Chicago:20270331T113000
DTSTAMP:20260425T081849
CREATED:20250304T183001Z
LAST-MODIFIED:20250304T183001Z
UID:75969-1806490800-1806492600@odessaarts.org
SUMMARY:Toddler Tales Storytime - DOWNTOWN
DESCRIPTION:Fun ways to help support toddlers’ developing literacy and cognitive growth by incorporating action rhymes\, songs\, and movement. Child must have an accompanying adult. Ages 3-5.
URL:https://odessaarts.org/event/toddler-tales-storytime-downtown-5/2027-03-31/
LOCATION:Midland Library at the Plaza (Downtown)\, 301 W. Missouri Ave.\, Midland\, TX\, 79701\, United States
CATEGORIES:Humanities,Theatre & Literary Arts
END:VEVENT
BEGIN:VEVENT
DTSTART;TZID=America/Chicago:20270402T180000
DTEND;TZID=America/Chicago:20270402T210000
DTSTAMP:20260425T081849
CREATED:20260114T175014Z
LAST-MODIFIED:20260114T175040Z
UID:77595-1806688800-1806699600@odessaarts.org
SUMMARY:First Friday ODTX!
DESCRIPTION:First Friday ODTX is a monthly gathering every first Friday of the month for residents and visitors of downtown Odessa. Each month\, the streets are lively and colorful with music\, games\, and delicious food. There are unbeatable deals from local businesses and exciting opportunities to collect amazing giveaways. The event is open to all ages and caters to everyone’s interests. For music lovers\, there are live performances by local bands and artists\, while foodies can indulge in a diverse range of street eats. Downtown shops and eateries will offer special promotions. First Friday ODTX event brings vibrancy and community spirit to downtown Odessa\, making it the perfect place to spend a Friday evening.
URL:https://odessaarts.org/event/first-friday-6/2027-04-02/
LOCATION:Downtown Odessa\, 79761\, United States
CATEGORIES:Humanities,Music,Public Art,Theatre & Literary Arts,Visual Arts
END:VEVENT
BEGIN:VEVENT
DTSTART;TZID=America/Chicago:20270407T110000
DTEND;TZID=America/Chicago:20270407T113000
DTSTAMP:20260425T081849
CREATED:20250304T182844Z
LAST-MODIFIED:20250304T182844Z
UID:75974-1807095600-1807097400@odessaarts.org
SUMMARY:Toddler Tales Storytime - CENTENNIAL
DESCRIPTION:Fun ways to help support toddlers’ developing literacy and cognitive growth by incorporating action rhymes\, songs\, and movement. Child must have an accompanying adult. Ages 3-5.
URL:https://odessaarts.org/event/toddler-tales-storytime-centennial-5/2027-04-07/
LOCATION:Midland County Library – Centennial Branch\, 2503 Loop 250 Frontage Rd.\, Midland\, TX\, 79705\, United States
CATEGORIES:Humanities,Theatre & Literary Arts
END:VEVENT
BEGIN:VEVENT
DTSTART;TZID=America/Chicago:20270407T110000
DTEND;TZID=America/Chicago:20270407T113000
DTSTAMP:20260425T081849
CREATED:20250304T183001Z
LAST-MODIFIED:20250304T183001Z
UID:75975-1807095600-1807097400@odessaarts.org
SUMMARY:Toddler Tales Storytime - DOWNTOWN
DESCRIPTION:Fun ways to help support toddlers’ developing literacy and cognitive growth by incorporating action rhymes\, songs\, and movement. Child must have an accompanying adult. Ages 3-5.
URL:https://odessaarts.org/event/toddler-tales-storytime-downtown-5/2027-04-07/
LOCATION:Midland Library at the Plaza (Downtown)\, 301 W. Missouri Ave.\, Midland\, TX\, 79701\, United States
CATEGORIES:Humanities,Theatre & Literary Arts
END:VEVENT
BEGIN:VEVENT
DTSTART;TZID=America/Chicago:20270414T110000
DTEND;TZID=America/Chicago:20270414T113000
DTSTAMP:20260425T081849
CREATED:20250304T182844Z
LAST-MODIFIED:20250304T182844Z
UID:75979-1807700400-1807702200@odessaarts.org
SUMMARY:Toddler Tales Storytime - CENTENNIAL
DESCRIPTION:Fun ways to help support toddlers’ developing literacy and cognitive growth by incorporating action rhymes\, songs\, and movement. Child must have an accompanying adult. Ages 3-5.
URL:https://odessaarts.org/event/toddler-tales-storytime-centennial-5/2027-04-14/
LOCATION:Midland County Library – Centennial Branch\, 2503 Loop 250 Frontage Rd.\, Midland\, TX\, 79705\, United States
CATEGORIES:Humanities,Theatre & Literary Arts
END:VEVENT
BEGIN:VEVENT
DTSTART;TZID=America/Chicago:20270414T110000
DTEND;TZID=America/Chicago:20270414T113000
DTSTAMP:20260425T081849
CREATED:20250304T183001Z
LAST-MODIFIED:20250304T183001Z
UID:75980-1807700400-1807702200@odessaarts.org
SUMMARY:Toddler Tales Storytime - DOWNTOWN
DESCRIPTION:Fun ways to help support toddlers’ developing literacy and cognitive growth by incorporating action rhymes\, songs\, and movement. Child must have an accompanying adult. Ages 3-5.
URL:https://odessaarts.org/event/toddler-tales-storytime-downtown-5/2027-04-14/
LOCATION:Midland Library at the Plaza (Downtown)\, 301 W. Missouri Ave.\, Midland\, TX\, 79701\, United States
CATEGORIES:Humanities,Theatre & Literary Arts
END:VEVENT
BEGIN:VEVENT
DTSTART;TZID=America/Chicago:20270421T110000
DTEND;TZID=America/Chicago:20270421T113000
DTSTAMP:20260425T081849
CREATED:20250304T182844Z
LAST-MODIFIED:20250304T182844Z
UID:76113-1808305200-1808307000@odessaarts.org
SUMMARY:Toddler Tales Storytime - CENTENNIAL
DESCRIPTION:Fun ways to help support toddlers’ developing literacy and cognitive growth by incorporating action rhymes\, songs\, and movement. Child must have an accompanying adult. Ages 3-5.
URL:https://odessaarts.org/event/toddler-tales-storytime-centennial-5/2027-04-21/
LOCATION:Midland County Library – Centennial Branch\, 2503 Loop 250 Frontage Rd.\, Midland\, TX\, 79705\, United States
CATEGORIES:Humanities,Theatre & Literary Arts
END:VEVENT
BEGIN:VEVENT
DTSTART;TZID=America/Chicago:20270421T110000
DTEND;TZID=America/Chicago:20270421T113000
DTSTAMP:20260425T081849
CREATED:20250304T183001Z
LAST-MODIFIED:20250304T183001Z
UID:76114-1808305200-1808307000@odessaarts.org
SUMMARY:Toddler Tales Storytime - DOWNTOWN
DESCRIPTION:Fun ways to help support toddlers’ developing literacy and cognitive growth by incorporating action rhymes\, songs\, and movement. Child must have an accompanying adult. Ages 3-5.
URL:https://odessaarts.org/event/toddler-tales-storytime-downtown-5/2027-04-21/
LOCATION:Midland Library at the Plaza (Downtown)\, 301 W. Missouri Ave.\, Midland\, TX\, 79701\, United States
CATEGORIES:Humanities,Theatre & Literary Arts
END:VEVENT
BEGIN:VEVENT
DTSTART;TZID=America/Chicago:20270428T110000
DTEND;TZID=America/Chicago:20270428T113000
DTSTAMP:20260425T081849
CREATED:20250304T182844Z
LAST-MODIFIED:20250304T182844Z
UID:76360-1808910000-1808911800@odessaarts.org
SUMMARY:Toddler Tales Storytime - CENTENNIAL
DESCRIPTION:Fun ways to help support toddlers’ developing literacy and cognitive growth by incorporating action rhymes\, songs\, and movement. Child must have an accompanying adult. Ages 3-5.
URL:https://odessaarts.org/event/toddler-tales-storytime-centennial-5/2027-04-28/
LOCATION:Midland County Library – Centennial Branch\, 2503 Loop 250 Frontage Rd.\, Midland\, TX\, 79705\, United States
CATEGORIES:Humanities,Theatre & Literary Arts
END:VEVENT
BEGIN:VEVENT
DTSTART;TZID=America/Chicago:20270428T110000
DTEND;TZID=America/Chicago:20270428T113000
DTSTAMP:20260425T081849
CREATED:20250304T183001Z
LAST-MODIFIED:20250304T183001Z
UID:76361-1808910000-1808911800@odessaarts.org
SUMMARY:Toddler Tales Storytime - DOWNTOWN
DESCRIPTION:Fun ways to help support toddlers’ developing literacy and cognitive growth by incorporating action rhymes\, songs\, and movement. Child must have an accompanying adult. Ages 3-5.
URL:https://odessaarts.org/event/toddler-tales-storytime-downtown-5/2027-04-28/
LOCATION:Midland Library at the Plaza (Downtown)\, 301 W. Missouri Ave.\, Midland\, TX\, 79701\, United States
CATEGORIES:Humanities,Theatre & Literary Arts
END:VEVENT
BEGIN:VEVENT
DTSTART;TZID=America/Chicago:20270505T110000
DTEND;TZID=America/Chicago:20270505T113000
DTSTAMP:20260425T081849
CREATED:20250304T182844Z
LAST-MODIFIED:20250304T182844Z
UID:76376-1809514800-1809516600@odessaarts.org
SUMMARY:Toddler Tales Storytime - CENTENNIAL
DESCRIPTION:Fun ways to help support toddlers’ developing literacy and cognitive growth by incorporating action rhymes\, songs\, and movement. Child must have an accompanying adult. Ages 3-5.
URL:https://odessaarts.org/event/toddler-tales-storytime-centennial-5/2027-05-05/
LOCATION:Midland County Library – Centennial Branch\, 2503 Loop 250 Frontage Rd.\, Midland\, TX\, 79705\, United States
CATEGORIES:Humanities,Theatre & Literary Arts
END:VEVENT
BEGIN:VEVENT
DTSTART;TZID=America/Chicago:20270505T110000
DTEND;TZID=America/Chicago:20270505T113000
DTSTAMP:20260425T081849
CREATED:20250304T183001Z
LAST-MODIFIED:20250304T183001Z
UID:76377-1809514800-1809516600@odessaarts.org
SUMMARY:Toddler Tales Storytime - DOWNTOWN
DESCRIPTION:Fun ways to help support toddlers’ developing literacy and cognitive growth by incorporating action rhymes\, songs\, and movement. Child must have an accompanying adult. Ages 3-5.
URL:https://odessaarts.org/event/toddler-tales-storytime-downtown-5/2027-05-05/
LOCATION:Midland Library at the Plaza (Downtown)\, 301 W. Missouri Ave.\, Midland\, TX\, 79701\, United States
CATEGORIES:Humanities,Theatre & Literary Arts
END:VEVENT
BEGIN:VEVENT
DTSTART;TZID=America/Chicago:20270507T180000
DTEND;TZID=America/Chicago:20270507T210000
DTSTAMP:20260425T081849
CREATED:20260114T175014Z
LAST-MODIFIED:20260114T175040Z
UID:77596-1809712800-1809723600@odessaarts.org
SUMMARY:First Friday ODTX!
DESCRIPTION:First Friday ODTX is a monthly gathering every first Friday of the month for residents and visitors of downtown Odessa. Each month\, the streets are lively and colorful with music\, games\, and delicious food. There are unbeatable deals from local businesses and exciting opportunities to collect amazing giveaways. The event is open to all ages and caters to everyone’s interests. For music lovers\, there are live performances by local bands and artists\, while foodies can indulge in a diverse range of street eats. Downtown shops and eateries will offer special promotions. First Friday ODTX event brings vibrancy and community spirit to downtown Odessa\, making it the perfect place to spend a Friday evening.
URL:https://odessaarts.org/event/first-friday-6/2027-05-07/
LOCATION:Downtown Odessa\, 79761\, United States
CATEGORIES:Humanities,Music,Public Art,Theatre & Literary Arts,Visual Arts
END:VEVENT
BEGIN:VEVENT
DTSTART;TZID=America/Chicago:20270512T110000
DTEND;TZID=America/Chicago:20270512T113000
DTSTAMP:20260425T081849
CREATED:20250304T182844Z
LAST-MODIFIED:20250304T182844Z
UID:76380-1810119600-1810121400@odessaarts.org
SUMMARY:Toddler Tales Storytime - CENTENNIAL
DESCRIPTION:Fun ways to help support toddlers’ developing literacy and cognitive growth by incorporating action rhymes\, songs\, and movement. Child must have an accompanying adult. Ages 3-5.
URL:https://odessaarts.org/event/toddler-tales-storytime-centennial-5/2027-05-12/
LOCATION:Midland County Library – Centennial Branch\, 2503 Loop 250 Frontage Rd.\, Midland\, TX\, 79705\, United States
CATEGORIES:Humanities,Theatre & Literary Arts
END:VEVENT
BEGIN:VEVENT
DTSTART;TZID=America/Chicago:20270512T110000
DTEND;TZID=America/Chicago:20270512T113000
DTSTAMP:20260425T081849
CREATED:20250304T183001Z
LAST-MODIFIED:20250304T183001Z
UID:76381-1810119600-1810121400@odessaarts.org
SUMMARY:Toddler Tales Storytime - DOWNTOWN
DESCRIPTION:Fun ways to help support toddlers’ developing literacy and cognitive growth by incorporating action rhymes\, songs\, and movement. Child must have an accompanying adult. Ages 3-5.
URL:https://odessaarts.org/event/toddler-tales-storytime-downtown-5/2027-05-12/
LOCATION:Midland Library at the Plaza (Downtown)\, 301 W. Missouri Ave.\, Midland\, TX\, 79701\, United States
CATEGORIES:Humanities,Theatre & Literary Arts
END:VEVENT
BEGIN:VEVENT
DTSTART;TZID=America/Chicago:20270519T110000
DTEND;TZID=America/Chicago:20270519T113000
DTSTAMP:20260425T081849
CREATED:20250304T182844Z
LAST-MODIFIED:20250304T182844Z
UID:76385-1810724400-1810726200@odessaarts.org
SUMMARY:Toddler Tales Storytime - CENTENNIAL
DESCRIPTION:Fun ways to help support toddlers’ developing literacy and cognitive growth by incorporating action rhymes\, songs\, and movement. Child must have an accompanying adult. Ages 3-5.
URL:https://odessaarts.org/event/toddler-tales-storytime-centennial-5/2027-05-19/
LOCATION:Midland County Library – Centennial Branch\, 2503 Loop 250 Frontage Rd.\, Midland\, TX\, 79705\, United States
CATEGORIES:Humanities,Theatre & Literary Arts
END:VEVENT
BEGIN:VEVENT
DTSTART;TZID=America/Chicago:20270519T110000
DTEND;TZID=America/Chicago:20270519T113000
DTSTAMP:20260425T081849
CREATED:20250304T183001Z
LAST-MODIFIED:20250304T183001Z
UID:76386-1810724400-1810726200@odessaarts.org
SUMMARY:Toddler Tales Storytime - DOWNTOWN
DESCRIPTION:Fun ways to help support toddlers’ developing literacy and cognitive growth by incorporating action rhymes\, songs\, and movement. Child must have an accompanying adult. Ages 3-5.
URL:https://odessaarts.org/event/toddler-tales-storytime-downtown-5/2027-05-19/
LOCATION:Midland Library at the Plaza (Downtown)\, 301 W. Missouri Ave.\, Midland\, TX\, 79701\, United States
CATEGORIES:Humanities,Theatre & Literary Arts
END:VEVENT
BEGIN:VEVENT
DTSTART;TZID=America/Chicago:20270526T110000
DTEND;TZID=America/Chicago:20270526T113000
DTSTAMP:20260425T081849
CREATED:20250304T182844Z
LAST-MODIFIED:20250304T182844Z
UID:76388-1811329200-1811331000@odessaarts.org
SUMMARY:Toddler Tales Storytime - CENTENNIAL
DESCRIPTION:Fun ways to help support toddlers’ developing literacy and cognitive growth by incorporating action rhymes\, songs\, and movement. Child must have an accompanying adult. Ages 3-5.
URL:https://odessaarts.org/event/toddler-tales-storytime-centennial-5/2027-05-26/
LOCATION:Midland County Library – Centennial Branch\, 2503 Loop 250 Frontage Rd.\, Midland\, TX\, 79705\, United States
CATEGORIES:Humanities,Theatre & Literary Arts
END:VEVENT
BEGIN:VEVENT
DTSTART;TZID=America/Chicago:20270526T110000
DTEND;TZID=America/Chicago:20270526T113000
DTSTAMP:20260425T081849
CREATED:20250304T183001Z
LAST-MODIFIED:20250304T183001Z
UID:76389-1811329200-1811331000@odessaarts.org
SUMMARY:Toddler Tales Storytime - DOWNTOWN
DESCRIPTION:Fun ways to help support toddlers’ developing literacy and cognitive growth by incorporating action rhymes\, songs\, and movement. Child must have an accompanying adult. Ages 3-5.
URL:https://odessaarts.org/event/toddler-tales-storytime-downtown-5/2027-05-26/
LOCATION:Midland Library at the Plaza (Downtown)\, 301 W. Missouri Ave.\, Midland\, TX\, 79701\, United States
CATEGORIES:Humanities,Theatre & Literary Arts
END:VEVENT
BEGIN:VEVENT
DTSTART;TZID=America/Chicago:20270602T110000
DTEND;TZID=America/Chicago:20270602T113000
DTSTAMP:20260425T081849
CREATED:20250304T182844Z
LAST-MODIFIED:20250304T182844Z
UID:76418-1811934000-1811935800@odessaarts.org
SUMMARY:Toddler Tales Storytime - CENTENNIAL
DESCRIPTION:Fun ways to help support toddlers’ developing literacy and cognitive growth by incorporating action rhymes\, songs\, and movement. Child must have an accompanying adult. Ages 3-5.
URL:https://odessaarts.org/event/toddler-tales-storytime-centennial-5/2027-06-02/
LOCATION:Midland County Library – Centennial Branch\, 2503 Loop 250 Frontage Rd.\, Midland\, TX\, 79705\, United States
CATEGORIES:Humanities,Theatre & Literary Arts
END:VEVENT
BEGIN:VEVENT
DTSTART;TZID=America/Chicago:20270602T110000
DTEND;TZID=America/Chicago:20270602T113000
DTSTAMP:20260425T081849
CREATED:20250304T183001Z
LAST-MODIFIED:20250304T183001Z
UID:76419-1811934000-1811935800@odessaarts.org
SUMMARY:Toddler Tales Storytime - DOWNTOWN
DESCRIPTION:Fun ways to help support toddlers’ developing literacy and cognitive growth by incorporating action rhymes\, songs\, and movement. Child must have an accompanying adult. Ages 3-5.
URL:https://odessaarts.org/event/toddler-tales-storytime-downtown-5/2027-06-02/
LOCATION:Midland Library at the Plaza (Downtown)\, 301 W. Missouri Ave.\, Midland\, TX\, 79701\, United States
CATEGORIES:Humanities,Theatre & Literary Arts
END:VEVENT
BEGIN:VEVENT
DTSTART;TZID=America/Chicago:20270604T180000
DTEND;TZID=America/Chicago:20270604T210000
DTSTAMP:20260425T081849
CREATED:20260114T175014Z
LAST-MODIFIED:20260114T175040Z
UID:77597-1812132000-1812142800@odessaarts.org
SUMMARY:First Friday ODTX!
DESCRIPTION:First Friday ODTX is a monthly gathering every first Friday of the month for residents and visitors of downtown Odessa. Each month\, the streets are lively and colorful with music\, games\, and delicious food. There are unbeatable deals from local businesses and exciting opportunities to collect amazing giveaways. The event is open to all ages and caters to everyone’s interests. For music lovers\, there are live performances by local bands and artists\, while foodies can indulge in a diverse range of street eats. Downtown shops and eateries will offer special promotions. First Friday ODTX event brings vibrancy and community spirit to downtown Odessa\, making it the perfect place to spend a Friday evening.
URL:https://odessaarts.org/event/first-friday-6/2027-06-04/
LOCATION:Downtown Odessa\, 79761\, United States
CATEGORIES:Humanities,Music,Public Art,Theatre & Literary Arts,Visual Arts
END:VEVENT
BEGIN:VEVENT
DTSTART;TZID=America/Chicago:20270609T110000
DTEND;TZID=America/Chicago:20270609T113000
DTSTAMP:20260425T081849
CREATED:20250304T182844Z
LAST-MODIFIED:20250304T182844Z
UID:76422-1812538800-1812540600@odessaarts.org
SUMMARY:Toddler Tales Storytime - CENTENNIAL
DESCRIPTION:Fun ways to help support toddlers’ developing literacy and cognitive growth by incorporating action rhymes\, songs\, and movement. Child must have an accompanying adult. Ages 3-5.
URL:https://odessaarts.org/event/toddler-tales-storytime-centennial-5/2027-06-09/
LOCATION:Midland County Library – Centennial Branch\, 2503 Loop 250 Frontage Rd.\, Midland\, TX\, 79705\, United States
CATEGORIES:Humanities,Theatre & Literary Arts
END:VEVENT
END:VCALENDAR