BEGIN:VCALENDAR
VERSION:2.0
PRODID:-//Odessa Arts - ECPv6.15.20//NONSGML v1.0//EN
CALSCALE:GREGORIAN
METHOD:PUBLISH
X-WR-CALNAME:Odessa Arts
X-ORIGINAL-URL:https://odessaarts.org
X-WR-CALDESC:Events for Odessa Arts
REFRESH-INTERVAL;VALUE=DURATION:PT1H
X-Robots-Tag:noindex
X-PUBLISHED-TTL:PT1H
BEGIN:VTIMEZONE
TZID:America/Chicago
BEGIN:DAYLIGHT
TZOFFSETFROM:-0600
TZOFFSETTO:-0500
TZNAME:CDT
DTSTART:20240310T080000
END:DAYLIGHT
BEGIN:STANDARD
TZOFFSETFROM:-0500
TZOFFSETTO:-0600
TZNAME:CST
DTSTART:20241103T070000
END:STANDARD
BEGIN:DAYLIGHT
TZOFFSETFROM:-0600
TZOFFSETTO:-0500
TZNAME:CDT
DTSTART:20250309T080000
END:DAYLIGHT
BEGIN:STANDARD
TZOFFSETFROM:-0500
TZOFFSETTO:-0600
TZNAME:CST
DTSTART:20251102T070000
END:STANDARD
BEGIN:DAYLIGHT
TZOFFSETFROM:-0600
TZOFFSETTO:-0500
TZNAME:CDT
DTSTART:20260308T080000
END:DAYLIGHT
BEGIN:STANDARD
TZOFFSETFROM:-0500
TZOFFSETTO:-0600
TZNAME:CST
DTSTART:20261101T070000
END:STANDARD
END:VTIMEZONE
BEGIN:VEVENT
DTSTART;TZID=America/Chicago:20250713T190000
DTEND;TZID=America/Chicago:20250713T200000
DTSTAMP:20260424T202020
CREATED:20250708T204528Z
LAST-MODIFIED:20250708T205415Z
UID:76439-1752433200-1752436800@odessaarts.org
SUMMARY:Bella Music Foundation Concert Series
DESCRIPTION:This event is part of the 2025 Bella Music Foundation Concert Series\, supporting the BMF International Music Festival for the Blind at the UNESCO House in Paris this fall. \nThis uplifting concert will feature performances by: \n\nYoung K. Whiting\, piano (Music Director)\nHyang Jo\, bass\nMira Kim\, piano\n\nThe diverse program includes classical pieces\, spirituals\, and personal testimonies\, all performed by talented musicians including those who are blind or visually impaired. It’s a heartfelt celebration of music\, inclusion\, and community.
URL:https://odessaarts.org/event/bella-music-foundation-concert-series/
LOCATION:First Presbyterian Church Odessa\, 1401 N. Sam Houston\, Odessa\, TX\, 79761\, United States
CATEGORIES:Music
END:VEVENT
END:VCALENDAR