BEGIN:VCALENDAR
VERSION:2.0
PRODID:-//Odessa Arts - ECPv6.15.20//NONSGML v1.0//EN
CALSCALE:GREGORIAN
METHOD:PUBLISH
X-WR-CALNAME:Odessa Arts
X-ORIGINAL-URL:https://odessaarts.org
X-WR-CALDESC:Events for Odessa Arts
REFRESH-INTERVAL;VALUE=DURATION:PT1H
X-Robots-Tag:noindex
X-PUBLISHED-TTL:PT1H
BEGIN:VTIMEZONE
TZID:America/Chicago
BEGIN:DAYLIGHT
TZOFFSETFROM:-0600
TZOFFSETTO:-0500
TZNAME:CDT
DTSTART:20220313T080000
END:DAYLIGHT
BEGIN:STANDARD
TZOFFSETFROM:-0500
TZOFFSETTO:-0600
TZNAME:CST
DTSTART:20221106T070000
END:STANDARD
BEGIN:DAYLIGHT
TZOFFSETFROM:-0600
TZOFFSETTO:-0500
TZNAME:CDT
DTSTART:20230312T080000
END:DAYLIGHT
BEGIN:STANDARD
TZOFFSETFROM:-0500
TZOFFSETTO:-0600
TZNAME:CST
DTSTART:20231105T070000
END:STANDARD
BEGIN:DAYLIGHT
TZOFFSETFROM:-0600
TZOFFSETTO:-0500
TZNAME:CDT
DTSTART:20240310T080000
END:DAYLIGHT
BEGIN:STANDARD
TZOFFSETFROM:-0500
TZOFFSETTO:-0600
TZNAME:CST
DTSTART:20241103T070000
END:STANDARD
END:VTIMEZONE
BEGIN:VEVENT
DTSTART;TZID=America/Chicago:20230914T180000
DTEND;TZID=America/Chicago:20230914T193000
DTSTAMP:20260425T184721
CREATED:20230824T205156Z
LAST-MODIFIED:20230824T205255Z
UID:13012-1694714400-1694719800@odessaarts.org
SUMMARY:Silverton Powerhouse Art Guild Opening Reception Thursday\, September 14\, 2023 6:00 PM - 7:30 PM
DESCRIPTION:  \nThe Midland College Art Department invites you to a reception featuring works by the Silverton\, Colorado Powerhouse Art Guild.  The exhibit is displayed August 21-September 29 in the Allison Fine Arts Building McCormick Gallery.  Gallery hours are 8:00 am-9:00 pm\, Monday through Friday and 8:00 am-5:00 pm on Friday.  There is no fee to view the exhibit or attend the reception. \n  \n \nThe Silverton Powerhouse Art Guild is an eclectic group of artists who’s mutual purpose is the aesthetic\, educational and cultural betterment of the surrounding community.  Operating out of Silverton’s historic powerhouse building in the iconic San Juan Mountain Range\, the Powerhouse Art guild represents a creative presence that offers a variety of unique content–not just active ceramics production from occupant members\, but academically immersive opportunities for local inhabitants\, such as pottery master classes and regular resident guest artists. \nThe Powerhouse Art Guild seeks to further the positive creative trajectory that is intent on making Silverton\, Colorado even more of an artistic\, cultural destination. \nABOUT THE POWERHOUSE \n The Silverton Powerhouse was built in 1906 as a first-of-its-kind\, centralized power station for mines across the San Juan Mountains. Using hydroelectric power generated by the Animas River in Rockwood Canyon\, the Powerhouse was the transfer station that supplied mines from Silverton and Telluride to Ouray with reliable power. \nAfter the Sunnyside Mine closed in 1991\, the Powerhouse was abandoned and suffered damage. In 2001\, the Silverton Historical Society received grant funding to bring the Powerhouse back to life\, and it was repaired brick by brick. Scotty Bob’s Ski Factory moved into the Powerhouse\, starting the movement of bringing modern businesses into the Powerhouse. \n \nIn February of 2022\, Hannah Green\, a Silverton\, Colorado local\, expeditionary\, runner\, photographer and writer dreamed of turning the once-again vacant Powerhouse into a lively\, community space for the artists and makers of Silverton. Hannah signed the lease in 2021 and has created a team of local visionaries and makers — Anne Chase\, Julian Hood\, Hillary Cable and Emily Thorn — who have pulled the building up by its bootstraps and turned it into a usable space for artists and for community events\, such as live music\, fat-tire bike races\, chili cook-offs\, and art workshops. \nThe potential of the Powerhouse as a community maker space and venue is astounding. The Silverton community backs the vision to continue improving the building to better support studio space and expand the quality and types of events that the space can host. The Silverton Powerhouse still needs help to get there\, but can become a healthy business that is committed to the betterment of the Silverton\, Colorado community and economy. \n \nThe vision behind this project comes from the age-old saying\, “See a need\, fill a need.” The Powerhouse is a very special space with a great mission. The Powerhouse enhances Silverton’s accessibility to a creative space that fosters engagement and creativity.  It is an undeniable asset for this small-town community.
URL:https://odessaarts.org/event/silverton-powerhouse-art-guild-opening-reception-thursday-september-14-2023-600-pm-730-pm-2/
LOCATION:Allison Fine Arts Building McCormick Gallery\, 3600 N. Garfield\, Midland\, Texas
CATEGORIES:Public Art
END:VEVENT
BEGIN:VEVENT
DTSTART;TZID=America/Chicago:20230821T080000
DTEND;TZID=America/Chicago:20230929T210000
DTSTAMP:20260425T184721
CREATED:20230824T204305Z
LAST-MODIFIED:20230824T204744Z
UID:12998-1692604800-1696021200@odessaarts.org
SUMMARY:Silverton Powerhouse Art Exhibit
DESCRIPTION:The Midland College Art Department invites you to experience works by the Silverton\, Colorado Powerhouse Art Guild.  The exhibit is displayed August 21-September 29 in the Allison Fine Arts Building McCormick Gallery.  Gallery hours are 8:00 am-9:00 pm\, Monday through Friday and 8:00 am-5:00 pm on Friday.  There is no fee to view the exhibit. \n \nThe Silverton Powerhouse Art Guild is an eclectic group of artists who’s mutual purpose is the aesthetic\, educational and cultural betterment of the surrounding community. Operating out of Silverton’s historic powerhouse building in the iconic San Juan Mountain Range\, the Powerhouse Art guild represents a creative presence that offers a variety of unique content–not just active ceramics production from occupant members\, but academically immersive opportunities for local inhabitants\, such as pottery master classes and regular resident guest artists. \nThe Powerhouse Art Guild seeks to further the positive creative trajectory that is intent on making Silverton\, Colorado even more of an artistic\, cultural destination. \nABOUT THE POWERHOUSE \nThe Silverton Powerhouse was built in 1906 as a first-of-its-kind\, centralized power station for mines across the San Juan Mountains. Using hydroelectric power generated by the Animas River in Rockwood Canyon\, the Powerhouse was the transfer station that supplied mines from Silverton and Telluride to Ouray with reliable power. \nAfter the Sunnyside Mine closed in 1991\, the Powerhouse was abandoned and suffered damage. In 2001\, the Silverton Historical Society received grant funding to bring the Powerhouse back to life\, and it was repaired brick by brick. Scotty Bob’s Ski Factory moved into the Powerhouse\, starting the movement of bringing modern businesses into the Powerhouse. \n \nIn February of 2022\, Hannah Green\, a Silverton\, Colorado local\, expeditionary\, runner\, photographer and writer dreamed of turning the once-again vacant Powerhouse into a lively\, community space for the artists and makers of Silverton. Hannah signed the lease in 2021 and has created a team of local visionaries and makers — Anne Chase\, Julian Hood\, Hillary Cable and Emily Thorn — who have pulled the building up by its bootstraps and turned it into a usable space for artists and for community events\, such as live music\, fat-tire bike races\, chili cook-offs\, and art workshops. \nThe potential of the Powerhouse as a community maker space and venue is astounding. The Silverton community backs the vision to continue improving the building to better support studio space and expand the quality and types of events that the space can host. The Silverton Powerhouse still needs help to get there\, but can become a healthy business that is committed to the betterment of the Silverton\, Colorado community and economy. \n \nThe vision behind this project comes from the age-old saying\, “See a need\, fill a need.” The Powerhouse is a very special space with a great mission. The Powerhouse enhances Silverton’s accessibility to a creative space that fosters engagement and creativity.  It is an undeniable asset for this small-town community.
URL:https://odessaarts.org/event/silverton-powerhouse-art-guild-opening-reception-thursday-september-14-2023-600-pm-730-pm/
LOCATION:Allison Fine Arts Building McCormick Gallery\, 3600 N. Garfield\, Midland\, Texas
CATEGORIES:Public Art
END:VEVENT
END:VCALENDAR