BEGIN:VCALENDAR
VERSION:2.0
PRODID:-//Odessa Arts - ECPv6.15.20//NONSGML v1.0//EN
CALSCALE:GREGORIAN
METHOD:PUBLISH
X-WR-CALNAME:Odessa Arts
X-ORIGINAL-URL:https://odessaarts.org
X-WR-CALDESC:Events for Odessa Arts
REFRESH-INTERVAL;VALUE=DURATION:PT1H
X-Robots-Tag:noindex
X-PUBLISHED-TTL:PT1H
BEGIN:VTIMEZONE
TZID:America/Chicago
BEGIN:DAYLIGHT
TZOFFSETFROM:-0600
TZOFFSETTO:-0500
TZNAME:CDT
DTSTART:20220313T080000
END:DAYLIGHT
BEGIN:STANDARD
TZOFFSETFROM:-0500
TZOFFSETTO:-0600
TZNAME:CST
DTSTART:20221106T070000
END:STANDARD
BEGIN:DAYLIGHT
TZOFFSETFROM:-0600
TZOFFSETTO:-0500
TZNAME:CDT
DTSTART:20230312T080000
END:DAYLIGHT
BEGIN:STANDARD
TZOFFSETFROM:-0500
TZOFFSETTO:-0600
TZNAME:CST
DTSTART:20231105T070000
END:STANDARD
BEGIN:DAYLIGHT
TZOFFSETFROM:-0600
TZOFFSETTO:-0500
TZNAME:CDT
DTSTART:20240310T080000
END:DAYLIGHT
BEGIN:STANDARD
TZOFFSETFROM:-0500
TZOFFSETTO:-0600
TZNAME:CST
DTSTART:20241103T070000
END:STANDARD
BEGIN:DAYLIGHT
TZOFFSETFROM:-0600
TZOFFSETTO:-0500
TZNAME:CDT
DTSTART:20250309T080000
END:DAYLIGHT
BEGIN:STANDARD
TZOFFSETFROM:-0500
TZOFFSETTO:-0600
TZNAME:CST
DTSTART:20251102T070000
END:STANDARD
BEGIN:DAYLIGHT
TZOFFSETFROM:-0600
TZOFFSETTO:-0500
TZNAME:CDT
DTSTART:20260308T080000
END:DAYLIGHT
BEGIN:STANDARD
TZOFFSETFROM:-0500
TZOFFSETTO:-0600
TZNAME:CST
DTSTART:20261101T070000
END:STANDARD
BEGIN:DAYLIGHT
TZOFFSETFROM:-0600
TZOFFSETTO:-0500
TZNAME:CDT
DTSTART:20270314T080000
END:DAYLIGHT
BEGIN:STANDARD
TZOFFSETFROM:-0500
TZOFFSETTO:-0600
TZNAME:CST
DTSTART:20271107T070000
END:STANDARD
END:VTIMEZONE
BEGIN:VEVENT
DTSTART;TZID=America/Chicago:20260207T150000
DTEND;TZID=America/Chicago:20260207T170000
DTSTAMP:20260424T072434
CREATED:20260203T162248Z
LAST-MODIFIED:20260203T162248Z
UID:77819-1770476400-1770483600@odessaarts.org
SUMMARY:Paint with Me at The American Legion
DESCRIPTION:
URL:https://odessaarts.org/event/paint-with-me-at-the-american-legion/
LOCATION:American Legion\, 2701 E. 8th Street\, Odessa\, TX\, 79761\, United States
CATEGORIES:Visual Arts
END:VEVENT
BEGIN:VEVENT
DTSTART;TZID=America/Chicago:20240519T143000
DTEND;TZID=America/Chicago:20240519T143000
DTSTAMP:20260424T072434
CREATED:20240513T172546Z
LAST-MODIFIED:20240513T172723Z
UID:73233-1716129000-1716129000@odessaarts.org
SUMMARY:Hi Tone School of Music - 2nd Annual Showcase - Free event
DESCRIPTION:
URL:https://odessaarts.org/event/hi-tone-school-of-music-2nd-annual-showcase-free-event/
LOCATION:American Legion\, 2701 E. 8th Street\, Odessa\, TX\, 79761\, United States
CATEGORIES:Music
END:VEVENT
BEGIN:VEVENT
DTSTART;TZID=America/Chicago:20231222T190000
DTEND;TZID=America/Chicago:20231222T190000
DTSTAMP:20260424T072434
CREATED:20231212T193850Z
LAST-MODIFIED:20231213T181702Z
UID:71972-1703271600-1703271600@odessaarts.org
SUMMARY:Black Cultural Council of Odessa  Presents Jeter Jones Da King of Trailride Blues
DESCRIPTION:Black Cultural Council of Odessa Christmas presents Jeter Jones Da King of Trailride Blues and Special Appearance by DMANN!   December 22nd from 7 pm to Midnight at 2701 E. 8th Street\, Odessa\, Texas 79761. \nContest  & Fun – Best Dress Contest for Cowboys\, Cowgirls and Couples.  $100 Prize per category.  Contest Judging  7 – 9 pm. \nLimited tickets buy now $50.  Call 432-853-1344 or Cash App:  $BCCO1999 \n 
URL:https://odessaarts.org/event/black-cultural-council-of-odessa-presents-jeter-jones-da-king-of-trail-ride-blues/
LOCATION:American Legion\, 2701 E. 8th Street\, Odessa\, TX\, 79761\, United States
CATEGORIES:Music,Theatre & Literary Arts
END:VEVENT
END:VCALENDAR