BEGIN:VCALENDAR
VERSION:2.0
PRODID:-//Odessa Arts - ECPv6.15.20//NONSGML v1.0//EN
CALSCALE:GREGORIAN
METHOD:PUBLISH
X-WR-CALNAME:Odessa Arts
X-ORIGINAL-URL:https://odessaarts.org
X-WR-CALDESC:Events for Odessa Arts
REFRESH-INTERVAL;VALUE=DURATION:PT1H
X-Robots-Tag:noindex
X-PUBLISHED-TTL:PT1H
BEGIN:VTIMEZONE
TZID:America/Chicago
BEGIN:DAYLIGHT
TZOFFSETFROM:-0600
TZOFFSETTO:-0500
TZNAME:CDT
DTSTART:20250309T080000
END:DAYLIGHT
BEGIN:STANDARD
TZOFFSETFROM:-0500
TZOFFSETTO:-0600
TZNAME:CST
DTSTART:20251102T070000
END:STANDARD
BEGIN:DAYLIGHT
TZOFFSETFROM:-0600
TZOFFSETTO:-0500
TZNAME:CDT
DTSTART:20260308T080000
END:DAYLIGHT
BEGIN:STANDARD
TZOFFSETFROM:-0500
TZOFFSETTO:-0600
TZNAME:CST
DTSTART:20261101T070000
END:STANDARD
BEGIN:DAYLIGHT
TZOFFSETFROM:-0600
TZOFFSETTO:-0500
TZNAME:CDT
DTSTART:20270314T080000
END:DAYLIGHT
BEGIN:STANDARD
TZOFFSETFROM:-0500
TZOFFSETTO:-0600
TZNAME:CST
DTSTART:20271107T070000
END:STANDARD
END:VTIMEZONE
BEGIN:VEVENT
DTSTART;TZID=America/Chicago:20260329T170000
DTEND;TZID=America/Chicago:20260329T190000
DTSTAMP:20260425T161056
CREATED:20260317T170556Z
LAST-MODIFIED:20260317T170556Z
UID:78438-1774803600-1774810800@odessaarts.org
SUMMARY:Bring Your Own Craft Night
DESCRIPTION:Join us for Bring Your Own Craft Hours at Downtown Grub Hub!\n   \nBring your sewing\, knitting\, puzzles\, laptop\, or any project you’ve been meaning to finish\, and enjoy a couple of relaxed hours creating in good company. Grab a bite from your favorite food truck\, settle in under the West Texas sky\, and work at your own pace.\nBring a friend and a project!
URL:https://odessaarts.org/event/bring-your-own-craft-night/
LOCATION:Downtown Grub Hub\, 1314 E 7th Street\, Odessa\, TX\, 79761\, United States
CATEGORIES:Visual Arts
END:VEVENT
END:VCALENDAR