BEGIN:VCALENDAR
VERSION:2.0
PRODID:-//Odessa Arts - ECPv6.15.20//NONSGML v1.0//EN
CALSCALE:GREGORIAN
METHOD:PUBLISH
X-ORIGINAL-URL:https://odessaarts.org
X-WR-CALDESC:Events for Odessa Arts
REFRESH-INTERVAL;VALUE=DURATION:PT1H
X-Robots-Tag:noindex
X-PUBLISHED-TTL:PT1H
BEGIN:VTIMEZONE
TZID:America/Chicago
BEGIN:DAYLIGHT
TZOFFSETFROM:-0600
TZOFFSETTO:-0500
TZNAME:CDT
DTSTART:20220313T080000
END:DAYLIGHT
BEGIN:STANDARD
TZOFFSETFROM:-0500
TZOFFSETTO:-0600
TZNAME:CST
DTSTART:20221106T070000
END:STANDARD
BEGIN:DAYLIGHT
TZOFFSETFROM:-0600
TZOFFSETTO:-0500
TZNAME:CDT
DTSTART:20230312T080000
END:DAYLIGHT
BEGIN:STANDARD
TZOFFSETFROM:-0500
TZOFFSETTO:-0600
TZNAME:CST
DTSTART:20231105T070000
END:STANDARD
BEGIN:DAYLIGHT
TZOFFSETFROM:-0600
TZOFFSETTO:-0500
TZNAME:CDT
DTSTART:20240310T080000
END:DAYLIGHT
BEGIN:STANDARD
TZOFFSETFROM:-0500
TZOFFSETTO:-0600
TZNAME:CST
DTSTART:20241103T070000
END:STANDARD
END:VTIMEZONE
BEGIN:VEVENT
DTSTART;TZID=America/Chicago:20230708T180000
DTEND;TZID=America/Chicago:20230708T180000
DTSTAMP:20260425T122608
CREATED:20230621T190821Z
LAST-MODIFIED:20230621T192752Z
UID:12525-1688839200-1688839200@odessaarts.org
SUMMARY:A Comedy Show and Benefit Auction
DESCRIPTION:Mattie Cupcakes Presents a Comedy Show and Benefit Auction. \nAll auction proceeds go to benefit Zoey Reams and family for treatment and medical expenses.  Together we can help Zoey beat leukemia and get a chance at life.  \nHeadlining:   Matt Weatherford – Host\, Shonuf and Rikky Lee Reed. \nFeaturing:  Brandon Medlock\, Rafael Marin\, Tanner Nelson\, Adrienne Green\, Morgan Hyman\, J Austin Graham\, Johnny V\, and Reed Giles. \nA huge THANK YOU to Dirty Grinders food truck and Eccentric Brewery Company for donating part of their food and beer sales to this benefit! \n 
URL:https://odessaarts.org/event/a-comedy-show-and-benefit-auction/
LOCATION:Eccentric Brewery Company\, 1402 Cotton Flat Road\, Midland\, TX\, 79701\, United States
CATEGORIES:Theatre & Literary Arts
END:VEVENT
END:VCALENDAR