BEGIN:VCALENDAR
VERSION:2.0
PRODID:-//Odessa Arts - ECPv6.15.20//NONSGML v1.0//EN
CALSCALE:GREGORIAN
METHOD:PUBLISH
X-ORIGINAL-URL:https://odessaarts.org
X-WR-CALDESC:Events for Odessa Arts
REFRESH-INTERVAL;VALUE=DURATION:PT1H
X-Robots-Tag:noindex
X-PUBLISHED-TTL:PT1H
BEGIN:VTIMEZONE
TZID:America/Chicago
BEGIN:DAYLIGHT
TZOFFSETFROM:-0600
TZOFFSETTO:-0500
TZNAME:CDT
DTSTART:20220313T080000
END:DAYLIGHT
BEGIN:STANDARD
TZOFFSETFROM:-0500
TZOFFSETTO:-0600
TZNAME:CST
DTSTART:20221106T070000
END:STANDARD
BEGIN:DAYLIGHT
TZOFFSETFROM:-0600
TZOFFSETTO:-0500
TZNAME:CDT
DTSTART:20230312T080000
END:DAYLIGHT
BEGIN:STANDARD
TZOFFSETFROM:-0500
TZOFFSETTO:-0600
TZNAME:CST
DTSTART:20231105T070000
END:STANDARD
BEGIN:DAYLIGHT
TZOFFSETFROM:-0600
TZOFFSETTO:-0500
TZNAME:CDT
DTSTART:20240310T080000
END:DAYLIGHT
BEGIN:STANDARD
TZOFFSETFROM:-0500
TZOFFSETTO:-0600
TZNAME:CST
DTSTART:20241103T070000
END:STANDARD
END:VTIMEZONE
BEGIN:VEVENT
DTSTART;TZID=America/Chicago:20230520T180000
DTEND;TZID=America/Chicago:20230520T230000
DTSTAMP:20260425T201036
CREATED:20230419T150208Z
LAST-MODIFIED:20230419T150208Z
UID:12138-1684605600-1684623600@odessaarts.org
SUMMARY:Cornhole & Karaoke
DESCRIPTION:Cornhole & Karaoke returns to Basin Theatre Works! Mark your calendars for Saturday\, May 20th! Basin Theatre Works is bringing back Cornhole & Karaoke. Cornhole & Karaoke will take place at Barn A at the Ector County Coliseum beginning at 6pm. We will be partnering with Boom or Bust Cornhole and have both Professional Brackets and Backyard Brackets. We will also be partnering with Marilayne Marker Millwood for our Karaoke portion. \nCome out and play with us for some cool prizes\, food and drink – and a phenomenal time with Basin Theatre Works! \nTo purchase tables or tickets\, please click here. \nTable Sponsorships: \n$1500 – Table for 8 \nIncludes Food for 8\, 8 Drink Tickets\, and Registration for 2 Cornhole Teams \n$1000 – Table for 8 \nIncludes Food for 8\, 8 Drink Tickets\, and Registration for 1 Cornhole Team \n$750 – Table for 8 \nIncludes Food for 8 and 8 Drink Tickets \nTeam Registration Only Option – $100 \nFood Only Option – $25 \nQuestions? Please contact Basin Theatre Works at basintheatreworks@gmail.com or call 432.362.2329.
URL:https://odessaarts.org/event/cornhole-karaoke/
LOCATION:Ector County Coliseum Barn A\, 4201 Andrews Hwy\, Odessa\, TX\, 79762\, United States
CATEGORIES:Humanities,Music
END:VEVENT
END:VCALENDAR