BEGIN:VCALENDAR
VERSION:2.0
PRODID:-//Odessa Arts - ECPv6.15.20//NONSGML v1.0//EN
CALSCALE:GREGORIAN
METHOD:PUBLISH
X-ORIGINAL-URL:https://odessaarts.org
X-WR-CALDESC:Events for Odessa Arts
REFRESH-INTERVAL;VALUE=DURATION:PT1H
X-Robots-Tag:noindex
X-PUBLISHED-TTL:PT1H
BEGIN:VTIMEZONE
TZID:America/Chicago
BEGIN:DAYLIGHT
TZOFFSETFROM:-0600
TZOFFSETTO:-0500
TZNAME:CDT
DTSTART:20210314T080000
END:DAYLIGHT
BEGIN:STANDARD
TZOFFSETFROM:-0500
TZOFFSETTO:-0600
TZNAME:CST
DTSTART:20211107T070000
END:STANDARD
BEGIN:DAYLIGHT
TZOFFSETFROM:-0600
TZOFFSETTO:-0500
TZNAME:CDT
DTSTART:20220313T080000
END:DAYLIGHT
BEGIN:STANDARD
TZOFFSETFROM:-0500
TZOFFSETTO:-0600
TZNAME:CST
DTSTART:20221106T070000
END:STANDARD
BEGIN:DAYLIGHT
TZOFFSETFROM:-0600
TZOFFSETTO:-0500
TZNAME:CDT
DTSTART:20230312T080000
END:DAYLIGHT
BEGIN:STANDARD
TZOFFSETFROM:-0500
TZOFFSETTO:-0600
TZNAME:CST
DTSTART:20231105T070000
END:STANDARD
BEGIN:DAYLIGHT
TZOFFSETFROM:-0600
TZOFFSETTO:-0500
TZNAME:CDT
DTSTART:20240310T080000
END:DAYLIGHT
BEGIN:STANDARD
TZOFFSETFROM:-0500
TZOFFSETTO:-0600
TZNAME:CST
DTSTART:20241103T070000
END:STANDARD
BEGIN:DAYLIGHT
TZOFFSETFROM:-0600
TZOFFSETTO:-0500
TZNAME:CDT
DTSTART:20250309T080000
END:DAYLIGHT
BEGIN:STANDARD
TZOFFSETFROM:-0500
TZOFFSETTO:-0600
TZNAME:CST
DTSTART:20251102T070000
END:STANDARD
END:VTIMEZONE
BEGIN:VEVENT
DTSTART;TZID=America/Chicago:20240224T143000
DTEND;TZID=America/Chicago:20240224T163000
DTSTAMP:20260425T174928
CREATED:20240209T195453Z
LAST-MODIFIED:20240209T195453Z
UID:72469-1708785000-1708792200@odessaarts.org
SUMMARY:Crunchy Snacky Anime Club
DESCRIPTION:Basement Activity Room.
URL:https://odessaarts.org/event/crunchy-snacky-anime-club-2/
LOCATION:Ector County Library
CATEGORIES:Humanities,Theatre & Literary Arts
END:VEVENT
BEGIN:VEVENT
DTSTART;TZID=America/Chicago:20240222T163000
DTEND;TZID=America/Chicago:20240222T173000
DTSTAMP:20260425T174928
CREATED:20240209T193328Z
LAST-MODIFIED:20240209T193328Z
UID:72467-1708619400-1708623000@odessaarts.org
SUMMARY:Bilingual Storytime
DESCRIPTION:Come join us for Bilingual Storytime with Horses stories and songs! \n*3rd Floor Auditorium
URL:https://odessaarts.org/event/bilingual-storytime-3/
LOCATION:Ector County Library
CATEGORIES:Theatre & Literary Arts,Visual Arts
END:VEVENT
BEGIN:VEVENT
DTSTART;TZID=America/Chicago:20240222T160000
DTEND;TZID=America/Chicago:20240222T170000
DTSTAMP:20260425T174928
CREATED:20240209T193042Z
LAST-MODIFIED:20240209T193042Z
UID:72465-1708617600-1708621200@odessaarts.org
SUMMARY:Read to Felix
DESCRIPTION:Come to the 3rd Floor Children’s Department\, grab a book and read to our special friend of the library Felix the Therapy Dog. \nHe loves to be read to by any and all readers! \n***Event Subject to Change***
URL:https://odessaarts.org/event/read-to-felix-5/
LOCATION:Ector County Library
CATEGORIES:Theatre & Literary Arts,Visual Arts
END:VEVENT
BEGIN:VEVENT
DTSTART;TZID=America/Chicago:20240221T100000
DTEND;TZID=America/Chicago:20240221T110000
DTSTAMP:20260425T174928
CREATED:20240209T192712Z
LAST-MODIFIED:20240209T192712Z
UID:72463-1708509600-1708513200@odessaarts.org
SUMMARY:Horses Storytime + Craft
DESCRIPTION:Come join us for Horses Storytime and afterwards head to the basement Activity Room to make a craft! \n*3rd Floor Auditorium & Basement Activity Room
URL:https://odessaarts.org/event/horses-storytime-craft/
LOCATION:Ector County Library
CATEGORIES:Theatre & Literary Arts
END:VEVENT
BEGIN:VEVENT
DTSTART;TZID=America/Chicago:20240214T100000
DTEND;TZID=America/Chicago:20240214T110000
DTSTAMP:20260425T174928
CREATED:20240209T191142Z
LAST-MODIFIED:20240209T191142Z
UID:72455-1707904800-1707908400@odessaarts.org
SUMMARY:Loves\, Hugs\, Kisses Storytime + Craft
DESCRIPTION:Come join us for Loves\, Hugs\, Kisses Storytime and afterwards head to the basement Activity Room to make a craft! \n*3rd Floor Auditorium & Basement Activity Room
URL:https://odessaarts.org/event/loves-hugs-kisses-storytime-craft/
LOCATION:Ector County Library
CATEGORIES:Theatre & Literary Arts,Visual Arts
END:VEVENT
BEGIN:VEVENT
DTSTART;TZID=America/Chicago:20240212T160000
DTEND;TZID=America/Chicago:20240212T170000
DTSTAMP:20260425T174928
CREATED:20240209T185835Z
LAST-MODIFIED:20240209T185835Z
UID:72441-1707753600-1707757200@odessaarts.org
SUMMARY:Family Activity:  Valentine Bracelet
DESCRIPTION:Family fun for all in the basement Activity Room! Come and enjoy family time and make a valentine bracelet!
URL:https://odessaarts.org/event/family-activity-valentine-bracelet/
LOCATION:Ector County Library
CATEGORIES:Humanities,Visual Arts
END:VEVENT
BEGIN:VEVENT
DTSTART;TZID=America/Chicago:20240203T140000
DTEND;TZID=America/Chicago:20240203T160000
DTSTAMP:20260425T174928
CREATED:20240120T224552Z
LAST-MODIFIED:20240120T225349Z
UID:72295-1706968800-1706976000@odessaarts.org
SUMMARY:One Book One Basin - Create a Comic Book Class with Artist Caleb Mendes - Session Three
DESCRIPTION:Join us for an exciting event\, “One Book\, One Basin – Create A Comic Course\,” happening on Saturday\, January 20\, 2024 through February 10\, 2024 at 2:00 PM. This in-person gathering will take place at the Ector County Library and Midland County Library\, where instructor Caleb Mendes and aspiring artists will come together to explore the wonderful world of comic creation. \nGet ready to unleash your creativity as we dive into the art of crafting captivating comics. This course aims to inspire and guide participants through the process of developing their own unique comic strips. Whether you’re a seasoned artist or just starting out\, this event offers something for everyone. \nDuring this interactive course\, you’ll have the opportunity to learn from experienced comic creators\, exchange ideas with fellow participants\, and gain valuable insights into the comic industry. We’ll cover various aspects of comic creation\, including character development\, storytelling techniques\, panel layouts\, and more. \nJanuary 20 (Ector County Library): Simple figure drawing. Loose shapes to help get a feel for how the body works\, but not get too deep into anatomy. Crash course. \nJanuary 27 (Midland County Library): Narrative and Character. We’ll design a single character as a group with a motive\, history\, and everything important for a character driven story. \nFebruary 3 (Ector County Library): Scripting. We will\, as a class\, write a 1 page script with the character we had already designed. This will allow us to have a skeleton and idea of what we are working for and envision what it is we are drawing with said character. \nFebruary 10 (Midland County Library): Put it all together. We will here draw out the one page script we have made for our character. Everything comes together and there is a simple crash course in comics. \nSo\, don’t miss out on this incredible opportunity to immerse yourself in the world of comics. Mark your calendars for One Book\, One Basin – Create A Comic Course Get ready to unleash your inner artist and embark on an exciting comic-making journey! \n$20 registration fee covers all four sessions \nAges 10-99+. \nTo register\, please visit: https://www.eventbrite.com/e/one-book-one-basin-create-a-comic-course-tickets-788472110307?aff=oddtdtcreator
URL:https://odessaarts.org/event/one-book-one-basin-create-a-comic-book-class-with-artist-caleb-mendes-session-three/
LOCATION:Ector County Library
CATEGORIES:Visual Arts
END:VEVENT
BEGIN:VEVENT
DTSTART;TZID=America/Chicago:20240202T170000
DTEND;TZID=America/Chicago:20240202T183000
DTSTAMP:20260425T174928
CREATED:20240122T214643Z
LAST-MODIFIED:20240122T214643Z
UID:72347-1706893200-1706898600@odessaarts.org
SUMMARY:First Friday - Meet the Author of The Cloak Society Trilogy\, Jeramey Kraatz
DESCRIPTION:Meet the Author of The Cloak Society trilogy and Space Runners: The Moon Platoon\, Jeramey Kraatz. Mr. Kraatz will be at the Ector County Library on the first floor from 5 pm until 6:30 pm. Mr. Kraatz will be signing copies of The Cloak Society\, the first book in the trilogy.
URL:https://odessaarts.org/event/first-friday-meet-the-author-of-the-cloak-society-trilogy-jeramey-kraatz/
LOCATION:Ector County Library
CATEGORIES:Theatre & Literary Arts
END:VEVENT
BEGIN:VEVENT
DTSTART;TZID=America/Chicago:20240201T090000
DTEND;TZID=America/Chicago:20240201T190000
DTSTAMP:20260425T174928
CREATED:20240122T164417Z
LAST-MODIFIED:20240122T164417Z
UID:72300-1706778000-1706814000@odessaarts.org
SUMMARY:Passive Program:  Superhero Scavenger Hunt - February 1st - 29th
DESCRIPTION:**Ongoing monthly activity available at the Children’s circulation desk** \nThis month’s passive program is a Superhero Scavenger Hunt! Stop by and participate in the Children’s Department Superhero Scavenger Hunt! \nAll participants will receive a surprise! \nLocation: 3rd Floor Children’s Department
URL:https://odessaarts.org/event/passive-program-superhero-scavenger-hunt-february-1st-29th/
LOCATION:Ector County Library
CATEGORIES:Theatre & Literary Arts
END:VEVENT
BEGIN:VEVENT
DTSTART;TZID=America/Chicago:20240131T100000
DTEND;TZID=America/Chicago:20240131T233000
DTSTAMP:20260425T174928
CREATED:20240111T210032Z
LAST-MODIFIED:20240111T230021Z
UID:72254-1706695200-1706743800@odessaarts.org
SUMMARY:StoryTime:  Superhero (Michael Chabon's "Astonishing Secret of Awesome Man")
DESCRIPTION:Come join us for Storytime and afterwards head to the basement Activity Room to make a craft featuring Awesome Man by Michael Chabon! \n*3rd Floor Auditorium & Basement Activity Room \n 
URL:https://odessaarts.org/event/storytime-superhero-michael-chabons-astonishing-secret-of-awesome-man/
LOCATION:Ector County Library
CATEGORIES:Theatre & Literary Arts
END:VEVENT
BEGIN:VEVENT
DTSTART;TZID=America/Chicago:20240124T100000
DTEND;TZID=America/Chicago:20240124T110000
DTSTAMP:20260425T174928
CREATED:20231213T191743Z
LAST-MODIFIED:20231213T191743Z
UID:72001-1706090400-1706094000@odessaarts.org
SUMMARY:Storytime + Pizza Craft
DESCRIPTION:Storytime + Pizza Craft\n\nJanuary 24\, 2024 @ 10:00 am – 11:00 am\n\n\n\nCome join us for Storytime and afterwards head to the basement Activity Room to make a pizza craft! \n*3rd Floor Auditorium & Basement Activity Room
URL:https://odessaarts.org/event/storytime-pizza-craft/
LOCATION:Ector County Library
CATEGORIES:Theatre & Literary Arts
END:VEVENT
BEGIN:VEVENT
DTSTART;TZID=America/Chicago:20240122T160000
DTEND;TZID=America/Chicago:20240122T170000
DTSTAMP:20260425T174928
CREATED:20231213T204421Z
LAST-MODIFIED:20231213T204421Z
UID:72020-1705939200-1705942800@odessaarts.org
SUMMARY:Family Activity Hot Air Balloon
DESCRIPTION:It’s a new year so let’s reach up\, up\, up to new heights with these 3D Hot Air Balloons. \nCome to the basement activity room and join in the fun to make your hot air balloon. \nLocation: Basement Activity Room
URL:https://odessaarts.org/event/family-activity-hot-air-balloon/
LOCATION:Ector County Library
CATEGORIES:Visual Arts
END:VEVENT
BEGIN:VEVENT
DTSTART;TZID=America/Chicago:20240120T143000
DTEND;TZID=America/Chicago:20240120T163000
DTSTAMP:20260425T174928
CREATED:20240111T201255Z
LAST-MODIFIED:20240111T201255Z
UID:72246-1705761000-1705768200@odessaarts.org
SUMMARY:Crunchy Snacky Anime Club
DESCRIPTION:We will continue with watching Spy X Family.
URL:https://odessaarts.org/event/crunchy-snacky-anime-club/
LOCATION:Ector County Library
CATEGORIES:Theatre & Literary Arts
END:VEVENT
BEGIN:VEVENT
DTSTART;TZID=America/Chicago:20240120T140000
DTEND;TZID=America/Chicago:20240120T140000
DTSTAMP:20260425T174928
CREATED:20240110T224143Z
LAST-MODIFIED:20240118T223952Z
UID:72214-1705759200-1705759200@odessaarts.org
SUMMARY:One Book One Basin - Create a Comic Book Class with Artist Caleb Mendes - Session One
DESCRIPTION:One Book\, One Basin – Create A Comic Course \nJoin us for an exciting event\, “One Book\, One Basin – Create A Comic Course\,” happening on Saturday\, January 20\, 2024 through February 10\, 2024 at 2:00 PM. This in-person gathering will take place at the Ector County Library and Midland County Library\, where instructor Caleb Mendes and aspiring artists will come together to explore the wonderful world of comic creation. \nGet ready to unleash your creativity as we dive into the art of crafting captivating comics. This course aims to inspire and guide participants through the process of developing their own unique comic strips. Whether you’re a seasoned artist or just starting out\, this event offers something for everyone. \nDuring this interactive course\, you’ll have the opportunity to learn from experienced comic creators\, exchange ideas with fellow participants\, and gain valuable insights into the comic industry. We’ll cover various aspects of comic creation\, including character development\, storytelling techniques\, panel layouts\, and more. \nJanuary 20 (Ector County Library): Simple figure drawing. Loose shapes to help get a feel for how the body works\, but not get too deep into anatomy. Crash course. \nJanuary 27 (Midland County Library): Narrative and Character. We’ll design a single character as a group with a motive\, history\, and everything important for a character driven story. \nFebruary 3 (Ector County Library): Scripting. We will\, as a class\, write a 1 page script with the character we had already designed. This will allow us to have a skeleton and idea of what we are working for and envision what it is we are drawing with said character. \nFebruary 10 (Midland County Library): Put it all together. We will here draw out the one page script we have made for our character. Everything comes together and there is a simple crash course in comics. \nSo\, don’t miss out on this incredible opportunity to immerse yourself in the world of comics. Mark your calendars for One Book\, One Basin – Create A Comic Course Get ready to unleash your inner artist and embark on an exciting comic-making journey! \n$20 registration fee covers all four sessions \nAges 10-99+. \nTo register\, please visit: https://www.eventbrite.com/e/one-book-one-basin-create-a-comic-course-tickets-788472110307?aff=oddtdtcreator
URL:https://odessaarts.org/event/one-book-odessa-comic-book-class-with-artist-caleb-mendes/
LOCATION:Ector County Library
CATEGORIES:Visual Arts
END:VEVENT
BEGIN:VEVENT
DTSTART;TZID=America/Chicago:20240117T160000
DTEND;TZID=America/Chicago:20240117T170000
DTSTAMP:20260425T174928
CREATED:20240110T223147Z
LAST-MODIFIED:20240110T223147Z
UID:72210-1705507200-1705510800@odessaarts.org
SUMMARY:Sensory Storytime
DESCRIPTION:We understand that large groups in a storytime can be overwhelming for some of our patrons. So we have partnered with Share\, who work with Special Needs families in the Permian Basin for a Sensory Friendly Storytime with a couple of books\, a few songs\, and craft or sensory toys to play with after storytime. \nWe will also have a calming room set aside for those that get overstimulated. \nLocation: 3rd Floor Auditorium
URL:https://odessaarts.org/event/sensory-storytime/
LOCATION:Ector County Library
CATEGORIES:Theatre & Literary Arts,Visual Arts
END:VEVENT
BEGIN:VEVENT
DTSTART;TZID=America/Chicago:20240117T100000
DTEND;TZID=America/Chicago:20240117T110000
DTSTAMP:20260425T174928
CREATED:20231213T185157Z
LAST-MODIFIED:20231213T185157Z
UID:71999-1705485600-1705489200@odessaarts.org
SUMMARY:Storytime + ABC's Craft
DESCRIPTION:Storytime + ABC’s Craft\n\nJanuary 17\, 2024 @ 10:00 am – 11:00 am\n\n\n\nCome join us for Storytime and afterwards head to the basement Activity Room to make a ABC’s craft! \n*3rd Floor Auditorium & Basement Activity Room
URL:https://odessaarts.org/event/storytime-abcs-craft/
LOCATION:Ector County Library
CATEGORIES:Theatre & Literary Arts
END:VEVENT
BEGIN:VEVENT
DTSTART;TZID=America/Chicago:20240111T100000
DTEND;TZID=America/Chicago:20240111T110000
DTSTAMP:20260425T174928
CREATED:20231213T203959Z
LAST-MODIFIED:20231213T203959Z
UID:72017-1704967200-1704970800@odessaarts.org
SUMMARY:Books and Babies
DESCRIPTION:Babies need books and songs to enjoy\, too! Join us in the auditorium for the show and then take the babies to play in the baby room.  \n*3rd Floor Auditorium
URL:https://odessaarts.org/event/books-and-babies/
LOCATION:Ector County Library
CATEGORIES:Music,Theatre & Literary Arts
END:VEVENT
BEGIN:VEVENT
DTSTART;TZID=America/Chicago:20240110T100000
DTEND;TZID=America/Chicago:20240110T220000
DTSTAMP:20260425T174928
CREATED:20231213T184922Z
LAST-MODIFIED:20231213T184922Z
UID:71997-1704880800-1704924000@odessaarts.org
SUMMARY:Storytime + Fox Craft
DESCRIPTION:Storytime + Fox Craft\n\nJanuary 10\, 2024 @ 10:00 am – 11:00 am\n\n\n\nCome join us for Storytime and afterwards head to the basement Activity Room to make a fox craft! \n*3rd Floor Auditorium & Basement Activity Room
URL:https://odessaarts.org/event/storytime-fox-craft/
LOCATION:Ector County Library
CATEGORIES:Theatre & Literary Arts
END:VEVENT
BEGIN:VEVENT
DTSTART;TZID=America/Chicago:20240104T163000
DTEND;TZID=America/Chicago:20240104T170000
DTSTAMP:20260425T174928
CREATED:20231213T201209Z
LAST-MODIFIED:20231213T201209Z
UID:72015-1704385800-1704387600@odessaarts.org
SUMMARY:Bilingual Storytime
DESCRIPTION:Come join us for Bilingual Storytime with Wolf stories and songs! \n*3rd Floor Auditorium
URL:https://odessaarts.org/event/bilingual-storytime/
LOCATION:Ector County Library
CATEGORIES:Theatre & Literary Arts
END:VEVENT
BEGIN:VEVENT
DTSTART;TZID=America/Chicago:20240104T160000
DTEND;TZID=America/Chicago:20240104T170000
DTSTAMP:20260425T174928
CREATED:20231213T200821Z
LAST-MODIFIED:20231213T200821Z
UID:72009-1704384000-1704387600@odessaarts.org
SUMMARY:Read to Felix
DESCRIPTION:Read To Felix\n\n\nCome to the 3rd Floor Children’s Department\, grab a book and read to our special friend of the library Felix the Therapy Dog. \nHe loves to be read to by any and all readers! \n***Event Subject to Change***
URL:https://odessaarts.org/event/read-to-felix-4/
LOCATION:Ector County Library
CATEGORIES:Theatre & Literary Arts
END:VEVENT
BEGIN:VEVENT
DTSTART;TZID=America/Chicago:20240103T100000
DTEND;TZID=America/Chicago:20240103T110000
DTSTAMP:20260425T174928
CREATED:20231213T184705Z
LAST-MODIFIED:20231213T184705Z
UID:71995-1704276000-1704279600@odessaarts.org
SUMMARY:Storytime + Wolf Craft
DESCRIPTION:Storytime + Wolf Craft\n\nJanuary 3\, 2024 @ 10:00 am – 11:00 am\n\n\n\nCome join us for Storytime and afterwards head to the basement Activity Room to make a wolf craft! \n*3rd Floor Auditorium & Basement Activity Room
URL:https://odessaarts.org/event/storytime-wolf-craft/
LOCATION:Ector County Library
CATEGORIES:Theatre & Literary Arts
END:VEVENT
BEGIN:VEVENT
DTSTART;TZID=America/Chicago:20240101T090000
DTEND;TZID=America/Chicago:20240101T190000
DTSTAMP:20260425T174928
CREATED:20231213T200336Z
LAST-MODIFIED:20231213T200336Z
UID:72007-1704099600-1704135600@odessaarts.org
SUMMARY:Passive Program:  Paper Airplanes
DESCRIPTION:Passive Program: Paper Airplanes Jan. 1 – 31\n\nJanuary 1\, 2024\n\n\n\n**Ongoing monthly take home craft available at the Children’s circulation desk** \nThis month’s passive program is paper airplanes! Pick up a paper airplane design in the Children’s Department\, make it and we will display it. When you turn it in you will receive a surprise! \nLocation: 3rd Floor Children’s Department
URL:https://odessaarts.org/event/passive-program-paper-airplanes/
LOCATION:Ector County Library
CATEGORIES:Visual Arts
END:VEVENT
BEGIN:VEVENT
DTSTART;TZID=America/Chicago:20231207T160000
DTEND;TZID=America/Chicago:20231207T170000
DTSTAMP:20260425T174928
CREATED:20231116T202931Z
LAST-MODIFIED:20231116T202931Z
UID:71786-1701964800-1701968400@odessaarts.org
SUMMARY:Read to Felix
DESCRIPTION:Children’s Department will be hosting “Read to Felix” Event. Felix is a therapy dog that loves to be read to. This will be located at the 3rd floor Children’s Department\, Thursday at 4:00 pm.
URL:https://odessaarts.org/event/read-to-felix-3/2023-12-07/
LOCATION:Ector County Library
CATEGORIES:Humanities,Theatre & Literary Arts,Visual Arts
END:VEVENT
BEGIN:VEVENT
DTSTART;TZID=America/Chicago:20231206T100000
DTEND;TZID=America/Chicago:20231206T110000
DTSTAMP:20260425T174928
CREATED:20231116T202456Z
LAST-MODIFIED:20231116T202456Z
UID:71781-1701856800-1701860400@odessaarts.org
SUMMARY:Story Time at the Ector County Library
DESCRIPTION:Get ready for story time & craft time every Wednesday at the Ector County Library at 10am
URL:https://odessaarts.org/event/story-time-at-the-ector-county-library-2/2023-12-06/
LOCATION:Ector County Library
CATEGORIES:Theatre & Literary Arts,Visual Arts
END:VEVENT
BEGIN:VEVENT
DTSTART;TZID=America/Chicago:20231108T100000
DTEND;TZID=America/Chicago:20231108T110000
DTSTAMP:20260425T174928
CREATED:20231030T012708Z
LAST-MODIFIED:20231030T012708Z
UID:71600-1699437600-1699441200@odessaarts.org
SUMMARY:Story Time at the Ector County Library
DESCRIPTION:Get ready for story time & craft time every Wednesday at the Ector County Library at 10am
URL:https://odessaarts.org/event/story-time-at-the-ector-county-library/2023-11-08/
LOCATION:Ector County Library
CATEGORIES:Theatre & Literary Arts
END:VEVENT
BEGIN:VEVENT
DTSTART;TZID=America/Chicago:20231102T160000
DTEND;TZID=America/Chicago:20231102T170000
DTSTAMP:20260425T174928
CREATED:20231030T010823Z
LAST-MODIFIED:20231030T010823Z
UID:71590-1698940800-1698944400@odessaarts.org
SUMMARY:Read to Felix
DESCRIPTION:Children’s Department will be hosting “Read to Felix” Event. Felix is a therapy dog that loves to be read to. This will be located at the 3rd floor Children’s Department\, Thursday at 4:00 pm.
URL:https://odessaarts.org/event/read-to-felix-2/2023-11-02/
LOCATION:Ector County Library
CATEGORIES:Humanities,Theatre & Literary Arts
END:VEVENT
BEGIN:VEVENT
DTSTART;TZID=America/Chicago:20231028T160000
DTEND;TZID=America/Chicago:20231028T183000
DTSTAMP:20260425T174928
CREATED:20231025T195544Z
LAST-MODIFIED:20231025T195544Z
UID:71497-1698508800-1698517800@odessaarts.org
SUMMARY:Halloween in the Park
DESCRIPTION:Halloween in the Park is back! Come to the Noel Heritage Park Plaza to get some Halloween goodies.  \nWe will be giving out candy\, books\, toys\, and more! We look forward to seeing your cute\, spooky\, and inventive costumes.  \nAge Group: Family Activity   \nLocation: Noel Heritage Plaza Park – 321 W 5th St
URL:https://odessaarts.org/event/halloween-in-the-park/
LOCATION:Ector County Library
CATEGORIES:Humanities
END:VEVENT
BEGIN:VEVENT
DTSTART;TZID=America/Chicago:20231026T160000
DTEND;TZID=America/Chicago:20231026T170000
DTSTAMP:20260425T174928
CREATED:20231025T194742Z
LAST-MODIFIED:20231025T194742Z
UID:71495-1698336000-1698339600@odessaarts.org
SUMMARY:Read to Felix -  Free Event
DESCRIPTION:Children’s Department will be hosting “Read to Felix” Event. Felix is a therapy dog that loves to be read to. This will be located at the 3rd floor Children’s Department\, Thursday at 4:00 pm.
URL:https://odessaarts.org/event/read-to-felix-free-event/
LOCATION:Ector County Library
CATEGORIES:Humanities,Theatre & Literary Arts
END:VEVENT
BEGIN:VEVENT
DTSTART;TZID=America/Chicago:20221026T163000
DTEND;TZID=America/Chicago:20221026T180000
DTSTAMP:20260425T174928
CREATED:20220926T204710Z
LAST-MODIFIED:20220926T204710Z
UID:10840-1666801800-1666807200@odessaarts.org
SUMMARY:Teen Halloween
DESCRIPTION:The library is having a party for those between the ages of 12 and 18! Come and join us for a Stranger Things themed event! Cosplay is encouraged but not required. This will be held in the basement activity room between 4:30 PM and 6:00 PM.
URL:https://odessaarts.org/event/teen-halloween/
LOCATION:Ector County Library
CATEGORIES:Theatre & Literary Arts
ORGANIZER;CN="Ector County Library":MAILTO:webmaster@ector.lib.tx.us
END:VEVENT
BEGIN:VEVENT
DTSTART;TZID=America/Chicago:20221024T170000
DTEND;TZID=America/Chicago:20221024T183000
DTSTAMP:20260425T174928
CREATED:20220801T193632Z
LAST-MODIFIED:20220801T193632Z
UID:10486-1666630800-1666636200@odessaarts.org
SUMMARY:Frankentoys: Toy Workshop
DESCRIPTION:Create new toys by tearing apart old ones and putting them back together in whole new ways. Combine 2 or more toys to make something totally different. This is a family activity.
URL:https://odessaarts.org/event/frankentoys-toy-workshop/
LOCATION:Ector County Library
CATEGORIES:Theatre & Literary Arts
ORGANIZER;CN="Ector County Library":MAILTO:webmaster@ector.lib.tx.us
END:VEVENT
END:VCALENDAR