BEGIN:VCALENDAR
VERSION:2.0
PRODID:-//Odessa Arts - ECPv6.15.20//NONSGML v1.0//EN
CALSCALE:GREGORIAN
METHOD:PUBLISH
X-ORIGINAL-URL:https://odessaarts.org
X-WR-CALDESC:Events for Odessa Arts
REFRESH-INTERVAL;VALUE=DURATION:PT1H
X-Robots-Tag:noindex
X-PUBLISHED-TTL:PT1H
BEGIN:VTIMEZONE
TZID:America/Chicago
BEGIN:DAYLIGHT
TZOFFSETFROM:-0600
TZOFFSETTO:-0500
TZNAME:CDT
DTSTART:20210314T080000
END:DAYLIGHT
BEGIN:STANDARD
TZOFFSETFROM:-0500
TZOFFSETTO:-0600
TZNAME:CST
DTSTART:20211107T070000
END:STANDARD
BEGIN:DAYLIGHT
TZOFFSETFROM:-0600
TZOFFSETTO:-0500
TZNAME:CDT
DTSTART:20220313T080000
END:DAYLIGHT
BEGIN:STANDARD
TZOFFSETFROM:-0500
TZOFFSETTO:-0600
TZNAME:CST
DTSTART:20221106T070000
END:STANDARD
BEGIN:DAYLIGHT
TZOFFSETFROM:-0600
TZOFFSETTO:-0500
TZNAME:CDT
DTSTART:20230312T080000
END:DAYLIGHT
BEGIN:STANDARD
TZOFFSETFROM:-0500
TZOFFSETTO:-0600
TZNAME:CST
DTSTART:20231105T070000
END:STANDARD
BEGIN:DAYLIGHT
TZOFFSETFROM:-0600
TZOFFSETTO:-0500
TZNAME:CDT
DTSTART:20240310T080000
END:DAYLIGHT
BEGIN:STANDARD
TZOFFSETFROM:-0500
TZOFFSETTO:-0600
TZNAME:CST
DTSTART:20241103T070000
END:STANDARD
END:VTIMEZONE
BEGIN:VEVENT
DTSTART;TZID=America/Chicago:20231108T100000
DTEND;TZID=America/Chicago:20231108T110000
DTSTAMP:20260425T202554
CREATED:20231030T012708Z
LAST-MODIFIED:20231030T012708Z
UID:71600-1699437600-1699441200@odessaarts.org
SUMMARY:Story Time at the Ector County Library
DESCRIPTION:Get ready for story time & craft time every Wednesday at the Ector County Library at 10am
URL:https://odessaarts.org/event/story-time-at-the-ector-county-library/2023-11-08/
LOCATION:Ector County Library
CATEGORIES:Theatre & Literary Arts
END:VEVENT
BEGIN:VEVENT
DTSTART;TZID=America/Chicago:20231102T160000
DTEND;TZID=America/Chicago:20231102T170000
DTSTAMP:20260425T202554
CREATED:20231030T010823Z
LAST-MODIFIED:20231030T010823Z
UID:71590-1698940800-1698944400@odessaarts.org
SUMMARY:Read to Felix
DESCRIPTION:Children’s Department will be hosting “Read to Felix” Event. Felix is a therapy dog that loves to be read to. This will be located at the 3rd floor Children’s Department\, Thursday at 4:00 pm.
URL:https://odessaarts.org/event/read-to-felix-2/2023-11-02/
LOCATION:Ector County Library
CATEGORIES:Humanities,Theatre & Literary Arts
END:VEVENT
BEGIN:VEVENT
DTSTART;TZID=America/Chicago:20231028T160000
DTEND;TZID=America/Chicago:20231028T183000
DTSTAMP:20260425T202554
CREATED:20231025T195544Z
LAST-MODIFIED:20231025T195544Z
UID:71497-1698508800-1698517800@odessaarts.org
SUMMARY:Halloween in the Park
DESCRIPTION:Halloween in the Park is back! Come to the Noel Heritage Park Plaza to get some Halloween goodies.  \nWe will be giving out candy\, books\, toys\, and more! We look forward to seeing your cute\, spooky\, and inventive costumes.  \nAge Group: Family Activity   \nLocation: Noel Heritage Plaza Park – 321 W 5th St
URL:https://odessaarts.org/event/halloween-in-the-park/
LOCATION:Ector County Library
CATEGORIES:Humanities
END:VEVENT
BEGIN:VEVENT
DTSTART;TZID=America/Chicago:20231026T160000
DTEND;TZID=America/Chicago:20231026T170000
DTSTAMP:20260425T202554
CREATED:20231025T194742Z
LAST-MODIFIED:20231025T194742Z
UID:71495-1698336000-1698339600@odessaarts.org
SUMMARY:Read to Felix -  Free Event
DESCRIPTION:Children’s Department will be hosting “Read to Felix” Event. Felix is a therapy dog that loves to be read to. This will be located at the 3rd floor Children’s Department\, Thursday at 4:00 pm.
URL:https://odessaarts.org/event/read-to-felix-free-event/
LOCATION:Ector County Library
CATEGORIES:Humanities,Theatre & Literary Arts
END:VEVENT
BEGIN:VEVENT
DTSTART;TZID=America/Chicago:20221026T163000
DTEND;TZID=America/Chicago:20221026T180000
DTSTAMP:20260425T202554
CREATED:20220926T204710Z
LAST-MODIFIED:20220926T204710Z
UID:10840-1666801800-1666807200@odessaarts.org
SUMMARY:Teen Halloween
DESCRIPTION:The library is having a party for those between the ages of 12 and 18! Come and join us for a Stranger Things themed event! Cosplay is encouraged but not required. This will be held in the basement activity room between 4:30 PM and 6:00 PM.
URL:https://odessaarts.org/event/teen-halloween/
LOCATION:Ector County Library
CATEGORIES:Theatre & Literary Arts
ORGANIZER;CN="Ector County Library":MAILTO:webmaster@ector.lib.tx.us
END:VEVENT
BEGIN:VEVENT
DTSTART;TZID=America/Chicago:20221024T170000
DTEND;TZID=America/Chicago:20221024T183000
DTSTAMP:20260425T202554
CREATED:20220801T193632Z
LAST-MODIFIED:20220801T193632Z
UID:10486-1666630800-1666636200@odessaarts.org
SUMMARY:Frankentoys: Toy Workshop
DESCRIPTION:Create new toys by tearing apart old ones and putting them back together in whole new ways. Combine 2 or more toys to make something totally different. This is a family activity.
URL:https://odessaarts.org/event/frankentoys-toy-workshop/
LOCATION:Ector County Library
CATEGORIES:Theatre & Literary Arts
ORGANIZER;CN="Ector County Library":MAILTO:webmaster@ector.lib.tx.us
END:VEVENT
BEGIN:VEVENT
DTSTART;TZID=America/Chicago:20221010T170000
DTEND;TZID=America/Chicago:20221010T183000
DTSTAMP:20260425T202554
CREATED:20220801T192630Z
LAST-MODIFIED:20220801T192630Z
UID:10484-1665421200-1665426600@odessaarts.org
SUMMARY:Creepy Snow Globes
DESCRIPTION:Pick your figurine and paint it. Once it dries\, make a snow globe that contains your own design. This is a family activity.
URL:https://odessaarts.org/event/creepy-snow-globes/
LOCATION:Ector County Library
CATEGORIES:Theatre & Literary Arts
ORGANIZER;CN="Ector County Library":MAILTO:webmaster@ector.lib.tx.us
END:VEVENT
BEGIN:VEVENT
DTSTART;TZID=America/Chicago:20221008T080000
DTEND;TZID=America/Chicago:20221008T170000
DTSTAMP:20260425T202554
CREATED:20220801T190333Z
LAST-MODIFIED:20220801T190333Z
UID:10482-1665216000-1665248400@odessaarts.org
SUMMARY:D&D Club
DESCRIPTION:Registration is required to be certain that we have all supplies and enough Dungeon Masters. Call 432-332-0633 ext. 2124 to register.
URL:https://odessaarts.org/event/dd-club-2/
LOCATION:Ector County Library
CATEGORIES:Theatre & Literary Arts
ORGANIZER;CN="Ector County Library":MAILTO:webmaster@ector.lib.tx.us
END:VEVENT
BEGIN:VEVENT
DTSTART;TZID=America/Chicago:20221006T163000
DTEND;TZID=America/Chicago:20221006T173000
DTSTAMP:20260425T202554
CREATED:20220926T203359Z
LAST-MODIFIED:20220926T203359Z
UID:10838-1665073800-1665077400@odessaarts.org
SUMMARY:Hands Only CPR
DESCRIPTION:Learn from a member of the Odessa Fire and Rescue how to do a version of CPR that uses only your hands! This program will be held in the 3rd floor auditorium from 4:30 PM – 5:30 PM. Only 10 people will be able to participate\, but anyone can watch and learn! This program is for ages 12 to 18 years old.
URL:https://odessaarts.org/event/hands-only-cpr/
LOCATION:Ector County Library
CATEGORIES:Humanities,Theatre & Literary Arts
ORGANIZER;CN="Ector County Library":MAILTO:webmaster@ector.lib.tx.us
END:VEVENT
BEGIN:VEVENT
DTSTART;TZID=America/Chicago:20221006T163000
DTEND;TZID=America/Chicago:20221006T173000
DTSTAMP:20260425T202554
CREATED:20220801T190114Z
LAST-MODIFIED:20220801T190114Z
UID:10480-1665073800-1665077400@odessaarts.org
SUMMARY:Novel Adventurers Book Club
DESCRIPTION:Join the Novel Adventurers Book Club where we talk about anything and everything books. Materials will be provided to make your own slime monster in a jar while chatting. Designed for ages 8-12.
URL:https://odessaarts.org/event/novel-adventurers-book-club-2/
LOCATION:Ector County Library
CATEGORIES:Theatre & Literary Arts
ORGANIZER;CN="Ector County Library":MAILTO:webmaster@ector.lib.tx.us
END:VEVENT
BEGIN:VEVENT
DTSTART;TZID=America/Chicago:20220929T170000
DTEND;TZID=America/Chicago:20220929T183000
DTSTAMP:20260425T202554
CREATED:20220801T184343Z
LAST-MODIFIED:20220801T184343Z
UID:10478-1664470800-1664476200@odessaarts.org
SUMMARY:Story Cubes Writing: Spooky Stories
DESCRIPTION:Come and roll the story cubes and write your own scary story to prepare for the spookiest holiday of the year! This program is designed for ages 8-12.
URL:https://odessaarts.org/event/story-cubes-writing-spooky-stories/
LOCATION:Ector County Library
CATEGORIES:Theatre & Literary Arts
ORGANIZER;CN="Ector County Library":MAILTO:webmaster@ector.lib.tx.us
END:VEVENT
BEGIN:VEVENT
DTSTART;TZID=America/Chicago:20220926T170000
DTEND;TZID=America/Chicago:20220926T183000
DTSTAMP:20260425T202554
CREATED:20220801T183709Z
LAST-MODIFIED:20220801T183709Z
UID:10476-1664211600-1664217000@odessaarts.org
SUMMARY:Superhero Coding Challenge
DESCRIPTION:Use basic computer coding concepts to navigate the superhero to the end of the maze. No computer required!
URL:https://odessaarts.org/event/superhero-coding-challenge/
LOCATION:Ector County Library
CATEGORIES:Theatre & Literary Arts
ORGANIZER;CN="Ector County Library":MAILTO:webmaster@ector.lib.tx.us
END:VEVENT
BEGIN:VEVENT
DTSTART;TZID=America/Chicago:20220924T130000
DTEND;TZID=America/Chicago:20220924T170000
DTSTAMP:20260425T202554
CREATED:20220801T183242Z
LAST-MODIFIED:20220801T183242Z
UID:10474-1664024400-1664038800@odessaarts.org
SUMMARY:D&D Club
DESCRIPTION:Registration is required to be certain that we have all supplies and enough Dungeon Masters. Call 432-332-0633 ext. 2124 to register.
URL:https://odessaarts.org/event/dd-club/
LOCATION:Ector County Library
CATEGORIES:Theatre & Literary Arts
ORGANIZER;CN="Ector County Library":MAILTO:webmaster@ector.lib.tx.us
END:VEVENT
BEGIN:VEVENT
DTSTART;TZID=America/Chicago:20220917T140000
DTEND;TZID=America/Chicago:20220917T170000
DTSTAMP:20260425T202554
CREATED:20220816T140721Z
LAST-MODIFIED:20220816T140721Z
UID:10568-1663423200-1663434000@odessaarts.org
SUMMARY:Heidi Pitre - Vintage Library Card workshop
DESCRIPTION:Celebrated artist Heidi Pitre returns to Odessa with her exhibit of library card art. “A Permanent Record\,” repurposes vintage library cards into unique artworks that celebrate the written word. Pitre’s work will be exhibited at the Ector County Library from September 6 – November 19\, 2023. A special reception will be held for Pitre as well as new library Director Howard Marks on September 16th at 5:30pm on the first floor of the Ector County Library. Pitre will also hold a library card art workshop on Saturday\, September 17th at 2pm at the Ector County Library. The reception and the workshop are free and open to the public.
URL:https://odessaarts.org/event/heidi-pitre-vintage-library-card-workshop/
LOCATION:Ector County Library
CATEGORIES:Humanities
END:VEVENT
BEGIN:VEVENT
DTSTART;TZID=America/Chicago:20220916T173000
DTEND;TZID=America/Chicago:20220916T173000
DTSTAMP:20260425T202554
CREATED:20220816T140627Z
LAST-MODIFIED:20220816T140627Z
UID:10565-1663349400-1663349400@odessaarts.org
SUMMARY:Ector County Library Reception
DESCRIPTION:Celebrated artist Heidi Pitre returns to Odessa with her exhibit of library card art. “A Permanent Record\,” repurposes vintage library cards into unique artworks that celebrate the written word. Pitre’s work will be exhibited at the Ector County Library from September 6 – November 19\, 2023. A special reception will be held for Pitre as well as new library Director Howard Marks on September 16th at 5:30pm on the first floor of the Ector County Library. Pitre will also hold a library card art workshop on Saturday\, September 17th at 2pm at the Ector County Library. The reception and the workshop are free and open to the public.
URL:https://odessaarts.org/event/ector-county-library-reception/
LOCATION:Ector County Library
CATEGORIES:Humanities
END:VEVENT
BEGIN:VEVENT
DTSTART;TZID=America/Chicago:20220912T170000
DTEND;TZID=America/Chicago:20220912T183000
DTSTAMP:20260425T202554
CREATED:20220801T182612Z
LAST-MODIFIED:20220801T182612Z
UID:10472-1663002000-1663007400@odessaarts.org
SUMMARY:Protect Your Pet
DESCRIPTION:Can you build a shelter to protect your pet from the elements? We will check the shelter when you are done to see if you have protected them from the rain. This is a family event.
URL:https://odessaarts.org/event/protect-your-pet/
LOCATION:Ector County Library
CATEGORIES:Theatre & Literary Arts
ORGANIZER;CN="Ector County Library":MAILTO:webmaster@ector.lib.tx.us
END:VEVENT
BEGIN:VEVENT
DTSTART;TZID=America/Chicago:20220908T163000
DTEND;TZID=America/Chicago:20220908T173000
DTSTAMP:20260425T202554
CREATED:20220801T175750Z
LAST-MODIFIED:20220801T175750Z
UID:10470-1662654600-1662658200@odessaarts.org
SUMMARY:Novel Adventurers Book Club
DESCRIPTION:Join the Novel Adventurers Book Club where we talk about anything and everything books. Materials will be provided to make your own bookmark while chatting. Designed for ages 8-12.
URL:https://odessaarts.org/event/novel-adventurers-book-club/
LOCATION:Ector County Library
CATEGORIES:Theatre & Literary Arts
ORGANIZER;CN="Ector County Library":MAILTO:webmaster@ector.lib.tx.us
END:VEVENT
BEGIN:VEVENT
DTSTART;TZID=America/Chicago:20220901T160000
DTEND;TZID=America/Chicago:20220901T170000
DTSTAMP:20260425T202554
CREATED:20220801T171211Z
LAST-MODIFIED:20220801T171211Z
UID:10444-1662048000-1662051600@odessaarts.org
SUMMARY:Read to Felix
DESCRIPTION:Felix the therapy dog loves to hear stories! Reluctant and not-so-reluctant readers will find him and engaged and attentive audience.
URL:https://odessaarts.org/event/read-to-felix/2022-09-01/
LOCATION:Ector County Library
CATEGORIES:Theatre & Literary Arts
ORGANIZER;CN="Ector County Library":MAILTO:webmaster@ector.lib.tx.us
END:VEVENT
BEGIN:VEVENT
DTSTART;TZID=America/Chicago:20220827T140000
DTEND;TZID=America/Chicago:20220827T160000
DTSTAMP:20260425T202554
CREATED:20220801T172701Z
LAST-MODIFIED:20220801T172701Z
UID:10468-1661608800-1661616000@odessaarts.org
SUMMARY:D&D Character Creation Clinic
DESCRIPTION:Learn how to create a character for a Dungeons and Dragons game from scratch.
URL:https://odessaarts.org/event/dd-character-creation-clinic/
LOCATION:Ector County Library
CATEGORIES:Theatre & Literary Arts
ORGANIZER;CN="Ector County Library":MAILTO:webmaster@ector.lib.tx.us
END:VEVENT
BEGIN:VEVENT
DTSTART;TZID=America/Chicago:20220803T100000
DTEND;TZID=America/Chicago:20220803T113000
DTSTAMP:20260425T202554
CREATED:20220801T172007Z
LAST-MODIFIED:20220801T172007Z
UID:10454-1659520800-1659526200@odessaarts.org
SUMMARY:Storytime with Craft
DESCRIPTION:Explore the world through books and crafts!
URL:https://odessaarts.org/event/storytime-with-craft/2022-08-03/
LOCATION:Ector County Library
CATEGORIES:Theatre & Literary Arts
ORGANIZER;CN="Ector County Library":MAILTO:webmaster@ector.lib.tx.us
END:VEVENT
BEGIN:VEVENT
DTSTART;TZID=America/Chicago:20220720T140000
DTEND;TZID=America/Chicago:20220720T143000
DTSTAMP:20260425T202554
CREATED:20220705T224227Z
LAST-MODIFIED:20220705T224227Z
UID:10286-1658325600-1658327400@odessaarts.org
SUMMARY:Odessa Fire Department Puppet Show
DESCRIPTION:Come and see the famous Odessa Fire Department Puppet Show! This program is for all ages.
URL:https://odessaarts.org/event/odessa-fire-department-puppet-show/
LOCATION:Ector County Library
CATEGORIES:Theatre & Literary Arts
ORGANIZER;CN="Ector County Library":MAILTO:webmaster@ector.lib.tx.us
END:VEVENT
BEGIN:VEVENT
DTSTART;TZID=America/Chicago:20220718T090000
DTEND;TZID=America/Chicago:20220723T170000
DTSTAMP:20260425T202554
CREATED:20220705T223220Z
LAST-MODIFIED:20220705T223220Z
UID:10284-1658134800-1658595600@odessaarts.org
SUMMARY:Origami/Cleaner & Greener/Book Exchange
DESCRIPTION:Come by the Young Adult Department and pick up an origami paper to create! Grab instructions on how to make green cleaning supplies! Bring a book or two that you are finished with and pick up books that are new to you! So much going on this week!
URL:https://odessaarts.org/event/origami-cleaner-greener-book-exchange/
LOCATION:Ector County Library
CATEGORIES:Theatre & Literary Arts
ORGANIZER;CN="Ector County Library":MAILTO:webmaster@ector.lib.tx.us
END:VEVENT
BEGIN:VEVENT
DTSTART;TZID=America/Chicago:20220713T150000
DTEND;TZID=America/Chicago:20220713T163000
DTSTAMP:20260425T202554
CREATED:20220705T211536Z
LAST-MODIFIED:20220705T211536Z
UID:10282-1657724400-1657729800@odessaarts.org
SUMMARY:Zen Rock Beach
DESCRIPTION:You’ve heard of a Zen Rock Garden? Come and make a Zen Rock Beach! This program is designed for patrons ages 12-18 and will need to have registration due to limited materials. Call 432-332-0633 ext 2114 to register. Take some time for relaxation at the beach!
URL:https://odessaarts.org/event/zen-rock-beach/
LOCATION:Ector County Library
CATEGORIES:Visual Arts
ORGANIZER;CN="Ector County Library":MAILTO:webmaster@ector.lib.tx.us
END:VEVENT
BEGIN:VEVENT
DTSTART;TZID=America/Chicago:20220711T180000
DTEND;TZID=America/Chicago:20220711T193000
DTSTAMP:20260425T202554
CREATED:20220705T211158Z
LAST-MODIFIED:20220705T211158Z
UID:10280-1657562400-1657567800@odessaarts.org
SUMMARY:Family Program: Jellyfish Lanterns
DESCRIPTION:Learn to make a lantern that looks like a jellyfish to hang from your ceiling! We provide the materials\, you come and have fun!
URL:https://odessaarts.org/event/family-program-jellyfish-lanterns/
LOCATION:Ector County Library
CATEGORIES:Visual Arts
ORGANIZER;CN="Ector County Library":MAILTO:webmaster@ector.lib.tx.us
END:VEVENT
BEGIN:VEVENT
DTSTART;TZID=America/Chicago:20220707T153000
DTEND;TZID=America/Chicago:20220707T170000
DTSTAMP:20260425T202554
CREATED:20220705T210743Z
LAST-MODIFIED:20220705T210743Z
UID:10278-1657207800-1657213200@odessaarts.org
SUMMARY:Percy Jackson Book Club: Sea of Monsters
DESCRIPTION:Sea of Monsters: Join other kids to discuss Sea of Monsters in the Percy Jackson book series by Rick Riordan. Check the books out from the library. Get them from the library’s Hoopla services. This program is designed for children ages 8-12. Call 432-332-0633 for more information.
URL:https://odessaarts.org/event/percy-jackson-book-club-sea-of-monsters/
LOCATION:Ector County Library
CATEGORIES:Theatre & Literary Arts
ORGANIZER;CN="Ector County Library":MAILTO:webmaster@ector.lib.tx.us
END:VEVENT
BEGIN:VEVENT
DTSTART;TZID=America/Chicago:20220706T150000
DTEND;TZID=America/Chicago:20220706T163000
DTSTAMP:20260425T202554
CREATED:20220705T210346Z
LAST-MODIFIED:20220705T210346Z
UID:10276-1657119600-1657125000@odessaarts.org
SUMMARY:Ocean Painting
DESCRIPTION:Try your skills at painting the ocean or ocean creatures! This program is limited to 10 participants.
URL:https://odessaarts.org/event/ocean-painting/
LOCATION:Ector County Library
CATEGORIES:Theatre & Literary Arts,Visual Arts
ORGANIZER;CN="Ector County Library":MAILTO:webmaster@ector.lib.tx.us
END:VEVENT
BEGIN:VEVENT
DTSTART;VALUE=DATE:20220705
DTEND;VALUE=DATE:20220731
DTSTAMP:20260425T202554
CREATED:20220705T205046Z
LAST-MODIFIED:20220705T205046Z
UID:10274-1656979200-1659225599@odessaarts.org
SUMMARY:Sea Creatures Scavenger Hunt
DESCRIPTION:This program is being held all month long in the Children’s Department. Come on by and see how many you can find!
URL:https://odessaarts.org/event/sea-creatures-scavenger-hunt/
LOCATION:Ector County Library
CATEGORIES:Theatre & Literary Arts
ORGANIZER;CN="Ector County Library":MAILTO:webmaster@ector.lib.tx.us
END:VEVENT
BEGIN:VEVENT
DTSTART;TZID=America/Chicago:20220630T153000
DTEND;TZID=America/Chicago:20220630T170000
DTSTAMP:20260425T202554
CREATED:20220510T162445Z
LAST-MODIFIED:20220510T162445Z
UID:10057-1656603000-1656608400@odessaarts.org
SUMMARY:Painted Mermaid Rocks
DESCRIPTION:Do you like the look of a mermaid’s tail? Come paint a rock to look like your favorite mermaid. Add sea creatures or scenes instead of scales if you like. Let your imagination be taken by the sea. This program is designed for ages 6-12. Call 432-332-633 for more information.
URL:https://odessaarts.org/event/painted-mermaid-rocks/
LOCATION:Ector County Library
CATEGORIES:Theatre & Literary Arts,Visual Arts
ORGANIZER;CN="Ector County Library":MAILTO:webmaster@ector.lib.tx.us
END:VEVENT
BEGIN:VEVENT
DTSTART;TZID=America/Chicago:20220629T150000
DTEND;TZID=America/Chicago:20220629T163000
DTSTAMP:20260425T202554
CREATED:20220510T162247Z
LAST-MODIFIED:20220510T162247Z
UID:10055-1656514800-1656520200@odessaarts.org
SUMMARY:Sunken Cities
DESCRIPTION:Myths and legends are filled with tales of cities under the ocean. Come and build one of your own! This program is designed for young adults ages 12-18. Due to material limitations\, we will only be able to accommodate up to 10 participants. Please call 432-332-0633 for more information or to register.
URL:https://odessaarts.org/event/sunken-cities/
LOCATION:Ector County Library
CATEGORIES:Theatre & Literary Arts,Visual Arts
ORGANIZER;CN="Ector County Library":MAILTO:webmaster@ector.lib.tx.us
END:VEVENT
BEGIN:VEVENT
DTSTART;TZID=America/Chicago:20220627T180000
DTEND;TZID=America/Chicago:20220627T193000
DTSTAMP:20260425T202554
CREATED:20220510T161855Z
LAST-MODIFIED:20220510T161926Z
UID:10052-1656352800-1656358200@odessaarts.org
SUMMARY:Family Activity: Coloring Night
DESCRIPTION:Coloring is a wonderful activity for the whole family. We provide the materials\, you provide the fun! This activity is designed for all ages. Call 432-332-0633 for more information.
URL:https://odessaarts.org/event/family-activity-coloring-night/2022-06-27/
LOCATION:Ector County Library
CATEGORIES:Theatre & Literary Arts,Visual Arts
ORGANIZER;CN="Ector County Library":MAILTO:webmaster@ector.lib.tx.us
END:VEVENT
END:VCALENDAR