BEGIN:VCALENDAR
VERSION:2.0
PRODID:-//Odessa Arts - ECPv6.15.20//NONSGML v1.0//EN
CALSCALE:GREGORIAN
METHOD:PUBLISH
X-WR-CALNAME:Odessa Arts
X-ORIGINAL-URL:https://odessaarts.org
X-WR-CALDESC:Events for Odessa Arts
REFRESH-INTERVAL;VALUE=DURATION:PT1H
X-Robots-Tag:noindex
X-PUBLISHED-TTL:PT1H
BEGIN:VTIMEZONE
TZID:America/Chicago
BEGIN:DAYLIGHT
TZOFFSETFROM:-0600
TZOFFSETTO:-0500
TZNAME:CDT
DTSTART:20240310T080000
END:DAYLIGHT
BEGIN:STANDARD
TZOFFSETFROM:-0500
TZOFFSETTO:-0600
TZNAME:CST
DTSTART:20241103T070000
END:STANDARD
BEGIN:DAYLIGHT
TZOFFSETFROM:-0600
TZOFFSETTO:-0500
TZNAME:CDT
DTSTART:20250309T080000
END:DAYLIGHT
BEGIN:STANDARD
TZOFFSETFROM:-0500
TZOFFSETTO:-0600
TZNAME:CST
DTSTART:20251102T070000
END:STANDARD
BEGIN:DAYLIGHT
TZOFFSETFROM:-0600
TZOFFSETTO:-0500
TZNAME:CDT
DTSTART:20260308T080000
END:DAYLIGHT
BEGIN:STANDARD
TZOFFSETFROM:-0500
TZOFFSETTO:-0600
TZNAME:CST
DTSTART:20261101T070000
END:STANDARD
BEGIN:DAYLIGHT
TZOFFSETFROM:-0600
TZOFFSETTO:-0500
TZNAME:CDT
DTSTART:20270314T080000
END:DAYLIGHT
BEGIN:STANDARD
TZOFFSETFROM:-0500
TZOFFSETTO:-0600
TZNAME:CST
DTSTART:20271107T070000
END:STANDARD
END:VTIMEZONE
BEGIN:VEVENT
DTSTART;TZID=America/Chicago:20260311T100000
DTEND;TZID=America/Chicago:20260311T113000
DTSTAMP:20260424T214924
CREATED:20260218T194301Z
LAST-MODIFIED:20260218T194301Z
UID:78022-1773223200-1773228600@odessaarts.org
SUMMARY:Storytime and Craft: Rain
DESCRIPTION:March 11 @ 10:00 am – 11:30 am\n\n\n\nRain \, rain\, go away. Come again to storytime. Join us today to talk about rain\, weather\, and have fun songs. \nLluvia\, lluvia\, vete ya. Vuelve otro día para la hora del cuento. Únete a nosotros hoy para hablar de la lluvia\, el clima y disfrutar de canciones divertidas.
URL:https://odessaarts.org/event/storytime-and-craft-rain/
LOCATION:Ector County Library
CATEGORIES:Theatre & Literary Arts
END:VEVENT
BEGIN:VEVENT
DTSTART;TZID=America/Chicago:20260310T163000
DTEND;TZID=America/Chicago:20260310T180000
DTSTAMP:20260424T214924
CREATED:20260218T194017Z
LAST-MODIFIED:20260218T194017Z
UID:78020-1773160200-1773165600@odessaarts.org
SUMMARY:Dog Man: Munch Craft
DESCRIPTION:March 10 @ 4:30 pm – 6:00 pm\n\n\n\nMake your own Munch with a paperbag and other supplies. \nCrea tu propio Munch con una bolsa de papel y otros materiales.
URL:https://odessaarts.org/event/dog-man-munch-craft/
LOCATION:Ector County Library
CATEGORIES:Theatre & Literary Arts
END:VEVENT
BEGIN:VEVENT
DTSTART;TZID=America/Chicago:20260309T160000
DTEND;TZID=America/Chicago:20260309T180000
DTSTAMP:20260424T214924
CREATED:20260218T193751Z
LAST-MODIFIED:20260218T193751Z
UID:78018-1773072000-1773079200@odessaarts.org
SUMMARY:Dog Man: Petey's Robot Lab
DESCRIPTION:March 9 @ 4:00 pm – 6:00 pm\n\n\n\nCome to the basement activity room to make your own robot just like Petey does. What can you create with the supplies we give you? \nVen a la sala de actividades del sótano para construir tu propio robot\, igual que lo hace Petey. ¿Qué podrás crear con los materiales que te proporcionamos?
URL:https://odessaarts.org/event/dog-man-peteys-robot-lab/
LOCATION:Ector County Library
CATEGORIES:Theatre & Literary Arts
END:VEVENT
BEGIN:VEVENT
DTSTART;TZID=America/Chicago:20260305T100000
DTEND;TZID=America/Chicago:20260305T110000
DTSTAMP:20260424T214924
CREATED:20260218T192911Z
LAST-MODIFIED:20260218T192911Z
UID:78016-1772704800-1772708400@odessaarts.org
SUMMARY:Books and Babies
DESCRIPTION:March 5 @ 10:00 am – 11:00 am\n\n\n\n\nBundle up your little tikes amd bring them to Books and Babies where we read a couple of books\, sing songs\, and get to play in the baby play room.\n\n\nAbriga bien a tus pequeños y tráelos a Books and Babies\, donde leeremos un par de libros\, cantaremos canciones y podrán jugar en la sala de juegos para bebés.
URL:https://odessaarts.org/event/books-and-babies-8/
LOCATION:Ector County Library
CATEGORIES:Theatre & Literary Arts
END:VEVENT
BEGIN:VEVENT
DTSTART;TZID=America/Chicago:20260304T100000
DTEND;TZID=America/Chicago:20260304T120000
DTSTAMP:20260424T214924
CREATED:20260218T192149Z
LAST-MODIFIED:20260218T192149Z
UID:78014-1772618400-1772625600@odessaarts.org
SUMMARY:Dr. Seuss Birthday Storytime
DESCRIPTION:March 4 @ 10:00 am – 12:00 pm\n\n\n\nJoin us for a special storytime celebrating Dr. Seuss’ birthday with goody bags\, crafts\, and a visit from the Grinch. \nÚnase a nosotros para una sesión especial de cuentacuentos para celebrar el cumpleaños del Dr. Seuss con bolsas de regalos\, manualidades y la visita del Grinch.
URL:https://odessaarts.org/event/dr-seuss-birthday-storytime/
LOCATION:Ector County Library
CATEGORIES:Theatre & Literary Arts
END:VEVENT
BEGIN:VEVENT
DTSTART;TZID=America/Chicago:20260226T160000
DTEND;TZID=America/Chicago:20260226T170000
DTSTAMP:20260424T214924
CREATED:20260202T225424Z
LAST-MODIFIED:20260202T225535Z
UID:77801-1772121600-1772125200@odessaarts.org
SUMMARY:Read to Felix
DESCRIPTION:Felix will be in the Children’s Department from 4-5 today\, waiting to hear stories and get ear scritches.\n\n\nFelix estará en la sección infantil de 4 a 5 de la tarde de hoy\, esperando que le cuenten cuentos y le acaricien las orejas.
URL:https://odessaarts.org/event/read-to-felix-17/2026-02-26/
LOCATION:Ector County Library
CATEGORIES:Theatre & Literary Arts
END:VEVENT
BEGIN:VEVENT
DTSTART;TZID=America/Chicago:20260225T163000
DTEND;TZID=America/Chicago:20260225T173000
DTSTAMP:20260424T214924
CREATED:20260203T165250Z
LAST-MODIFIED:20260203T165250Z
UID:77836-1772037000-1772040600@odessaarts.org
SUMMARY:Sensory Friendly Storytime
DESCRIPTION:Have a child that finds big storytimes overwhelming? Join us for Sensory Friendly Storytime where we read a few books\, sing a few songs\, and get to play with the sensory bins or make a craft.\n\n¿Tienes un hijo al que le resultan abrumadoras las sesiones de cuentacuentos multitudinarias? Únete a nuestra sesión de cuentacuentos adaptada a personas con sensibilidad sensorial\, donde leeremos algunos libros\, cantaremos algunas canciones y podremos jugar con materiales sensoriales o hacer manualidades.
URL:https://odessaarts.org/event/sensory-friendly-storytime-5/
LOCATION:Ector County Library
CATEGORIES:Theatre & Literary Arts,Visual Arts
END:VEVENT
BEGIN:VEVENT
DTSTART;TZID=America/Chicago:20260225T100000
DTEND;TZID=America/Chicago:20260225T113000
DTSTAMP:20260424T214924
CREATED:20260203T165058Z
LAST-MODIFIED:20260203T165058Z
UID:77834-1772013600-1772019000@odessaarts.org
SUMMARY:Storytime and Crafts: Birds
DESCRIPTION:Storytime has gone to the birds! Will Pigeon visit? Will a parrot copy you? Join us to find out. \n¡La hora del cuento se ha llenado de pájaros! ¿Nos visitará una paloma? ¿Un loro te imitará? Acompáñanos para descubrirlo.
URL:https://odessaarts.org/event/storytime-and-crafts-birds/
LOCATION:Ector County Library
CATEGORIES:Theatre & Literary Arts
END:VEVENT
BEGIN:VEVENT
DTSTART;TZID=America/Chicago:20260219T160000
DTEND;TZID=America/Chicago:20260219T170000
DTSTAMP:20260424T214924
CREATED:20260202T225424Z
LAST-MODIFIED:20260202T225535Z
UID:77794-1771516800-1771520400@odessaarts.org
SUMMARY:Read to Felix
DESCRIPTION:Felix will be in the Children’s Department from 4-5 today\, waiting to hear stories and get ear scritches.\n\n\nFelix estará en la sección infantil de 4 a 5 de la tarde de hoy\, esperando que le cuenten cuentos y le acaricien las orejas.
URL:https://odessaarts.org/event/read-to-felix-17/2026-02-19/
LOCATION:Ector County Library
CATEGORIES:Theatre & Literary Arts
END:VEVENT
BEGIN:VEVENT
DTSTART;TZID=America/Chicago:20260219T100000
DTEND;TZID=America/Chicago:20260219T110000
DTSTAMP:20260424T214924
CREATED:20260203T164910Z
LAST-MODIFIED:20260203T164910Z
UID:77832-1771495200-1771498800@odessaarts.org
SUMMARY:Books and Babies
DESCRIPTION:Bundle up your little tikes amd bring them to Books and Babies where we read a couple of books\, sing songs\, and get to play in the baby play room.\n\n\n\nAbriga bien a tus pequeños y tráelos a Books and Babies\, donde leeremos un par de libros\, cantaremos canciones y podrán jugar en la sala de juegos para bebés.
URL:https://odessaarts.org/event/books-and-babies-7/
LOCATION:Ector County Library
CATEGORIES:Theatre & Literary Arts
END:VEVENT
BEGIN:VEVENT
DTSTART;TZID=America/Chicago:20260218T100000
DTEND;TZID=America/Chicago:20260218T233000
DTSTAMP:20260424T214924
CREATED:20260203T164436Z
LAST-MODIFIED:20260203T164436Z
UID:77830-1771408800-1771457400@odessaarts.org
SUMMARY:Storytime and Crafts: Vehicles
DESCRIPTION:Things that go vroom or zoom or chugga chugga choo choo will be the highlight of storytime . \nLos objetos que hacen ruidos como “vroom”\, “zoom” o “chugga chugga choo choo” serán lo más destacado de la hora del cuento.
URL:https://odessaarts.org/event/storytime-and-crafts-vehicles/
LOCATION:Ector County Library
CATEGORIES:Theatre & Literary Arts,Visual Arts
END:VEVENT
BEGIN:VEVENT
DTSTART;TZID=America/Chicago:20260217T163000
DTEND;TZID=America/Chicago:20260217T183000
DTSTAMP:20260424T214924
CREATED:20260202T225857Z
LAST-MODIFIED:20260202T225857Z
UID:77805-1771345800-1771353000@odessaarts.org
SUMMARY:Family Craft Night - Cars
DESCRIPTION:Make a car or maybe an airplane or a train out of the supplies we offer as a family.\nCon los materiales que les ofrecemos como familia\, pueden construir un coche\, un avión o un tren.
URL:https://odessaarts.org/event/family-craft-night-cars/
LOCATION:Ector County Library
CATEGORIES:Visual Arts
END:VEVENT
BEGIN:VEVENT
DTSTART;TZID=America/Chicago:20260212T160000
DTEND;TZID=America/Chicago:20260212T183000
DTSTAMP:20260424T214924
CREATED:20260202T230241Z
LAST-MODIFIED:20260202T230241Z
UID:77809-1770912000-1770921000@odessaarts.org
SUMMARY:Tween Ages 7-12 Lego Club
DESCRIPTION:
URL:https://odessaarts.org/event/tween-ages-7-12-lego-club/
LOCATION:Ector County Library
CATEGORIES:Humanities,Visual Arts
END:VEVENT
BEGIN:VEVENT
DTSTART;TZID=America/Chicago:20260212T160000
DTEND;TZID=America/Chicago:20260212T170000
DTSTAMP:20260424T214924
CREATED:20260202T225424Z
LAST-MODIFIED:20260202T225535Z
UID:77786-1770912000-1770915600@odessaarts.org
SUMMARY:Read to Felix
DESCRIPTION:Felix will be in the Children’s Department from 4-5 today\, waiting to hear stories and get ear scritches.\n\n\nFelix estará en la sección infantil de 4 a 5 de la tarde de hoy\, esperando que le cuenten cuentos y le acaricien las orejas.
URL:https://odessaarts.org/event/read-to-felix-17/2026-02-12/
LOCATION:Ector County Library
CATEGORIES:Theatre & Literary Arts
END:VEVENT
BEGIN:VEVENT
DTSTART;TZID=America/Chicago:20260212T100000
DTEND;TZID=America/Chicago:20260212T103000
DTSTAMP:20260424T214924
CREATED:20260203T163944Z
LAST-MODIFIED:20260203T164026Z
UID:77828-1770890400-1770892200@odessaarts.org
SUMMARY:Bilingual Storytime
DESCRIPTION:Join us for Bilingual Storytime where we read a book in Spanish and English and sing silly songs in English \nÚnete a nosotros en la hora del cuento bilingüe\, donde leeremos un libro en español e inglés y cantaremos canciones divertidas en inglés.
URL:https://odessaarts.org/event/bilingual-storytime-5/
LOCATION:Ector County Library
CATEGORIES:Theatre & Literary Arts
END:VEVENT
BEGIN:VEVENT
DTSTART;TZID=America/Chicago:20260211T100000
DTEND;TZID=America/Chicago:20260211T113000
DTSTAMP:20260424T214924
CREATED:20260203T163429Z
LAST-MODIFIED:20260203T163429Z
UID:77826-1770804000-1770809400@odessaarts.org
SUMMARY:Storytime and Crafts: Love
DESCRIPTION:What does love mean to your little ones? Join us for storytime where we talk about love\, family\, and friendship. \n¿Qué significa el amor para tus pequeños? Acompáñanos en nuestra hora del cuento\, donde hablaremos sobre el amor\, la familia y la amistad.
URL:https://odessaarts.org/event/storytime-and-crafts-love/
LOCATION:Ector County Library
CATEGORIES:Theatre & Literary Arts
END:VEVENT
BEGIN:VEVENT
DTSTART;TZID=America/Chicago:20260205T160000
DTEND;TZID=America/Chicago:20260205T170000
DTSTAMP:20260424T214924
CREATED:20260202T225424Z
LAST-MODIFIED:20260202T225535Z
UID:77779-1770307200-1770310800@odessaarts.org
SUMMARY:Read to Felix
DESCRIPTION:Felix will be in the Children’s Department from 4-5 today\, waiting to hear stories and get ear scritches.\n\n\nFelix estará en la sección infantil de 4 a 5 de la tarde de hoy\, esperando que le cuenten cuentos y le acaricien las orejas.
URL:https://odessaarts.org/event/read-to-felix-17/2026-02-05/
LOCATION:Ector County Library
CATEGORIES:Theatre & Literary Arts
END:VEVENT
BEGIN:VEVENT
DTSTART;TZID=America/Chicago:20260204T100000
DTEND;TZID=America/Chicago:20260204T113000
DTSTAMP:20260424T214924
CREATED:20260202T230104Z
LAST-MODIFIED:20260202T230104Z
UID:77807-1770199200-1770204600@odessaarts.org
SUMMARY:Storytime Fairy Tales
DESCRIPTION:Will the stories be about the three little pigs? Goldilocks and the three bears? Snow White?Join us for storytime and find out.\n\n\n¿Serán las historias sobre los tres cerditos? ¿Ricitos de Oro y los tres osos? ¿Blancanieves? Acompáñanos a la hora del cuento y descúbrelo.
URL:https://odessaarts.org/event/storytime-fairy-tales/
LOCATION:Ector County Library
CATEGORIES:Theatre & Literary Arts
END:VEVENT
BEGIN:VEVENT
DTSTART;TZID=America/Chicago:20260129T160000
DTEND;TZID=America/Chicago:20260129T170000
DTSTAMP:20260424T214924
CREATED:20260108T214934Z
LAST-MODIFIED:20260108T214934Z
UID:77105-1769702400-1769706000@odessaarts.org
SUMMARY:Read to Felix
DESCRIPTION:Felix is ready for children to read him stories and give him ear scritches. Join us today @ 4:00 PM.\n\n\nFelix está listo para que los niños le lean cuentos y le acaricien las orejas. Únete a nosotros hoy a las 4:00 PM.
URL:https://odessaarts.org/event/read-to-felix-16/2026-01-29/
LOCATION:Ector County Library
CATEGORIES:Humanities,Museum,Theatre & Literary Arts
END:VEVENT
BEGIN:VEVENT
DTSTART;TZID=America/Chicago:20260122T160000
DTEND;TZID=America/Chicago:20260122T170000
DTSTAMP:20260424T214924
CREATED:20260108T214934Z
LAST-MODIFIED:20260108T214934Z
UID:77104-1769097600-1769101200@odessaarts.org
SUMMARY:Read to Felix
DESCRIPTION:Felix is ready for children to read him stories and give him ear scritches. Join us today @ 4:00 PM.\n\n\nFelix está listo para que los niños le lean cuentos y le acaricien las orejas. Únete a nosotros hoy a las 4:00 PM.
URL:https://odessaarts.org/event/read-to-felix-16/2026-01-22/
LOCATION:Ector County Library
CATEGORIES:Humanities,Museum,Theatre & Literary Arts
END:VEVENT
BEGIN:VEVENT
DTSTART;TZID=America/Chicago:20260115T160000
DTEND;TZID=America/Chicago:20260115T170000
DTSTAMP:20260424T214924
CREATED:20260108T214934Z
LAST-MODIFIED:20260108T214934Z
UID:77103-1768492800-1768496400@odessaarts.org
SUMMARY:Read to Felix
DESCRIPTION:Felix is ready for children to read him stories and give him ear scritches. Join us today @ 4:00 PM.\n\n\nFelix está listo para que los niños le lean cuentos y le acaricien las orejas. Únete a nosotros hoy a las 4:00 PM.
URL:https://odessaarts.org/event/read-to-felix-16/2026-01-15/
LOCATION:Ector County Library
CATEGORIES:Humanities,Museum,Theatre & Literary Arts
END:VEVENT
BEGIN:VEVENT
DTSTART;TZID=America/Chicago:20260110T090000
DTEND;TZID=America/Chicago:20260110T100000
DTSTAMP:20260424T214924
CREATED:20260108T222312Z
LAST-MODIFIED:20260108T222536Z
UID:77167-1768035600-1768039200@odessaarts.org
SUMMARY:Children’s Passive Program: We’re Going on a Gnome Hunt
DESCRIPTION:The gnomes have left their garden and are causing trouble in the children’s department. Can you help find them? They like to move our books\, play with out things\, and pester staff with they are trying to run. Come to the children’s department to get your counting sheet. Runs all month long.
URL:https://odessaarts.org/event/77167/
LOCATION:Ector County Library
CATEGORIES:Humanities
ORGANIZER;CN="Ector County Library":MAILTO:webmaster@ector.lib.tx.us
END:VEVENT
BEGIN:VEVENT
DTSTART;TZID=America/Chicago:20260109T160000
DTEND;TZID=America/Chicago:20260109T180000
DTSTAMP:20260424T214924
CREATED:20260108T213314Z
LAST-MODIFIED:20260108T213314Z
UID:77095-1767974400-1767981600@odessaarts.org
SUMMARY:Dungeons & Dragons Club
DESCRIPTION:  \n  \n  \n  \n  \n 
URL:https://odessaarts.org/event/dungeons-dragons-club/
LOCATION:Ector County Library
CATEGORIES:Public Art
ORGANIZER;CN="Ector County Library":MAILTO:webmaster@ector.lib.tx.us
END:VEVENT
BEGIN:VEVENT
DTSTART;TZID=America/Chicago:20260108T173000
DTEND;TZID=America/Chicago:20260108T183000
DTSTAMP:20260424T214924
CREATED:20260108T220209Z
LAST-MODIFIED:20260108T220250Z
UID:77111-1767893400-1767897000@odessaarts.org
SUMMARY:Author Event with Brandon Thomason Ector County Library
DESCRIPTION:Join us for a special evening with local author Brandon Thomason\, writer of the deeply emotional and psychological novel Of Wolves & Butterflies. Brandon will share insights into the story’s themes\, his writing process\, and the real-life experiences that helped shape the book. Guests will have the opportunity to meet the author\, ask questions\, and have their copies signed. Whether you have already read the book or are discovering it for the first time\, this event offers a meaningful chance to connect with the heart behind the story. \nThe event is free and open to the public.\nFor more info on the author\, please visit:\nhttps://brandonthomasonauthor.com/
URL:https://odessaarts.org/event/author-event-with-brandon-thomason-ector-county-library/
LOCATION:Ector County Library
CATEGORIES:Humanities,Theatre & Literary Arts
END:VEVENT
BEGIN:VEVENT
DTSTART;TZID=America/Chicago:20260108T100000
DTEND;TZID=America/Chicago:20260108T110000
DTSTAMP:20260424T214924
CREATED:20260108T214450Z
LAST-MODIFIED:20260108T214450Z
UID:77101-1767866400-1767870000@odessaarts.org
SUMMARY:Books & Babies
DESCRIPTION:
URL:https://odessaarts.org/event/books-babies/
LOCATION:Ector County Library
CATEGORIES:Humanities
ORGANIZER;CN="Ector County Library":MAILTO:webmaster@ector.lib.tx.us
END:VEVENT
BEGIN:VEVENT
DTSTART;TZID=America/Chicago:20260108T080000
DTEND;TZID=America/Chicago:20260108T170000
DTSTAMP:20260424T214924
CREATED:20260108T213805Z
LAST-MODIFIED:20260108T213805Z
UID:77097-1767859200-1767891600@odessaarts.org
SUMMARY:Read to Felix
DESCRIPTION:
URL:https://odessaarts.org/event/read-to-felix-15/2026-01-08/
LOCATION:Ector County Library
CATEGORIES:Humanities
ORGANIZER;CN="Ector County Library":MAILTO:webmaster@ector.lib.tx.us
END:VEVENT
BEGIN:VEVENT
DTSTART;TZID=America/Chicago:20260101T080000
DTEND;TZID=America/Chicago:20260131T170000
DTSTAMP:20260424T214924
CREATED:20260108T214159Z
LAST-MODIFIED:20260108T214159Z
UID:77099-1767254400-1769878800@odessaarts.org
SUMMARY:Pockemon Scavenger Hunt
DESCRIPTION:
URL:https://odessaarts.org/event/pockemon-scavenger-hunt/
LOCATION:Ector County Library
CATEGORIES:Humanities
ORGANIZER;CN="Ector County Library":MAILTO:webmaster@ector.lib.tx.us
END:VEVENT
BEGIN:VEVENT
DTSTART;TZID=America/Chicago:20250529T160000
DTEND;TZID=America/Chicago:20250529T170000
DTSTAMP:20260424T214924
CREATED:20250424T153247Z
LAST-MODIFIED:20250424T153247Z
UID:76218-1748534400-1748538000@odessaarts.org
SUMMARY:Read to Rusty
DESCRIPTION:Felix is going on vacation\, but he has convinced his doggy friend\, Rusty\, to come let you read to him instead. \nFélix se va de vacaciones\, pero ha convencido a su amigo perrito\, Rusty\, para que venga a dejarte leerle.
URL:https://odessaarts.org/event/read-to-rusty-2/
LOCATION:Ector County Library
CATEGORIES:Humanities,Theatre & Literary Arts
END:VEVENT
BEGIN:VEVENT
DTSTART;TZID=America/Chicago:20250528T160000
DTEND;TZID=America/Chicago:20250528T170000
DTSTAMP:20260424T214924
CREATED:20250424T152934Z
LAST-MODIFIED:20250424T152934Z
UID:76216-1748448000-1748451600@odessaarts.org
SUMMARY:Sensory Friendly Storytime
DESCRIPTION:Share West Texas is back to help the Library present a Sesnory Friendly Storytime where we read a few books\, sing some songs\, and make a craft. Sensory bins are available to play with\, too! \nShare West Texas regresa para ayudar a la Biblioteca a presentar una Hora del Cuento Sensorial donde leemos algunos libros\, cantamos canciones y hacemos una manualidad. ¡También hay contenedores sensoriales disponibles para jugar!
URL:https://odessaarts.org/event/sensory-friendly-storytime-4/
LOCATION:Ector County Library
CATEGORIES:Theatre & Literary Arts
END:VEVENT
BEGIN:VEVENT
DTSTART;TZID=America/Chicago:20250522T160000
DTEND;TZID=America/Chicago:20250522T170000
DTSTAMP:20260424T214925
CREATED:20250424T152701Z
LAST-MODIFIED:20250424T152701Z
UID:76214-1747929600-1747933200@odessaarts.org
SUMMARY:Read to Louie
DESCRIPTION:Felix is still on vacation\, but his friend Louie is ready for you to grab a book and maybe scritch ears! \nFélix todavía está de vacaciones\, ¡pero su amigo Louie está listo para que tomes un libro y quizás le rasques las orejas!
URL:https://odessaarts.org/event/read-to-louie-2/
LOCATION:Ector County Library
CATEGORIES:Theatre & Literary Arts
END:VEVENT
END:VCALENDAR