BEGIN:VCALENDAR
VERSION:2.0
PRODID:-//Odessa Arts - ECPv6.15.20//NONSGML v1.0//EN
CALSCALE:GREGORIAN
METHOD:PUBLISH
X-WR-CALNAME:Odessa Arts
X-ORIGINAL-URL:https://odessaarts.org
X-WR-CALDESC:Events for Odessa Arts
REFRESH-INTERVAL;VALUE=DURATION:PT1H
X-Robots-Tag:noindex
X-PUBLISHED-TTL:PT1H
BEGIN:VTIMEZONE
TZID:America/Chicago
BEGIN:DAYLIGHT
TZOFFSETFROM:-0600
TZOFFSETTO:-0500
TZNAME:CDT
DTSTART:20230312T080000
END:DAYLIGHT
BEGIN:STANDARD
TZOFFSETFROM:-0500
TZOFFSETTO:-0600
TZNAME:CST
DTSTART:20231105T070000
END:STANDARD
BEGIN:DAYLIGHT
TZOFFSETFROM:-0600
TZOFFSETTO:-0500
TZNAME:CDT
DTSTART:20240310T080000
END:DAYLIGHT
BEGIN:STANDARD
TZOFFSETFROM:-0500
TZOFFSETTO:-0600
TZNAME:CST
DTSTART:20241103T070000
END:STANDARD
BEGIN:DAYLIGHT
TZOFFSETFROM:-0600
TZOFFSETTO:-0500
TZNAME:CDT
DTSTART:20250309T080000
END:DAYLIGHT
BEGIN:STANDARD
TZOFFSETFROM:-0500
TZOFFSETTO:-0600
TZNAME:CST
DTSTART:20251102T070000
END:STANDARD
BEGIN:DAYLIGHT
TZOFFSETFROM:-0600
TZOFFSETTO:-0500
TZNAME:CDT
DTSTART:20260308T080000
END:DAYLIGHT
BEGIN:STANDARD
TZOFFSETFROM:-0500
TZOFFSETTO:-0600
TZNAME:CST
DTSTART:20261101T070000
END:STANDARD
END:VTIMEZONE
BEGIN:VEVENT
DTSTART;TZID=America/Chicago:20250227T100000
DTEND;TZID=America/Chicago:20250227T110000
DTSTAMP:20260425T053728
CREATED:20250203T190015Z
LAST-MODIFIED:20250203T190015Z
UID:75320-1740650400-1740654000@odessaarts.org
SUMMARY:Bilingual Storytime: Family
DESCRIPTION:Our bilingual storytime includes books in English and Spanish\, with songs in English\, and free books to take home from the storytime. Join us @ 10:00 AM.
URL:https://odessaarts.org/event/bilingual-storytime-family/
LOCATION:Ector County Library
CATEGORIES:Theatre & Literary Arts
END:VEVENT
BEGIN:VEVENT
DTSTART;TZID=America/Chicago:20250226T100000
DTEND;TZID=America/Chicago:20250226T120000
DTSTAMP:20260425T053728
CREATED:20250203T185806Z
LAST-MODIFIED:20250203T185806Z
UID:75318-1740564000-1740571200@odessaarts.org
SUMMARY:Storytime: Dr. Seuss Birthday Party
DESCRIPTION:Our storytime this week is special. It’s a birthday party! We’ll read books and then head down to the basement for crafts and goodie bags to celebrate all things Dr. Seuss. \n 
URL:https://odessaarts.org/event/storytime-dr-seuss-birthday-party/
LOCATION:Ector County Library
CATEGORIES:Theatre & Literary Arts
END:VEVENT
BEGIN:VEVENT
DTSTART;TZID=America/Chicago:20250220T100000
DTEND;TZID=America/Chicago:20250220T110000
DTSTAMP:20260425T053728
CREATED:20250203T163026Z
LAST-MODIFIED:20250203T163026Z
UID:75271-1740045600-1740049200@odessaarts.org
SUMMARY:Books and Babies
DESCRIPTION:Join us Thursday\, February 6 @ 10:00 AM for a few books\, some songs\, play time for the babies\, and a chance to meet other parents.
URL:https://odessaarts.org/event/books-and-babies-4/2025-02-20/
LOCATION:Ector County Library
CATEGORIES:Humanities,Theatre & Literary Arts
END:VEVENT
BEGIN:VEVENT
DTSTART;TZID=America/Chicago:20250219T100000
DTEND;TZID=America/Chicago:20250219T100000
DTSTAMP:20260425T053728
CREATED:20250203T185510Z
LAST-MODIFIED:20250203T185510Z
UID:75316-1739959200-1739959200@odessaarts.org
SUMMARY:Storytime:  Numbers
DESCRIPTION:Can we make a storytime about numbers fun? We’re going to try!  Please join us @ 10:00 AM.
URL:https://odessaarts.org/event/storytime-numbers/
LOCATION:Ector County Library
CATEGORIES:Humanities,Theatre & Literary Arts
END:VEVENT
BEGIN:VEVENT
DTSTART;TZID=America/Chicago:20250218T163000
DTEND;TZID=America/Chicago:20250218T180000
DTSTAMP:20260425T053728
CREATED:20250203T185139Z
LAST-MODIFIED:20250203T185139Z
UID:75313-1739896200-1739901600@odessaarts.org
SUMMARY:Family Craft Night: Tin Foil Heart
DESCRIPTION:Can you use tin foil to make a pretty heart? Bring the family and join us @ 4:30 to see what you can make. \n\n\n\n\n 
URL:https://odessaarts.org/event/family-craft-night-tin-foil-heart/
LOCATION:Ector County Library
CATEGORIES:Visual Arts
END:VEVENT
BEGIN:VEVENT
DTSTART;TZID=America/Chicago:20250214T163000
DTEND;TZID=America/Chicago:20250214T180000
DTSTAMP:20260425T053728
CREATED:20250227T182746Z
LAST-MODIFIED:20250227T182746Z
UID:75442-1739550600-1739556000@odessaarts.org
SUMMARY:Minecraft: Party
DESCRIPTION:Spring Break Day 5: Today\, just come talk Minecraft\, get some goodies\, and have a good time.
URL:https://odessaarts.org/event/minecraft-party/
LOCATION:Ector County Library
CATEGORIES:Humanities
END:VEVENT
BEGIN:VEVENT
DTSTART;TZID=America/Chicago:20250213T160000
DTEND;TZID=America/Chicago:20250213T170000
DTSTAMP:20260425T053728
CREATED:20250203T163431Z
LAST-MODIFIED:20250203T163431Z
UID:75267-1739462400-1739466000@odessaarts.org
SUMMARY:Read To Felix
DESCRIPTION:Grab a book\, snuggle up on the rug\, and Read to Felix @ 4:00 in the Children’s Department.
URL:https://odessaarts.org/event/read-to-felix-11/2025-02-13/
LOCATION:Ector County Library
CATEGORIES:Humanities,Theatre & Literary Arts
END:VEVENT
BEGIN:VEVENT
DTSTART;TZID=America/Chicago:20250213T153000
DTEND;TZID=America/Chicago:20250213T153000
DTSTAMP:20260425T053728
CREATED:20250203T184920Z
LAST-MODIFIED:20250203T184920Z
UID:75311-1739460600-1739460600@odessaarts.org
SUMMARY:Performer: Sean Gaskell – Music
DESCRIPTION:Sean Gaskell plays the kona\, a west African harp. Come join us @ 3:30 in the auditorium to hear him play and learn about his travels and learning. \n 
URL:https://odessaarts.org/event/performer-sean-gaskell-music/
LOCATION:Ector County Library
CATEGORIES:Music
END:VEVENT
BEGIN:VEVENT
DTSTART;TZID=America/Chicago:20250212T100000
DTEND;TZID=America/Chicago:20250212T100000
DTSTAMP:20260425T053728
CREATED:20250203T184556Z
LAST-MODIFIED:20250203T184556Z
UID:75309-1739354400-1739354400@odessaarts.org
SUMMARY:Storytime:  Valentine's/Love
DESCRIPTION:Join us @ 10:00 AM for a storytime about Valentine’s Day and love.
URL:https://odessaarts.org/event/storytime-valentines-love/
LOCATION:Ector County Library
CATEGORIES:Theatre & Literary Arts
END:VEVENT
BEGIN:VEVENT
DTSTART;TZID=America/Chicago:20250206T163000
DTEND;TZID=America/Chicago:20250206T180000
DTSTAMP:20260425T053728
CREATED:20250203T164147Z
LAST-MODIFIED:20250203T164147Z
UID:75272-1738859400-1738864800@odessaarts.org
SUMMARY:Tween Lego Challenge
DESCRIPTION:We’ve got legos and challenge cards to see what animal you can make with the legos we have available. Want to give it a try? Head down to the basement activity room @ 4:30 PM and give it a try.
URL:https://odessaarts.org/event/tween-lego-challenge/
LOCATION:Ector County Library
CATEGORIES:Humanities,Visual Arts
END:VEVENT
BEGIN:VEVENT
DTSTART;TZID=America/Chicago:20250206T160000
DTEND;TZID=America/Chicago:20250206T170000
DTSTAMP:20260425T053728
CREATED:20250203T163431Z
LAST-MODIFIED:20250203T163431Z
UID:75266-1738857600-1738861200@odessaarts.org
SUMMARY:Read To Felix
DESCRIPTION:Grab a book\, snuggle up on the rug\, and Read to Felix @ 4:00 in the Children’s Department.
URL:https://odessaarts.org/event/read-to-felix-11/2025-02-06/
LOCATION:Ector County Library
CATEGORIES:Humanities,Theatre & Literary Arts
END:VEVENT
BEGIN:VEVENT
DTSTART;TZID=America/Chicago:20250206T100000
DTEND;TZID=America/Chicago:20250206T110000
DTSTAMP:20260425T053728
CREATED:20250203T163026Z
LAST-MODIFIED:20250203T163932Z
UID:75263-1738836000-1738839600@odessaarts.org
SUMMARY:Books and Babies
DESCRIPTION:Join us Thursday\, February 6 @ 10:00 AM for a few books\, some songs\, play time for the babies\, and a chance to meet other parents.
URL:https://odessaarts.org/event/books-and-babies-4/2025-02-06/
LOCATION:Ector County Library
CATEGORIES:Humanities,Theatre & Literary Arts
END:VEVENT
BEGIN:VEVENT
DTSTART;TZID=America/Chicago:20250205T100000
DTEND;TZID=America/Chicago:20250205T223000
DTSTAMP:20260425T053728
CREATED:20250203T162722Z
LAST-MODIFIED:20250203T162722Z
UID:75261-1738749600-1738794600@odessaarts.org
SUMMARY:Storytime:  Dogs
DESCRIPTION:Join us Wednesday @ 10:00 AM for a storytime and craft about dogs.
URL:https://odessaarts.org/event/storytime-dogs/
LOCATION:Ector County Library
CATEGORIES:Theatre & Literary Arts
END:VEVENT
BEGIN:VEVENT
DTSTART;TZID=America/Chicago:20250130T160000
DTEND;TZID=America/Chicago:20250130T170000
DTSTAMP:20260425T053728
CREATED:20250110T194926Z
LAST-MODIFIED:20250110T194926Z
UID:75126-1738252800-1738256400@odessaarts.org
SUMMARY:Read to Felix
DESCRIPTION:Read a story to Felix the therapy dog\, he loves to listen.
URL:https://odessaarts.org/event/read-to-felix-10/2025-01-30/
LOCATION:Ector County Library
CATEGORIES:Humanities,Theatre & Literary Arts,Visual Arts
END:VEVENT
BEGIN:VEVENT
DTSTART;TZID=America/Chicago:20250123T160000
DTEND;TZID=America/Chicago:20250123T170000
DTSTAMP:20260425T053728
CREATED:20250110T194926Z
LAST-MODIFIED:20250110T194926Z
UID:75125-1737648000-1737651600@odessaarts.org
SUMMARY:Read to Felix
DESCRIPTION:Read a story to Felix the therapy dog\, he loves to listen.
URL:https://odessaarts.org/event/read-to-felix-10/2025-01-23/
LOCATION:Ector County Library
CATEGORIES:Humanities,Theatre & Literary Arts,Visual Arts
END:VEVENT
BEGIN:VEVENT
DTSTART;TZID=America/Chicago:20250121T160000
DTEND;TZID=America/Chicago:20250121T173000
DTSTAMP:20260425T053728
CREATED:20250110T211513Z
LAST-MODIFIED:20250110T211538Z
UID:75143-1737475200-1737480600@odessaarts.org
SUMMARY:Family Craft Night:  Craft Stick Bookmarks - Free Event
DESCRIPTION:
URL:https://odessaarts.org/event/family-craft-night-craft-stick-bookmarks/
LOCATION:Ector County Library
CATEGORIES:Humanities,Visual Arts
END:VEVENT
BEGIN:VEVENT
DTSTART;TZID=America/Chicago:20250116T160000
DTEND;TZID=America/Chicago:20250116T170000
DTSTAMP:20260425T053728
CREATED:20250110T194926Z
LAST-MODIFIED:20250110T194926Z
UID:75124-1737043200-1737046800@odessaarts.org
SUMMARY:Read to Felix
DESCRIPTION:Read a story to Felix the therapy dog\, he loves to listen.
URL:https://odessaarts.org/event/read-to-felix-10/2025-01-16/
LOCATION:Ector County Library
CATEGORIES:Humanities,Theatre & Literary Arts,Visual Arts
END:VEVENT
BEGIN:VEVENT
DTSTART;TZID=America/Chicago:20241121T160000
DTEND;TZID=America/Chicago:20241121T170000
DTSTAMP:20260425T053728
CREATED:20240716T194041Z
LAST-MODIFIED:20240716T194041Z
UID:73605-1732204800-1732208400@odessaarts.org
SUMMARY:Read to Felix
DESCRIPTION:Every Thursday in the Children’s Department at 4:00 p.m.
URL:https://odessaarts.org/event/read-to-felix-9/2024-11-21/
LOCATION:Ector County Library
CATEGORIES:Theatre & Literary Arts
END:VEVENT
BEGIN:VEVENT
DTSTART;TZID=America/Chicago:20241114T160000
DTEND;TZID=America/Chicago:20241114T170000
DTSTAMP:20260425T053728
CREATED:20240716T194041Z
LAST-MODIFIED:20240716T194041Z
UID:73604-1731600000-1731603600@odessaarts.org
SUMMARY:Read to Felix
DESCRIPTION:Every Thursday in the Children’s Department at 4:00 p.m.
URL:https://odessaarts.org/event/read-to-felix-9/2024-11-14/
LOCATION:Ector County Library
CATEGORIES:Theatre & Literary Arts
END:VEVENT
BEGIN:VEVENT
DTSTART;TZID=America/Chicago:20241107T160000
DTEND;TZID=America/Chicago:20241107T170000
DTSTAMP:20260425T053728
CREATED:20240716T194041Z
LAST-MODIFIED:20240716T194041Z
UID:73603-1730995200-1730998800@odessaarts.org
SUMMARY:Read to Felix
DESCRIPTION:Every Thursday in the Children’s Department at 4:00 p.m.
URL:https://odessaarts.org/event/read-to-felix-9/2024-11-07/
LOCATION:Ector County Library
CATEGORIES:Theatre & Literary Arts
END:VEVENT
BEGIN:VEVENT
DTSTART;TZID=America/Chicago:20241031T160000
DTEND;TZID=America/Chicago:20241031T170000
DTSTAMP:20260425T053728
CREATED:20240716T194041Z
LAST-MODIFIED:20240716T194041Z
UID:73602-1730390400-1730394000@odessaarts.org
SUMMARY:Read to Felix
DESCRIPTION:Every Thursday in the Children’s Department at 4:00 p.m.
URL:https://odessaarts.org/event/read-to-felix-9/2024-10-31/
LOCATION:Ector County Library
CATEGORIES:Theatre & Literary Arts
END:VEVENT
BEGIN:VEVENT
DTSTART;TZID=America/Chicago:20241024T160000
DTEND;TZID=America/Chicago:20241024T170000
DTSTAMP:20260425T053728
CREATED:20240716T194041Z
LAST-MODIFIED:20240716T194041Z
UID:73601-1729785600-1729789200@odessaarts.org
SUMMARY:Read to Felix
DESCRIPTION:Every Thursday in the Children’s Department at 4:00 p.m.
URL:https://odessaarts.org/event/read-to-felix-9/2024-10-24/
LOCATION:Ector County Library
CATEGORIES:Theatre & Literary Arts
END:VEVENT
BEGIN:VEVENT
DTSTART;TZID=America/Chicago:20241017T160000
DTEND;TZID=America/Chicago:20241017T170000
DTSTAMP:20260425T053728
CREATED:20240716T194041Z
LAST-MODIFIED:20240716T194041Z
UID:73600-1729180800-1729184400@odessaarts.org
SUMMARY:Read to Felix
DESCRIPTION:Every Thursday in the Children’s Department at 4:00 p.m.
URL:https://odessaarts.org/event/read-to-felix-9/2024-10-17/
LOCATION:Ector County Library
CATEGORIES:Theatre & Literary Arts
END:VEVENT
BEGIN:VEVENT
DTSTART;TZID=America/Chicago:20241010T160000
DTEND;TZID=America/Chicago:20241010T170000
DTSTAMP:20260425T053728
CREATED:20240716T194041Z
LAST-MODIFIED:20240716T194041Z
UID:73599-1728576000-1728579600@odessaarts.org
SUMMARY:Read to Felix
DESCRIPTION:Every Thursday in the Children’s Department at 4:00 p.m.
URL:https://odessaarts.org/event/read-to-felix-9/2024-10-10/
LOCATION:Ector County Library
CATEGORIES:Theatre & Literary Arts
END:VEVENT
BEGIN:VEVENT
DTSTART;TZID=America/Chicago:20241003T160000
DTEND;TZID=America/Chicago:20241003T170000
DTSTAMP:20260425T053728
CREATED:20240716T194041Z
LAST-MODIFIED:20240716T194041Z
UID:73598-1727971200-1727974800@odessaarts.org
SUMMARY:Read to Felix
DESCRIPTION:Every Thursday in the Children’s Department at 4:00 p.m.
URL:https://odessaarts.org/event/read-to-felix-9/2024-10-03/
LOCATION:Ector County Library
CATEGORIES:Theatre & Literary Arts
END:VEVENT
BEGIN:VEVENT
DTSTART;TZID=America/Chicago:20240926T160000
DTEND;TZID=America/Chicago:20240926T170000
DTSTAMP:20260425T053728
CREATED:20240716T194041Z
LAST-MODIFIED:20240716T194041Z
UID:73596-1727366400-1727370000@odessaarts.org
SUMMARY:Read to Felix
DESCRIPTION:Every Thursday in the Children’s Department at 4:00 p.m.
URL:https://odessaarts.org/event/read-to-felix-9/2024-09-26/
LOCATION:Ector County Library
CATEGORIES:Theatre & Literary Arts
END:VEVENT
BEGIN:VEVENT
DTSTART;TZID=America/Chicago:20240919T160000
DTEND;TZID=America/Chicago:20240919T170000
DTSTAMP:20260425T053728
CREATED:20240716T194041Z
LAST-MODIFIED:20240716T194041Z
UID:73595-1726761600-1726765200@odessaarts.org
SUMMARY:Read to Felix
DESCRIPTION:Every Thursday in the Children’s Department at 4:00 p.m.
URL:https://odessaarts.org/event/read-to-felix-9/2024-09-19/
LOCATION:Ector County Library
CATEGORIES:Theatre & Literary Arts
END:VEVENT
BEGIN:VEVENT
DTSTART;TZID=America/Chicago:20240912T160000
DTEND;TZID=America/Chicago:20240912T170000
DTSTAMP:20260425T053728
CREATED:20240716T194041Z
LAST-MODIFIED:20240716T194041Z
UID:73594-1726156800-1726160400@odessaarts.org
SUMMARY:Read to Felix
DESCRIPTION:Every Thursday in the Children’s Department at 4:00 p.m.
URL:https://odessaarts.org/event/read-to-felix-9/2024-09-12/
LOCATION:Ector County Library
CATEGORIES:Theatre & Literary Arts
END:VEVENT
BEGIN:VEVENT
DTSTART;TZID=America/Chicago:20240905T160000
DTEND;TZID=America/Chicago:20240905T170000
DTSTAMP:20260425T053728
CREATED:20240716T194041Z
LAST-MODIFIED:20240716T194041Z
UID:73593-1725552000-1725555600@odessaarts.org
SUMMARY:Read to Felix
DESCRIPTION:Every Thursday in the Children’s Department at 4:00 p.m.
URL:https://odessaarts.org/event/read-to-felix-9/2024-09-05/
LOCATION:Ector County Library
CATEGORIES:Theatre & Literary Arts
END:VEVENT
BEGIN:VEVENT
DTSTART;TZID=America/Chicago:20240829T160000
DTEND;TZID=America/Chicago:20240829T170000
DTSTAMP:20260425T053728
CREATED:20240716T194041Z
LAST-MODIFIED:20240716T194041Z
UID:73592-1724947200-1724950800@odessaarts.org
SUMMARY:Read to Felix
DESCRIPTION:Every Thursday in the Children’s Department at 4:00 p.m.
URL:https://odessaarts.org/event/read-to-felix-9/2024-08-29/
LOCATION:Ector County Library
CATEGORIES:Theatre & Literary Arts
END:VEVENT
END:VCALENDAR