BEGIN:VCALENDAR
VERSION:2.0
PRODID:-//Odessa Arts - ECPv6.15.20//NONSGML v1.0//EN
CALSCALE:GREGORIAN
METHOD:PUBLISH
X-ORIGINAL-URL:https://odessaarts.org
X-WR-CALDESC:Events for Odessa Arts
REFRESH-INTERVAL;VALUE=DURATION:PT1H
X-Robots-Tag:noindex
X-PUBLISHED-TTL:PT1H
BEGIN:VTIMEZONE
TZID:America/Chicago
BEGIN:DAYLIGHT
TZOFFSETFROM:-0600
TZOFFSETTO:-0500
TZNAME:CDT
DTSTART:20250309T080000
END:DAYLIGHT
BEGIN:STANDARD
TZOFFSETFROM:-0500
TZOFFSETTO:-0600
TZNAME:CST
DTSTART:20251102T070000
END:STANDARD
BEGIN:DAYLIGHT
TZOFFSETFROM:-0600
TZOFFSETTO:-0500
TZNAME:CDT
DTSTART:20260308T080000
END:DAYLIGHT
BEGIN:STANDARD
TZOFFSETFROM:-0500
TZOFFSETTO:-0600
TZNAME:CST
DTSTART:20261101T070000
END:STANDARD
BEGIN:DAYLIGHT
TZOFFSETFROM:-0600
TZOFFSETTO:-0500
TZNAME:CDT
DTSTART:20270314T080000
END:DAYLIGHT
BEGIN:STANDARD
TZOFFSETFROM:-0500
TZOFFSETTO:-0600
TZNAME:CST
DTSTART:20271107T070000
END:STANDARD
END:VTIMEZONE
BEGIN:VEVENT
DTSTART;TZID=America/Chicago:20260321T080000
DTEND;TZID=America/Chicago:20260321T120000
DTSTAMP:20260425T065454
CREATED:20260317T153520Z
LAST-MODIFIED:20260317T153520Z
UID:78415-1774080000-1774094400@odessaarts.org
SUMMARY:Neighborhood Shademakers Tree Giveaway
DESCRIPTION:Neighborhood Shademakers Tree Giveaway\n\n\nSaturday\, March 21\n8:00 a.m. – 12:00 p.m.\nFloyd Gwin Park\n1015 N. County Road West\n\n\nRegister: https://www.odessa-tx.gov/…/Neighborhood-Shademakers…\n\n\nKeep Odessa Beautiful\n432-335-4686
URL:https://odessaarts.org/event/neighborhood-shademakers-tree-giveaway/
LOCATION:Floyd Gwin Park\, 1015 N. County Road West\, Odessa\, TX\, 79764\, United States
END:VEVENT
END:VCALENDAR