BEGIN:VCALENDAR
VERSION:2.0
PRODID:-//Odessa Arts - ECPv6.15.20//NONSGML v1.0//EN
CALSCALE:GREGORIAN
METHOD:PUBLISH
X-ORIGINAL-URL:https://odessaarts.org
X-WR-CALDESC:Events for Odessa Arts
REFRESH-INTERVAL;VALUE=DURATION:PT1H
X-Robots-Tag:noindex
X-PUBLISHED-TTL:PT1H
BEGIN:VTIMEZONE
TZID:America/Chicago
BEGIN:DAYLIGHT
TZOFFSETFROM:-0600
TZOFFSETTO:-0500
TZNAME:CDT
DTSTART:20250309T080000
END:DAYLIGHT
BEGIN:STANDARD
TZOFFSETFROM:-0500
TZOFFSETTO:-0600
TZNAME:CST
DTSTART:20251102T070000
END:STANDARD
BEGIN:DAYLIGHT
TZOFFSETFROM:-0600
TZOFFSETTO:-0500
TZNAME:CDT
DTSTART:20260308T080000
END:DAYLIGHT
BEGIN:STANDARD
TZOFFSETFROM:-0500
TZOFFSETTO:-0600
TZNAME:CST
DTSTART:20261101T070000
END:STANDARD
BEGIN:DAYLIGHT
TZOFFSETFROM:-0600
TZOFFSETTO:-0500
TZNAME:CDT
DTSTART:20270314T080000
END:DAYLIGHT
BEGIN:STANDARD
TZOFFSETFROM:-0500
TZOFFSETTO:-0600
TZNAME:CST
DTSTART:20271107T070000
END:STANDARD
BEGIN:DAYLIGHT
TZOFFSETFROM:-0600
TZOFFSETTO:-0500
TZNAME:CDT
DTSTART:20280312T080000
END:DAYLIGHT
BEGIN:STANDARD
TZOFFSETFROM:-0500
TZOFFSETTO:-0600
TZNAME:CST
DTSTART:20281105T070000
END:STANDARD
END:VTIMEZONE
BEGIN:VEVENT
DTSTART;TZID=America/Chicago:20261014T110000
DTEND;TZID=America/Chicago:20261014T113000
DTSTAMP:20260424T034221
CREATED:20250304T183001Z
LAST-MODIFIED:20250304T183001Z
UID:75739-1791975600-1791977400@odessaarts.org
SUMMARY:Toddler Tales Storytime - DOWNTOWN
DESCRIPTION:Fun ways to help support toddlers’ developing literacy and cognitive growth by incorporating action rhymes\, songs\, and movement. Child must have an accompanying adult. Ages 3-5.
URL:https://odessaarts.org/event/toddler-tales-storytime-downtown-5/2026-10-14/
LOCATION:Midland Library at the Plaza (Downtown)\, 301 W. Missouri Ave.\, Midland\, TX\, 79701\, United States
CATEGORIES:Humanities,Theatre & Literary Arts
END:VEVENT
BEGIN:VEVENT
DTSTART;TZID=America/Chicago:20261021T110000
DTEND;TZID=America/Chicago:20261021T113000
DTSTAMP:20260424T034221
CREATED:20250304T183001Z
LAST-MODIFIED:20250304T183001Z
UID:75740-1792580400-1792582200@odessaarts.org
SUMMARY:Toddler Tales Storytime - DOWNTOWN
DESCRIPTION:Fun ways to help support toddlers’ developing literacy and cognitive growth by incorporating action rhymes\, songs\, and movement. Child must have an accompanying adult. Ages 3-5.
URL:https://odessaarts.org/event/toddler-tales-storytime-downtown-5/2026-10-21/
LOCATION:Midland Library at the Plaza (Downtown)\, 301 W. Missouri Ave.\, Midland\, TX\, 79701\, United States
CATEGORIES:Humanities,Theatre & Literary Arts
END:VEVENT
BEGIN:VEVENT
DTSTART;TZID=America/Chicago:20261028T110000
DTEND;TZID=America/Chicago:20261028T113000
DTSTAMP:20260424T034221
CREATED:20250304T183001Z
LAST-MODIFIED:20250304T183001Z
UID:75741-1793185200-1793187000@odessaarts.org
SUMMARY:Toddler Tales Storytime - DOWNTOWN
DESCRIPTION:Fun ways to help support toddlers’ developing literacy and cognitive growth by incorporating action rhymes\, songs\, and movement. Child must have an accompanying adult. Ages 3-5.
URL:https://odessaarts.org/event/toddler-tales-storytime-downtown-5/2026-10-28/
LOCATION:Midland Library at the Plaza (Downtown)\, 301 W. Missouri Ave.\, Midland\, TX\, 79701\, United States
CATEGORIES:Humanities,Theatre & Literary Arts
END:VEVENT
BEGIN:VEVENT
DTSTART;TZID=America/Chicago:20261104T110000
DTEND;TZID=America/Chicago:20261104T113000
DTSTAMP:20260424T034221
CREATED:20250304T183001Z
LAST-MODIFIED:20250304T183001Z
UID:75742-1793790000-1793791800@odessaarts.org
SUMMARY:Toddler Tales Storytime - DOWNTOWN
DESCRIPTION:Fun ways to help support toddlers’ developing literacy and cognitive growth by incorporating action rhymes\, songs\, and movement. Child must have an accompanying adult. Ages 3-5.
URL:https://odessaarts.org/event/toddler-tales-storytime-downtown-5/2026-11-04/
LOCATION:Midland Library at the Plaza (Downtown)\, 301 W. Missouri Ave.\, Midland\, TX\, 79701\, United States
CATEGORIES:Humanities,Theatre & Literary Arts
END:VEVENT
BEGIN:VEVENT
DTSTART;TZID=America/Chicago:20261111T110000
DTEND;TZID=America/Chicago:20261111T113000
DTSTAMP:20260424T034221
CREATED:20250304T183001Z
LAST-MODIFIED:20250304T183001Z
UID:75743-1794394800-1794396600@odessaarts.org
SUMMARY:Toddler Tales Storytime - DOWNTOWN
DESCRIPTION:Fun ways to help support toddlers’ developing literacy and cognitive growth by incorporating action rhymes\, songs\, and movement. Child must have an accompanying adult. Ages 3-5.
URL:https://odessaarts.org/event/toddler-tales-storytime-downtown-5/2026-11-11/
LOCATION:Midland Library at the Plaza (Downtown)\, 301 W. Missouri Ave.\, Midland\, TX\, 79701\, United States
CATEGORIES:Humanities,Theatre & Literary Arts
END:VEVENT
BEGIN:VEVENT
DTSTART;TZID=America/Chicago:20261118T110000
DTEND;TZID=America/Chicago:20261118T113000
DTSTAMP:20260424T034221
CREATED:20250304T183001Z
LAST-MODIFIED:20250304T183001Z
UID:75744-1794999600-1795001400@odessaarts.org
SUMMARY:Toddler Tales Storytime - DOWNTOWN
DESCRIPTION:Fun ways to help support toddlers’ developing literacy and cognitive growth by incorporating action rhymes\, songs\, and movement. Child must have an accompanying adult. Ages 3-5.
URL:https://odessaarts.org/event/toddler-tales-storytime-downtown-5/2026-11-18/
LOCATION:Midland Library at the Plaza (Downtown)\, 301 W. Missouri Ave.\, Midland\, TX\, 79701\, United States
CATEGORIES:Humanities,Theatre & Literary Arts
END:VEVENT
BEGIN:VEVENT
DTSTART;TZID=America/Chicago:20261125T110000
DTEND;TZID=America/Chicago:20261125T113000
DTSTAMP:20260424T034221
CREATED:20250304T183001Z
LAST-MODIFIED:20250304T183001Z
UID:75745-1795604400-1795606200@odessaarts.org
SUMMARY:Toddler Tales Storytime - DOWNTOWN
DESCRIPTION:Fun ways to help support toddlers’ developing literacy and cognitive growth by incorporating action rhymes\, songs\, and movement. Child must have an accompanying adult. Ages 3-5.
URL:https://odessaarts.org/event/toddler-tales-storytime-downtown-5/2026-11-25/
LOCATION:Midland Library at the Plaza (Downtown)\, 301 W. Missouri Ave.\, Midland\, TX\, 79701\, United States
CATEGORIES:Humanities,Theatre & Literary Arts
END:VEVENT
BEGIN:VEVENT
DTSTART;TZID=America/Chicago:20261202T110000
DTEND;TZID=America/Chicago:20261202T113000
DTSTAMP:20260424T034221
CREATED:20250304T183001Z
LAST-MODIFIED:20250304T183001Z
UID:75746-1796209200-1796211000@odessaarts.org
SUMMARY:Toddler Tales Storytime - DOWNTOWN
DESCRIPTION:Fun ways to help support toddlers’ developing literacy and cognitive growth by incorporating action rhymes\, songs\, and movement. Child must have an accompanying adult. Ages 3-5.
URL:https://odessaarts.org/event/toddler-tales-storytime-downtown-5/2026-12-02/
LOCATION:Midland Library at the Plaza (Downtown)\, 301 W. Missouri Ave.\, Midland\, TX\, 79701\, United States
CATEGORIES:Humanities,Theatre & Literary Arts
END:VEVENT
BEGIN:VEVENT
DTSTART;TZID=America/Chicago:20261209T110000
DTEND;TZID=America/Chicago:20261209T113000
DTSTAMP:20260424T034221
CREATED:20250304T183001Z
LAST-MODIFIED:20250304T183001Z
UID:75747-1796814000-1796815800@odessaarts.org
SUMMARY:Toddler Tales Storytime - DOWNTOWN
DESCRIPTION:Fun ways to help support toddlers’ developing literacy and cognitive growth by incorporating action rhymes\, songs\, and movement. Child must have an accompanying adult. Ages 3-5.
URL:https://odessaarts.org/event/toddler-tales-storytime-downtown-5/2026-12-09/
LOCATION:Midland Library at the Plaza (Downtown)\, 301 W. Missouri Ave.\, Midland\, TX\, 79701\, United States
CATEGORIES:Humanities,Theatre & Literary Arts
END:VEVENT
BEGIN:VEVENT
DTSTART;TZID=America/Chicago:20261216T110000
DTEND;TZID=America/Chicago:20261216T113000
DTSTAMP:20260424T034221
CREATED:20250304T183001Z
LAST-MODIFIED:20250304T183001Z
UID:75748-1797418800-1797420600@odessaarts.org
SUMMARY:Toddler Tales Storytime - DOWNTOWN
DESCRIPTION:Fun ways to help support toddlers’ developing literacy and cognitive growth by incorporating action rhymes\, songs\, and movement. Child must have an accompanying adult. Ages 3-5.
URL:https://odessaarts.org/event/toddler-tales-storytime-downtown-5/2026-12-16/
LOCATION:Midland Library at the Plaza (Downtown)\, 301 W. Missouri Ave.\, Midland\, TX\, 79701\, United States
CATEGORIES:Humanities,Theatre & Literary Arts
END:VEVENT
BEGIN:VEVENT
DTSTART;TZID=America/Chicago:20261223T110000
DTEND;TZID=America/Chicago:20261223T113000
DTSTAMP:20260424T034221
CREATED:20250304T183001Z
LAST-MODIFIED:20250304T183001Z
UID:75749-1798023600-1798025400@odessaarts.org
SUMMARY:Toddler Tales Storytime - DOWNTOWN
DESCRIPTION:Fun ways to help support toddlers’ developing literacy and cognitive growth by incorporating action rhymes\, songs\, and movement. Child must have an accompanying adult. Ages 3-5.
URL:https://odessaarts.org/event/toddler-tales-storytime-downtown-5/2026-12-23/
LOCATION:Midland Library at the Plaza (Downtown)\, 301 W. Missouri Ave.\, Midland\, TX\, 79701\, United States
CATEGORIES:Humanities,Theatre & Literary Arts
END:VEVENT
BEGIN:VEVENT
DTSTART;TZID=America/Chicago:20261230T110000
DTEND;TZID=America/Chicago:20261230T113000
DTSTAMP:20260424T034221
CREATED:20250304T183001Z
LAST-MODIFIED:20250304T183001Z
UID:75750-1798628400-1798630200@odessaarts.org
SUMMARY:Toddler Tales Storytime - DOWNTOWN
DESCRIPTION:Fun ways to help support toddlers’ developing literacy and cognitive growth by incorporating action rhymes\, songs\, and movement. Child must have an accompanying adult. Ages 3-5.
URL:https://odessaarts.org/event/toddler-tales-storytime-downtown-5/2026-12-30/
LOCATION:Midland Library at the Plaza (Downtown)\, 301 W. Missouri Ave.\, Midland\, TX\, 79701\, United States
CATEGORIES:Humanities,Theatre & Literary Arts
END:VEVENT
BEGIN:VEVENT
DTSTART;TZID=America/Chicago:20270106T110000
DTEND;TZID=America/Chicago:20270106T113000
DTSTAMP:20260424T034221
CREATED:20250304T183001Z
LAST-MODIFIED:20250304T183001Z
UID:75751-1799233200-1799235000@odessaarts.org
SUMMARY:Toddler Tales Storytime - DOWNTOWN
DESCRIPTION:Fun ways to help support toddlers’ developing literacy and cognitive growth by incorporating action rhymes\, songs\, and movement. Child must have an accompanying adult. Ages 3-5.
URL:https://odessaarts.org/event/toddler-tales-storytime-downtown-5/2027-01-06/
LOCATION:Midland Library at the Plaza (Downtown)\, 301 W. Missouri Ave.\, Midland\, TX\, 79701\, United States
CATEGORIES:Humanities,Theatre & Literary Arts
END:VEVENT
BEGIN:VEVENT
DTSTART;TZID=America/Chicago:20270113T110000
DTEND;TZID=America/Chicago:20270113T113000
DTSTAMP:20260424T034221
CREATED:20250304T183001Z
LAST-MODIFIED:20250304T183001Z
UID:75752-1799838000-1799839800@odessaarts.org
SUMMARY:Toddler Tales Storytime - DOWNTOWN
DESCRIPTION:Fun ways to help support toddlers’ developing literacy and cognitive growth by incorporating action rhymes\, songs\, and movement. Child must have an accompanying adult. Ages 3-5.
URL:https://odessaarts.org/event/toddler-tales-storytime-downtown-5/2027-01-13/
LOCATION:Midland Library at the Plaza (Downtown)\, 301 W. Missouri Ave.\, Midland\, TX\, 79701\, United States
CATEGORIES:Humanities,Theatre & Literary Arts
END:VEVENT
BEGIN:VEVENT
DTSTART;TZID=America/Chicago:20270120T110000
DTEND;TZID=America/Chicago:20270120T113000
DTSTAMP:20260424T034221
CREATED:20250304T183001Z
LAST-MODIFIED:20250304T183001Z
UID:75753-1800442800-1800444600@odessaarts.org
SUMMARY:Toddler Tales Storytime - DOWNTOWN
DESCRIPTION:Fun ways to help support toddlers’ developing literacy and cognitive growth by incorporating action rhymes\, songs\, and movement. Child must have an accompanying adult. Ages 3-5.
URL:https://odessaarts.org/event/toddler-tales-storytime-downtown-5/2027-01-20/
LOCATION:Midland Library at the Plaza (Downtown)\, 301 W. Missouri Ave.\, Midland\, TX\, 79701\, United States
CATEGORIES:Humanities,Theatre & Literary Arts
END:VEVENT
BEGIN:VEVENT
DTSTART;TZID=America/Chicago:20270127T110000
DTEND;TZID=America/Chicago:20270127T113000
DTSTAMP:20260424T034221
CREATED:20250304T183001Z
LAST-MODIFIED:20250304T183001Z
UID:75754-1801047600-1801049400@odessaarts.org
SUMMARY:Toddler Tales Storytime - DOWNTOWN
DESCRIPTION:Fun ways to help support toddlers’ developing literacy and cognitive growth by incorporating action rhymes\, songs\, and movement. Child must have an accompanying adult. Ages 3-5.
URL:https://odessaarts.org/event/toddler-tales-storytime-downtown-5/2027-01-27/
LOCATION:Midland Library at the Plaza (Downtown)\, 301 W. Missouri Ave.\, Midland\, TX\, 79701\, United States
CATEGORIES:Humanities,Theatre & Literary Arts
END:VEVENT
BEGIN:VEVENT
DTSTART;TZID=America/Chicago:20270203T110000
DTEND;TZID=America/Chicago:20270203T113000
DTSTAMP:20260424T034221
CREATED:20250304T183001Z
LAST-MODIFIED:20250304T183001Z
UID:75755-1801652400-1801654200@odessaarts.org
SUMMARY:Toddler Tales Storytime - DOWNTOWN
DESCRIPTION:Fun ways to help support toddlers’ developing literacy and cognitive growth by incorporating action rhymes\, songs\, and movement. Child must have an accompanying adult. Ages 3-5.
URL:https://odessaarts.org/event/toddler-tales-storytime-downtown-5/2027-02-03/
LOCATION:Midland Library at the Plaza (Downtown)\, 301 W. Missouri Ave.\, Midland\, TX\, 79701\, United States
CATEGORIES:Humanities,Theatre & Literary Arts
END:VEVENT
BEGIN:VEVENT
DTSTART;TZID=America/Chicago:20270210T110000
DTEND;TZID=America/Chicago:20270210T113000
DTSTAMP:20260424T034221
CREATED:20250304T183001Z
LAST-MODIFIED:20250304T183001Z
UID:75756-1802257200-1802259000@odessaarts.org
SUMMARY:Toddler Tales Storytime - DOWNTOWN
DESCRIPTION:Fun ways to help support toddlers’ developing literacy and cognitive growth by incorporating action rhymes\, songs\, and movement. Child must have an accompanying adult. Ages 3-5.
URL:https://odessaarts.org/event/toddler-tales-storytime-downtown-5/2027-02-10/
LOCATION:Midland Library at the Plaza (Downtown)\, 301 W. Missouri Ave.\, Midland\, TX\, 79701\, United States
CATEGORIES:Humanities,Theatre & Literary Arts
END:VEVENT
BEGIN:VEVENT
DTSTART;TZID=America/Chicago:20270217T110000
DTEND;TZID=America/Chicago:20270217T113000
DTSTAMP:20260424T034221
CREATED:20250304T183001Z
LAST-MODIFIED:20250304T183001Z
UID:75757-1802862000-1802863800@odessaarts.org
SUMMARY:Toddler Tales Storytime - DOWNTOWN
DESCRIPTION:Fun ways to help support toddlers’ developing literacy and cognitive growth by incorporating action rhymes\, songs\, and movement. Child must have an accompanying adult. Ages 3-5.
URL:https://odessaarts.org/event/toddler-tales-storytime-downtown-5/2027-02-17/
LOCATION:Midland Library at the Plaza (Downtown)\, 301 W. Missouri Ave.\, Midland\, TX\, 79701\, United States
CATEGORIES:Humanities,Theatre & Literary Arts
END:VEVENT
BEGIN:VEVENT
DTSTART;TZID=America/Chicago:20270224T110000
DTEND;TZID=America/Chicago:20270224T113000
DTSTAMP:20260424T034221
CREATED:20250304T183001Z
LAST-MODIFIED:20250304T183001Z
UID:75758-1803466800-1803468600@odessaarts.org
SUMMARY:Toddler Tales Storytime - DOWNTOWN
DESCRIPTION:Fun ways to help support toddlers’ developing literacy and cognitive growth by incorporating action rhymes\, songs\, and movement. Child must have an accompanying adult. Ages 3-5.
URL:https://odessaarts.org/event/toddler-tales-storytime-downtown-5/2027-02-24/
LOCATION:Midland Library at the Plaza (Downtown)\, 301 W. Missouri Ave.\, Midland\, TX\, 79701\, United States
CATEGORIES:Humanities,Theatre & Literary Arts
END:VEVENT
BEGIN:VEVENT
DTSTART;TZID=America/Chicago:20270303T110000
DTEND;TZID=America/Chicago:20270303T113000
DTSTAMP:20260424T034221
CREATED:20250304T183001Z
LAST-MODIFIED:20250304T183001Z
UID:75759-1804071600-1804073400@odessaarts.org
SUMMARY:Toddler Tales Storytime - DOWNTOWN
DESCRIPTION:Fun ways to help support toddlers’ developing literacy and cognitive growth by incorporating action rhymes\, songs\, and movement. Child must have an accompanying adult. Ages 3-5.
URL:https://odessaarts.org/event/toddler-tales-storytime-downtown-5/2027-03-03/
LOCATION:Midland Library at the Plaza (Downtown)\, 301 W. Missouri Ave.\, Midland\, TX\, 79701\, United States
CATEGORIES:Humanities,Theatre & Literary Arts
END:VEVENT
BEGIN:VEVENT
DTSTART;TZID=America/Chicago:20270310T110000
DTEND;TZID=America/Chicago:20270310T113000
DTSTAMP:20260424T034221
CREATED:20250304T183001Z
LAST-MODIFIED:20250304T183001Z
UID:75802-1804676400-1804678200@odessaarts.org
SUMMARY:Toddler Tales Storytime - DOWNTOWN
DESCRIPTION:Fun ways to help support toddlers’ developing literacy and cognitive growth by incorporating action rhymes\, songs\, and movement. Child must have an accompanying adult. Ages 3-5.
URL:https://odessaarts.org/event/toddler-tales-storytime-downtown-5/2027-03-10/
LOCATION:Midland Library at the Plaza (Downtown)\, 301 W. Missouri Ave.\, Midland\, TX\, 79701\, United States
CATEGORIES:Humanities,Theatre & Literary Arts
END:VEVENT
BEGIN:VEVENT
DTSTART;TZID=America/Chicago:20270317T110000
DTEND;TZID=America/Chicago:20270317T113000
DTSTAMP:20260424T034221
CREATED:20250304T183001Z
LAST-MODIFIED:20250304T183001Z
UID:75817-1805281200-1805283000@odessaarts.org
SUMMARY:Toddler Tales Storytime - DOWNTOWN
DESCRIPTION:Fun ways to help support toddlers’ developing literacy and cognitive growth by incorporating action rhymes\, songs\, and movement. Child must have an accompanying adult. Ages 3-5.
URL:https://odessaarts.org/event/toddler-tales-storytime-downtown-5/2027-03-17/
LOCATION:Midland Library at the Plaza (Downtown)\, 301 W. Missouri Ave.\, Midland\, TX\, 79701\, United States
CATEGORIES:Humanities,Theatre & Literary Arts
END:VEVENT
BEGIN:VEVENT
DTSTART;TZID=America/Chicago:20270324T110000
DTEND;TZID=America/Chicago:20270324T113000
DTSTAMP:20260424T034221
CREATED:20250304T183001Z
LAST-MODIFIED:20250304T183001Z
UID:75953-1805886000-1805887800@odessaarts.org
SUMMARY:Toddler Tales Storytime - DOWNTOWN
DESCRIPTION:Fun ways to help support toddlers’ developing literacy and cognitive growth by incorporating action rhymes\, songs\, and movement. Child must have an accompanying adult. Ages 3-5.
URL:https://odessaarts.org/event/toddler-tales-storytime-downtown-5/2027-03-24/
LOCATION:Midland Library at the Plaza (Downtown)\, 301 W. Missouri Ave.\, Midland\, TX\, 79701\, United States
CATEGORIES:Humanities,Theatre & Literary Arts
END:VEVENT
BEGIN:VEVENT
DTSTART;TZID=America/Chicago:20270331T110000
DTEND;TZID=America/Chicago:20270331T113000
DTSTAMP:20260424T034221
CREATED:20250304T183001Z
LAST-MODIFIED:20250304T183001Z
UID:75969-1806490800-1806492600@odessaarts.org
SUMMARY:Toddler Tales Storytime - DOWNTOWN
DESCRIPTION:Fun ways to help support toddlers’ developing literacy and cognitive growth by incorporating action rhymes\, songs\, and movement. Child must have an accompanying adult. Ages 3-5.
URL:https://odessaarts.org/event/toddler-tales-storytime-downtown-5/2027-03-31/
LOCATION:Midland Library at the Plaza (Downtown)\, 301 W. Missouri Ave.\, Midland\, TX\, 79701\, United States
CATEGORIES:Humanities,Theatre & Literary Arts
END:VEVENT
BEGIN:VEVENT
DTSTART;TZID=America/Chicago:20270407T110000
DTEND;TZID=America/Chicago:20270407T113000
DTSTAMP:20260424T034221
CREATED:20250304T183001Z
LAST-MODIFIED:20250304T183001Z
UID:75975-1807095600-1807097400@odessaarts.org
SUMMARY:Toddler Tales Storytime - DOWNTOWN
DESCRIPTION:Fun ways to help support toddlers’ developing literacy and cognitive growth by incorporating action rhymes\, songs\, and movement. Child must have an accompanying adult. Ages 3-5.
URL:https://odessaarts.org/event/toddler-tales-storytime-downtown-5/2027-04-07/
LOCATION:Midland Library at the Plaza (Downtown)\, 301 W. Missouri Ave.\, Midland\, TX\, 79701\, United States
CATEGORIES:Humanities,Theatre & Literary Arts
END:VEVENT
BEGIN:VEVENT
DTSTART;TZID=America/Chicago:20270414T110000
DTEND;TZID=America/Chicago:20270414T113000
DTSTAMP:20260424T034221
CREATED:20250304T183001Z
LAST-MODIFIED:20250304T183001Z
UID:75980-1807700400-1807702200@odessaarts.org
SUMMARY:Toddler Tales Storytime - DOWNTOWN
DESCRIPTION:Fun ways to help support toddlers’ developing literacy and cognitive growth by incorporating action rhymes\, songs\, and movement. Child must have an accompanying adult. Ages 3-5.
URL:https://odessaarts.org/event/toddler-tales-storytime-downtown-5/2027-04-14/
LOCATION:Midland Library at the Plaza (Downtown)\, 301 W. Missouri Ave.\, Midland\, TX\, 79701\, United States
CATEGORIES:Humanities,Theatre & Literary Arts
END:VEVENT
BEGIN:VEVENT
DTSTART;TZID=America/Chicago:20270421T110000
DTEND;TZID=America/Chicago:20270421T113000
DTSTAMP:20260424T034221
CREATED:20250304T183001Z
LAST-MODIFIED:20250304T183001Z
UID:76114-1808305200-1808307000@odessaarts.org
SUMMARY:Toddler Tales Storytime - DOWNTOWN
DESCRIPTION:Fun ways to help support toddlers’ developing literacy and cognitive growth by incorporating action rhymes\, songs\, and movement. Child must have an accompanying adult. Ages 3-5.
URL:https://odessaarts.org/event/toddler-tales-storytime-downtown-5/2027-04-21/
LOCATION:Midland Library at the Plaza (Downtown)\, 301 W. Missouri Ave.\, Midland\, TX\, 79701\, United States
CATEGORIES:Humanities,Theatre & Literary Arts
END:VEVENT
BEGIN:VEVENT
DTSTART;TZID=America/Chicago:20270428T110000
DTEND;TZID=America/Chicago:20270428T113000
DTSTAMP:20260424T034221
CREATED:20250304T183001Z
LAST-MODIFIED:20250304T183001Z
UID:76361-1808910000-1808911800@odessaarts.org
SUMMARY:Toddler Tales Storytime - DOWNTOWN
DESCRIPTION:Fun ways to help support toddlers’ developing literacy and cognitive growth by incorporating action rhymes\, songs\, and movement. Child must have an accompanying adult. Ages 3-5.
URL:https://odessaarts.org/event/toddler-tales-storytime-downtown-5/2027-04-28/
LOCATION:Midland Library at the Plaza (Downtown)\, 301 W. Missouri Ave.\, Midland\, TX\, 79701\, United States
CATEGORIES:Humanities,Theatre & Literary Arts
END:VEVENT
BEGIN:VEVENT
DTSTART;TZID=America/Chicago:20270505T110000
DTEND;TZID=America/Chicago:20270505T113000
DTSTAMP:20260424T034221
CREATED:20250304T183001Z
LAST-MODIFIED:20250304T183001Z
UID:76377-1809514800-1809516600@odessaarts.org
SUMMARY:Toddler Tales Storytime - DOWNTOWN
DESCRIPTION:Fun ways to help support toddlers’ developing literacy and cognitive growth by incorporating action rhymes\, songs\, and movement. Child must have an accompanying adult. Ages 3-5.
URL:https://odessaarts.org/event/toddler-tales-storytime-downtown-5/2027-05-05/
LOCATION:Midland Library at the Plaza (Downtown)\, 301 W. Missouri Ave.\, Midland\, TX\, 79701\, United States
CATEGORIES:Humanities,Theatre & Literary Arts
END:VEVENT
END:VCALENDAR