BEGIN:VCALENDAR
VERSION:2.0
PRODID:-//Odessa Arts - ECPv6.15.20//NONSGML v1.0//EN
CALSCALE:GREGORIAN
METHOD:PUBLISH
X-ORIGINAL-URL:https://odessaarts.org
X-WR-CALDESC:Events for Odessa Arts
REFRESH-INTERVAL;VALUE=DURATION:PT1H
X-Robots-Tag:noindex
X-PUBLISHED-TTL:PT1H
BEGIN:VTIMEZONE
TZID:America/Chicago
BEGIN:DAYLIGHT
TZOFFSETFROM:-0600
TZOFFSETTO:-0500
TZNAME:CDT
DTSTART:20220313T080000
END:DAYLIGHT
BEGIN:STANDARD
TZOFFSETFROM:-0500
TZOFFSETTO:-0600
TZNAME:CST
DTSTART:20221106T070000
END:STANDARD
BEGIN:DAYLIGHT
TZOFFSETFROM:-0600
TZOFFSETTO:-0500
TZNAME:CDT
DTSTART:20230312T080000
END:DAYLIGHT
BEGIN:STANDARD
TZOFFSETFROM:-0500
TZOFFSETTO:-0600
TZNAME:CST
DTSTART:20231105T070000
END:STANDARD
BEGIN:DAYLIGHT
TZOFFSETFROM:-0600
TZOFFSETTO:-0500
TZNAME:CDT
DTSTART:20240310T080000
END:DAYLIGHT
BEGIN:STANDARD
TZOFFSETFROM:-0500
TZOFFSETTO:-0600
TZNAME:CST
DTSTART:20241103T070000
END:STANDARD
BEGIN:DAYLIGHT
TZOFFSETFROM:-0600
TZOFFSETTO:-0500
TZNAME:CDT
DTSTART:20250309T080000
END:DAYLIGHT
BEGIN:STANDARD
TZOFFSETFROM:-0500
TZOFFSETTO:-0600
TZNAME:CST
DTSTART:20251102T070000
END:STANDARD
BEGIN:DAYLIGHT
TZOFFSETFROM:-0600
TZOFFSETTO:-0500
TZNAME:CDT
DTSTART:20260308T080000
END:DAYLIGHT
BEGIN:STANDARD
TZOFFSETFROM:-0500
TZOFFSETTO:-0600
TZNAME:CST
DTSTART:20261101T070000
END:STANDARD
BEGIN:DAYLIGHT
TZOFFSETFROM:-0600
TZOFFSETTO:-0500
TZNAME:CDT
DTSTART:20270314T080000
END:DAYLIGHT
BEGIN:STANDARD
TZOFFSETFROM:-0500
TZOFFSETTO:-0600
TZNAME:CST
DTSTART:20271107T070000
END:STANDARD
END:VTIMEZONE
BEGIN:VEVENT
DTSTART;TZID=America/Chicago:20260317T170000
DTEND;TZID=America/Chicago:20260317T183000
DTSTAMP:20260424T202018
CREATED:20260317T165411Z
LAST-MODIFIED:20260317T165411Z
UID:78435-1773766800-1773772200@odessaarts.org
SUMMARY:Spring Artist Meet & Greet Reception
DESCRIPTION:The Artist Meet & Greet is a unique opportunity for the Midland community to connect with talented local artists. Hosted at Midland Shared Spaces\, this event showcases the diverse talents of artists affiliated with the Midland Arts Association\, Palette Club of Midland\, and Sibley Camera Club. Attendees will have the chance to engage with artists\, view their work\, and learn about the creative processes behind their art.
URL:https://odessaarts.org/event/spring-artist-meet-greet-reception/
LOCATION:Midland Shared Spaces\, 3500 North A Street #1100\, Midland\, TX\, 79705\, United States
END:VEVENT
BEGIN:VEVENT
DTSTART;TZID=America/Chicago:20230921T190000
DTEND;TZID=America/Chicago:20230921T190000
DTSTAMP:20260424T202018
CREATED:20230626T202529Z
LAST-MODIFIED:20230626T204333Z
UID:12617-1695322800-1695322800@odessaarts.org
SUMMARY:Rhythm & Booze:  A Dueling Piano Event
DESCRIPTION:We are excited to bring back by popular demand Rhythm & Booze: A Dueling Piano Event! This year’s event will take place under the tent at Midland Shared Spaces on Thursday\, September 21 at 7 p.m. \nSing and laugh your way through an unforgettable evening featuring guest artists Felix & Fingers. Get your favorite song played during this exciting and impromptu show – you never know what will happen at Rhythm & Booze. \nMake a ‘note’-able difference by supporting the event as a sponsor! Sponsorships include reserved seating for 8 guests\, food and open bar\, your name or logo displayed prominently to an engaged audience – and the perfect seats to enjoy the show! We anticipate that the event will sell out through sponsor tables before tickets go on sale to the general public\, so reserve your sponsorship today! \nJoin us to raise the roof while we raise funds toward our organization’s mission to enhance nonprofit efficiency\, provide affordable workspace and back-office services\, and foster collaborations that better serve the nonprofits and people of Midland County. \nSeating is limited and will go quickly! Reserve your table for this unforgettable evening today!  We can’t wait to see you under the tent at MSS.\n\neventRegistration.jsp for ticket information
URL:https://odessaarts.org/event/rhythm-booze-a-dueling-piano-event/
LOCATION:Midland Shared Spaces\, 3500 North A Street #1100\, Midland\, TX\, 79705\, United States
CATEGORIES:Music
END:VEVENT
END:VCALENDAR