BEGIN:VCALENDAR
VERSION:2.0
PRODID:-//Odessa Arts - ECPv6.15.20//NONSGML v1.0//EN
CALSCALE:GREGORIAN
METHOD:PUBLISH
X-WR-CALNAME:Odessa Arts
X-ORIGINAL-URL:https://odessaarts.org
X-WR-CALDESC:Events for Odessa Arts
REFRESH-INTERVAL;VALUE=DURATION:PT1H
X-Robots-Tag:noindex
X-PUBLISHED-TTL:PT1H
BEGIN:VTIMEZONE
TZID:America/Chicago
BEGIN:DAYLIGHT
TZOFFSETFROM:-0600
TZOFFSETTO:-0500
TZNAME:CDT
DTSTART:20210314T080000
END:DAYLIGHT
BEGIN:STANDARD
TZOFFSETFROM:-0500
TZOFFSETTO:-0600
TZNAME:CST
DTSTART:20211107T070000
END:STANDARD
BEGIN:DAYLIGHT
TZOFFSETFROM:-0600
TZOFFSETTO:-0500
TZNAME:CDT
DTSTART:20220313T080000
END:DAYLIGHT
BEGIN:STANDARD
TZOFFSETFROM:-0500
TZOFFSETTO:-0600
TZNAME:CST
DTSTART:20221106T070000
END:STANDARD
BEGIN:DAYLIGHT
TZOFFSETFROM:-0600
TZOFFSETTO:-0500
TZNAME:CDT
DTSTART:20230312T080000
END:DAYLIGHT
BEGIN:STANDARD
TZOFFSETFROM:-0500
TZOFFSETTO:-0600
TZNAME:CST
DTSTART:20231105T070000
END:STANDARD
BEGIN:DAYLIGHT
TZOFFSETFROM:-0600
TZOFFSETTO:-0500
TZNAME:CDT
DTSTART:20240310T080000
END:DAYLIGHT
BEGIN:STANDARD
TZOFFSETFROM:-0500
TZOFFSETTO:-0600
TZNAME:CST
DTSTART:20241103T070000
END:STANDARD
BEGIN:DAYLIGHT
TZOFFSETFROM:-0600
TZOFFSETTO:-0500
TZNAME:CDT
DTSTART:20250309T080000
END:DAYLIGHT
BEGIN:STANDARD
TZOFFSETFROM:-0500
TZOFFSETTO:-0600
TZNAME:CST
DTSTART:20251102T070000
END:STANDARD
BEGIN:DAYLIGHT
TZOFFSETFROM:-0600
TZOFFSETTO:-0500
TZNAME:CDT
DTSTART:20260308T080000
END:DAYLIGHT
BEGIN:STANDARD
TZOFFSETFROM:-0500
TZOFFSETTO:-0600
TZNAME:CST
DTSTART:20261101T070000
END:STANDARD
BEGIN:DAYLIGHT
TZOFFSETFROM:-0600
TZOFFSETTO:-0500
TZNAME:CDT
DTSTART:20270314T080000
END:DAYLIGHT
BEGIN:STANDARD
TZOFFSETFROM:-0500
TZOFFSETTO:-0600
TZNAME:CST
DTSTART:20271107T070000
END:STANDARD
END:VTIMEZONE
BEGIN:VEVENT
DTSTART;TZID=America/Chicago:20260418T193000
DTEND;TZID=America/Chicago:20260418T223000
DTSTAMP:20260424T190024
CREATED:20260227T185428Z
LAST-MODIFIED:20260227T185428Z
UID:78306-1776540600-1776551400@odessaarts.org
SUMMARY:Music at the Marriott by the West Texas Jazz Society
DESCRIPTION:7:30-10:30 pm\nEvery Saturday\nIn The Odessa Marriott Lobby \nco-sponsored by the Jazz Society and Odessa Arts
URL:https://odessaarts.org/event/music-at-the-marriott-by-the-west-texas-jazz-society/2026-04-18/
LOCATION:Odessa Marriott Hotel & Conference Center\, 305 E. 5th Street\, Odessa\, Texas\, 79761
CATEGORIES:Music
END:VEVENT
BEGIN:VEVENT
DTSTART;TZID=America/Chicago:20260411T193000
DTEND;TZID=America/Chicago:20260411T223000
DTSTAMP:20260424T190024
CREATED:20260227T185428Z
LAST-MODIFIED:20260227T185428Z
UID:78305-1775935800-1775946600@odessaarts.org
SUMMARY:Music at the Marriott by the West Texas Jazz Society
DESCRIPTION:7:30-10:30 pm\nEvery Saturday\nIn The Odessa Marriott Lobby \nco-sponsored by the Jazz Society and Odessa Arts
URL:https://odessaarts.org/event/music-at-the-marriott-by-the-west-texas-jazz-society/2026-04-11/
LOCATION:Odessa Marriott Hotel & Conference Center\, 305 E. 5th Street\, Odessa\, Texas\, 79761
CATEGORIES:Music
END:VEVENT
BEGIN:VEVENT
DTSTART;TZID=America/Chicago:20260404T193000
DTEND;TZID=America/Chicago:20260404T223000
DTSTAMP:20260424T190024
CREATED:20260227T185428Z
LAST-MODIFIED:20260227T185428Z
UID:78304-1775331000-1775341800@odessaarts.org
SUMMARY:Music at the Marriott by the West Texas Jazz Society
DESCRIPTION:7:30-10:30 pm\nEvery Saturday\nIn The Odessa Marriott Lobby \nco-sponsored by the Jazz Society and Odessa Arts
URL:https://odessaarts.org/event/music-at-the-marriott-by-the-west-texas-jazz-society/2026-04-04/
LOCATION:Odessa Marriott Hotel & Conference Center\, 305 E. 5th Street\, Odessa\, Texas\, 79761
CATEGORIES:Music
END:VEVENT
BEGIN:VEVENT
DTSTART;TZID=America/Chicago:20260328T193000
DTEND;TZID=America/Chicago:20260328T223000
DTSTAMP:20260424T190024
CREATED:20260227T185428Z
LAST-MODIFIED:20260227T185428Z
UID:78303-1774726200-1774737000@odessaarts.org
SUMMARY:Music at the Marriott by the West Texas Jazz Society
DESCRIPTION:7:30-10:30 pm\nEvery Saturday\nIn The Odessa Marriott Lobby \nco-sponsored by the Jazz Society and Odessa Arts
URL:https://odessaarts.org/event/music-at-the-marriott-by-the-west-texas-jazz-society/2026-03-28/
LOCATION:Odessa Marriott Hotel & Conference Center\, 305 E. 5th Street\, Odessa\, Texas\, 79761
CATEGORIES:Music
END:VEVENT
BEGIN:VEVENT
DTSTART;TZID=America/Chicago:20260321T193000
DTEND;TZID=America/Chicago:20260321T223000
DTSTAMP:20260424T190024
CREATED:20260227T185428Z
LAST-MODIFIED:20260227T185428Z
UID:78302-1774121400-1774132200@odessaarts.org
SUMMARY:Music at the Marriott by the West Texas Jazz Society
DESCRIPTION:7:30-10:30 pm\nEvery Saturday\nIn The Odessa Marriott Lobby \nco-sponsored by the Jazz Society and Odessa Arts
URL:https://odessaarts.org/event/music-at-the-marriott-by-the-west-texas-jazz-society/2026-03-21/
LOCATION:Odessa Marriott Hotel & Conference Center\, 305 E. 5th Street\, Odessa\, Texas\, 79761
CATEGORIES:Music
END:VEVENT
BEGIN:VEVENT
DTSTART;TZID=America/Chicago:20260314T193000
DTEND;TZID=America/Chicago:20260314T223000
DTSTAMP:20260424T190024
CREATED:20260227T185428Z
LAST-MODIFIED:20260227T185428Z
UID:78301-1773516600-1773527400@odessaarts.org
SUMMARY:Music at the Marriott by the West Texas Jazz Society
DESCRIPTION:7:30-10:30 pm\nEvery Saturday\nIn The Odessa Marriott Lobby \nco-sponsored by the Jazz Society and Odessa Arts
URL:https://odessaarts.org/event/music-at-the-marriott-by-the-west-texas-jazz-society/2026-03-14/
LOCATION:Odessa Marriott Hotel & Conference Center\, 305 E. 5th Street\, Odessa\, Texas\, 79761
CATEGORIES:Music
END:VEVENT
BEGIN:VEVENT
DTSTART;TZID=America/Chicago:20260307T193000
DTEND;TZID=America/Chicago:20260307T223000
DTSTAMP:20260424T190024
CREATED:20260227T185428Z
LAST-MODIFIED:20260227T185428Z
UID:78300-1772911800-1772922600@odessaarts.org
SUMMARY:Music at the Marriott by the West Texas Jazz Society
DESCRIPTION:7:30-10:30 pm\nEvery Saturday\nIn The Odessa Marriott Lobby \nco-sponsored by the Jazz Society and Odessa Arts
URL:https://odessaarts.org/event/music-at-the-marriott-by-the-west-texas-jazz-society/2026-03-07/
LOCATION:Odessa Marriott Hotel & Conference Center\, 305 E. 5th Street\, Odessa\, Texas\, 79761
CATEGORIES:Music
END:VEVENT
BEGIN:VEVENT
DTSTART;TZID=America/Chicago:20260228T193000
DTEND;TZID=America/Chicago:20260228T223000
DTSTAMP:20260424T190024
CREATED:20260227T185428Z
LAST-MODIFIED:20260227T185913Z
UID:78253-1772307000-1772317800@odessaarts.org
SUMMARY:Music at the Marriott by the West Texas Jazz Society
DESCRIPTION:7:30-10:30 pm\nEvery Saturday\nIn The Odessa Marriott Lobby \nco-sponsored by the Jazz Society and Odessa Arts
URL:https://odessaarts.org/event/music-at-the-marriott-by-the-west-texas-jazz-society/2026-02-28/
LOCATION:Odessa Marriott Hotel & Conference Center\, 305 E. 5th Street\, Odessa\, Texas\, 79761
CATEGORIES:Music
END:VEVENT
BEGIN:VEVENT
DTSTART;TZID=America/Chicago:20250809T193000
DTEND;TZID=America/Chicago:20250809T223000
DTSTAMP:20260424T190024
CREATED:20250807T191000Z
LAST-MODIFIED:20250807T191000Z
UID:76535-1754767800-1754778600@odessaarts.org
SUMMARY:Music at the Marriott – Sam Allen Weaks
DESCRIPTION:See local pianist and singer-songwriter Sam Allen Weaks perform both originals and classics!
URL:https://odessaarts.org/event/music-at-the-marriott-sam-allen-weaks/
LOCATION:Odessa Marriott Hotel & Conference Center\, 305 E. 5th Street\, Odessa\, Texas\, 79761
CATEGORIES:Music
END:VEVENT
BEGIN:VEVENT
DTSTART;TZID=America/Chicago:20250808T190000
DTEND;TZID=America/Chicago:20250808T210000
DTSTAMP:20260424T190024
CREATED:20250807T190723Z
LAST-MODIFIED:20250807T190723Z
UID:76533-1754679600-1754686800@odessaarts.org
SUMMARY:Cassatt Concerts – Sam Allen Weaks
DESCRIPTION:See local pianist and singer-songwriter Sam Allen Weaks perform both originals and classics!
URL:https://odessaarts.org/event/cassatt-concerts-sam-allen-weaks/
LOCATION:Odessa Marriott Hotel & Conference Center\, 305 E. 5th Street\, Odessa\, Texas\, 79761
CATEGORIES:Music
END:VEVENT
BEGIN:VEVENT
DTSTART;VALUE=DATE:20250605
DTEND;VALUE=DATE:20250608
DTSTAMP:20260424T190024
CREATED:20250110T202927Z
LAST-MODIFIED:20250110T202927Z
UID:75134-1749081600-1749340799@odessaarts.org
SUMMARY:59th Annual West Texas Jazz Party
DESCRIPTION:2025 marks the 59th annual West Texas Jazz Party. The longest-running jazz party in the world! \nReserve your seats now for the world-famous West Texas Jazz Party\, June 5-7\, 2025 in Odessa! \n\n\n\nWe need your support to reach our 60th year\, and we can’t wait to bring the finest musicians in the world to West Texas! \nSponsor tables are available and be sure to get a Patron Pass to get the full experience! \nSchedule: \n\nThursday\, June 5 – Reception for Patrons and Musicians – 6:00 pm\nThursday\, June 5 – Concert 7 – 11 pm in the Devonian Ballroom “Music for Dancing!”\nFriday\, June 6 – Dinner for Patrons and Musicians – 6:00 pm\nFriday\, June 6 – Concert 7 – 11 pm in the Devonian Ballroom\nSaturday\, June 7 – Brunch concert 11 am – 3 pm in the Devonian Ballroom\nSaturday\, June 7 – Concert 7 – 11 pm in the Devonian Ballroom\n\nArtists scheduled to perform: \nJon Erik Kellso\, Peter Anderson\, John Allred\, Dan Barrett\, Daniela Soledade\, Nate Najar\, Frank Tate\, Richard Simon\, Chuck Redd\, Ricky Malichi\, Johnny Varro\, Brian Piper\, and more! \nSee you there! \n\n\n\n\n\nGET JAZZ PARTY TICKETS!
URL:https://odessaarts.org/event/59th-annual-west-texas-jazz-party-2/
LOCATION:Odessa Marriott Hotel & Conference Center\, 305 E. 5th Street\, Odessa\, Texas\, 79761
CATEGORIES:Music
END:VEVENT
BEGIN:VEVENT
DTSTART;TZID=America/Chicago:20250510T170000
DTEND;TZID=America/Chicago:20250510T210000
DTSTAMP:20260424T190024
CREATED:20250425T190856Z
LAST-MODIFIED:20250425T190856Z
UID:76337-1746896400-1746910800@odessaarts.org
SUMMARY:Mother & Son Dance: Out of this World
DESCRIPTION:Join us for a special evening at the Mother and Son Dance—a celebration of the amazing bond between sons and the important female figures in their lives. Enjoy an unforgettable night with a DJ playing\, photo booth\, dinner\, dessert\, and prizes to win. The cost is $25 per person\, we encourage you to dress to impress and be ready to enjoy a fun-filled evening. This event is hosted by the Parks and Recreation Department.
URL:https://odessaarts.org/event/mother-son-dance-out-of-this-world/
LOCATION:Odessa Marriott Hotel & Conference Center\, 305 E. 5th Street\, Odessa\, Texas\, 79761
CATEGORIES:Humanities
END:VEVENT
BEGIN:VEVENT
DTSTART;TZID=America/Chicago:20250222T190000
DTEND;TZID=America/Chicago:20250222T190000
DTSTAMP:20260424T190024
CREATED:20250206T210209Z
LAST-MODIFIED:20250206T210209Z
UID:75340-1740250800-1740250800@odessaarts.org
SUMMARY:Evening with The Stars
DESCRIPTION:Get ready for an unforgettable night with NFL Hall of Famer Michael Irvin!  Join us on February 22nd for Evening with the Stars—an event that’s more than just exciting entertainment. It’s an opportunity to make a difference!\n\nThis special evening celebrates our community while providing scholarships to deserving high school seniors\, helping shape their futures and create a lasting impact. Don’t miss your chance to be part of this incredible event that changes lives and inspires the next generation!\n\nSecure your spot now and be part of something truly meaningful! \nGet your tickets here! https://www.zeffy.com/…/7424179e-75c4-492f-bd57…\nWant to sponsor the event? Click here! https://www.zeffy.com/…/2025-an-evening-with-the-stars…
URL:https://odessaarts.org/event/evening-with-the-stars/
LOCATION:Odessa Marriott Hotel & Conference Center\, 305 E. 5th Street\, Odessa\, Texas\, 79761
CATEGORIES:Humanities
END:VEVENT
BEGIN:VEVENT
DTSTART;TZID=America/Chicago:20250107T190000
DTEND;TZID=America/Chicago:20250107T230000
DTSTAMP:20260424T190024
CREATED:20240927T201508Z
LAST-MODIFIED:20240927T203056Z
UID:74051-1736276400-1736290800@odessaarts.org
SUMMARY:59th Annual West Texas Jazz Party
DESCRIPTION:Jon Erik Kellso\, Peter Anderson\, John Allred\, Dan Barrett\, Daniela Soledade\, Nate Najar\, Frank Tate\, Richard Simon\, Chuck Redd\, Ricky Malichi\, Johnny Varro\, Brian Piper\, and more!
URL:https://odessaarts.org/event/59th-annual-west-texas-jazz-party/2025-01-07/2/
LOCATION:Odessa Marriott Hotel & Conference Center\, 305 E. 5th Street\, Odessa\, Texas\, 79761
CATEGORIES:Humanities,Music
END:VEVENT
BEGIN:VEVENT
DTSTART;TZID=America/Chicago:20250107T110000
DTEND;TZID=America/Chicago:20250107T150000
DTSTAMP:20260424T190024
CREATED:20240927T201508Z
LAST-MODIFIED:20240927T203054Z
UID:74050-1736247600-1736262000@odessaarts.org
SUMMARY:59th Annual West Texas Jazz Party
DESCRIPTION:Jon Erik Kellso\, Peter Anderson\, John Allred\, Dan Barrett\, Daniela Soledade\, Nate Najar\, Frank Tate\, Richard Simon\, Chuck Redd\, Ricky Malichi\, Johnny Varro\, Brian Piper\, and more!
URL:https://odessaarts.org/event/59th-annual-west-texas-jazz-party/2025-01-07/
LOCATION:Odessa Marriott Hotel & Conference Center\, 305 E. 5th Street\, Odessa\, Texas\, 79761
CATEGORIES:Humanities,Music
END:VEVENT
BEGIN:VEVENT
DTSTART;TZID=America/Chicago:20250106T190000
DTEND;TZID=America/Chicago:20250106T230000
DTSTAMP:20260424T190024
CREATED:20240927T201508Z
LAST-MODIFIED:20240927T203050Z
UID:74049-1736190000-1736204400@odessaarts.org
SUMMARY:59th Annual West Texas Jazz Party
DESCRIPTION:Jon Erik Kellso\, Peter Anderson\, John Allred\, Dan Barrett\, Daniela Soledade\, Nate Najar\, Frank Tate\, Richard Simon\, Chuck Redd\, Ricky Malichi\, Johnny Varro\, Brian Piper\, and more!
URL:https://odessaarts.org/event/59th-annual-west-texas-jazz-party/2025-01-06/
LOCATION:Odessa Marriott Hotel & Conference Center\, 305 E. 5th Street\, Odessa\, Texas\, 79761
CATEGORIES:Humanities,Music
END:VEVENT
BEGIN:VEVENT
DTSTART;TZID=America/Chicago:20250105T190000
DTEND;TZID=America/Chicago:20250105T230000
DTSTAMP:20260424T190024
CREATED:20240927T201508Z
LAST-MODIFIED:20240927T203049Z
UID:74048-1736103600-1736118000@odessaarts.org
SUMMARY:59th Annual West Texas Jazz Party
DESCRIPTION:Jon Erik Kellso\, Peter Anderson\, John Allred\, Dan Barrett\, Daniela Soledade\, Nate Najar\, Frank Tate\, Richard Simon\, Chuck Redd\, Ricky Malichi\, Johnny Varro\, Brian Piper\, and more!
URL:https://odessaarts.org/event/59th-annual-west-texas-jazz-party/2025-01-05/
LOCATION:Odessa Marriott Hotel & Conference Center\, 305 E. 5th Street\, Odessa\, Texas\, 79761
CATEGORIES:Humanities,Music
END:VEVENT
BEGIN:VEVENT
DTSTART;TZID=America/Chicago:20240727T190000
DTEND;TZID=America/Chicago:20240727T220000
DTSTAMP:20260424T190024
CREATED:20240522T160955Z
LAST-MODIFIED:20240522T160955Z
UID:73373-1722106800-1722117600@odessaarts.org
SUMMARY:Sam Allen: Music at the Marriott
DESCRIPTION:
URL:https://odessaarts.org/event/sam-allen-music-at-the-marriott/
LOCATION:Odessa Marriott Hotel & Conference Center\, 305 E. 5th Street\, Odessa\, Texas\, 79761
CATEGORIES:Music
END:VEVENT
BEGIN:VEVENT
DTSTART;TZID=America/Chicago:20240714T130000
DTEND;TZID=America/Chicago:20240714T160000
DTSTAMP:20260424T190024
CREATED:20240627T181342Z
LAST-MODIFIED:20240627T181342Z
UID:73530-1720962000-1720972800@odessaarts.org
SUMMARY:The Bridal & Quinceañera Experience
DESCRIPTION:
URL:https://odessaarts.org/event/the-bridal-quinceanera-experience/
LOCATION:Odessa Marriott Hotel & Conference Center\, 305 E. 5th Street\, Odessa\, Texas\, 79761
CATEGORIES:Humanities
END:VEVENT
BEGIN:VEVENT
DTSTART;TZID=America/Chicago:20240601T190000
DTEND;TZID=America/Chicago:20240601T230000
DTSTAMP:20260424T190024
CREATED:20240417T194416Z
LAST-MODIFIED:20240417T194416Z
UID:73082-1717268400-1717282800@odessaarts.org
SUMMARY:58th Annual West Texas Jazz Party
DESCRIPTION:2024 marks the 58th annual West Texas Jazz Party. The longest-running jazz party in the world!
URL:https://odessaarts.org/event/58th-annual-west-texas-jazz-party/2024-06-01/2/
LOCATION:Odessa Marriott Hotel & Conference Center\, 305 E. 5th Street\, Odessa\, Texas\, 79761
CATEGORIES:Music
END:VEVENT
BEGIN:VEVENT
DTSTART;TZID=America/Chicago:20240601T110000
DTEND;TZID=America/Chicago:20240601T150000
DTSTAMP:20260424T190024
CREATED:20240417T194416Z
LAST-MODIFIED:20240417T194416Z
UID:73081-1717239600-1717254000@odessaarts.org
SUMMARY:58th Annual West Texas Jazz Party
DESCRIPTION:2024 marks the 58th annual West Texas Jazz Party. The longest-running jazz party in the world!
URL:https://odessaarts.org/event/58th-annual-west-texas-jazz-party/2024-06-01/
LOCATION:Odessa Marriott Hotel & Conference Center\, 305 E. 5th Street\, Odessa\, Texas\, 79761
CATEGORIES:Music
END:VEVENT
BEGIN:VEVENT
DTSTART;TZID=America/Chicago:20240531T190000
DTEND;TZID=America/Chicago:20240531T230000
DTSTAMP:20260424T190024
CREATED:20240417T194416Z
LAST-MODIFIED:20240417T194416Z
UID:73080-1717182000-1717196400@odessaarts.org
SUMMARY:58th Annual West Texas Jazz Party
DESCRIPTION:2024 marks the 58th annual West Texas Jazz Party. The longest-running jazz party in the world!
URL:https://odessaarts.org/event/58th-annual-west-texas-jazz-party/2024-05-31/
LOCATION:Odessa Marriott Hotel & Conference Center\, 305 E. 5th Street\, Odessa\, Texas\, 79761
CATEGORIES:Music
END:VEVENT
BEGIN:VEVENT
DTSTART;TZID=America/Chicago:20240530T190000
DTEND;TZID=America/Chicago:20240530T230000
DTSTAMP:20260424T190024
CREATED:20240417T194416Z
LAST-MODIFIED:20240417T194416Z
UID:73079-1717095600-1717110000@odessaarts.org
SUMMARY:58th Annual West Texas Jazz Party
DESCRIPTION:2024 marks the 58th annual West Texas Jazz Party. The longest-running jazz party in the world!
URL:https://odessaarts.org/event/58th-annual-west-texas-jazz-party/2024-05-30/
LOCATION:Odessa Marriott Hotel & Conference Center\, 305 E. 5th Street\, Odessa\, Texas\, 79761
CATEGORIES:Music
END:VEVENT
BEGIN:VEVENT
DTSTART;TZID=America/Chicago:20240406T183000
DTEND;TZID=America/Chicago:20240406T183000
DTSTAMP:20260424T190024
CREATED:20240402T152953Z
LAST-MODIFIED:20240402T153017Z
UID:72975-1712428200-1712428200@odessaarts.org
SUMMARY:Odessa Arts Black and White Ball
DESCRIPTION:Please join us for Odessa Arts’ Black & White Ball Presented by Sewell BMW of the Permian Basin\, to celebrate our 2024 Friends of the Arts. Saturday\, April 6th\, 6:30 pm at the Odessa Marriott Hotel and Conference Center in the Permian Ballroom.\n\nFriend of the Arts Honorees:\nCRAIG VAN AMBURGH\nCHRISTOPHER STANLEY\nDR. EILEEN PIWETZ\n\nSingle tickets for members are $100 and $150 for non-members.\nTable sponsorships are available.\nFind your tickets or purchase a table sponsorship here: https://odessaarts.org/black-white-ball/
URL:https://odessaarts.org/event/odessa-arts-black-and-white-ball/
LOCATION:Odessa Marriott Hotel & Conference Center\, 305 E. 5th Street\, Odessa\, Texas\, 79761
CATEGORIES:Humanities,Music,Theatre & Literary Arts,Visual Arts
END:VEVENT
BEGIN:VEVENT
DTSTART;TZID=America/Chicago:20240224T193000
DTEND;TZID=America/Chicago:20240224T223000
DTSTAMP:20260424T190024
CREATED:20240223T172037Z
LAST-MODIFIED:20240223T172037Z
UID:72582-1708803000-1708813800@odessaarts.org
SUMMARY:Music at the Marriott
DESCRIPTION:
URL:https://odessaarts.org/event/music-at-the-marriott-2/
LOCATION:Odessa Marriott Hotel & Conference Center\, 305 E. 5th Street\, Odessa\, Texas\, 79761
CATEGORIES:Music
END:VEVENT
BEGIN:VEVENT
DTSTART;TZID=America/Chicago:20230602T190000
DTEND;TZID=America/Chicago:20230602T230000
DTSTAMP:20260424T190024
CREATED:20230321T154418Z
LAST-MODIFIED:20230321T154418Z
UID:11672-1685732400-1685746800@odessaarts.org
SUMMARY:The 57th Annual Jazz Party!
DESCRIPTION:  \n\n\n\n\n\n\n\n\n\n\n\n\n\n\n\n\n\n\n\nThe 57th Annual Jazz Party!\n\n\n\n\n\n\n\n\n\nTickets are now available for the 57th Annual West Texas Jazz Party! We will return to the beautiful Odessa Marriott Hotel & Conference Center for two nights of your favorite music! \nArtists Confirmed to Appear: \n\nJon-Erik Kellso\nDan Barrett\nHarry Allen\nPeter Anderson\nWill Anderson\nRebecca Kilgore\nDaniela Soledade\nNate Najar\nRichard Simon\nFrank Tate\nCharlie Silva\nJohnny Varro\nBrian Piper\nRossano Sportiello\nChuck Redd\nKevin Kanner\nRicky Malichi\n\nSchedule: \n\nFriday\, June 2: 7:00-11:00 pm concert in the Devonian Ballroom\nSaturday\, June 3: 11:00 am – 3:00 pm\, Brunch Concert\nSaturday\, June 3: 7:00-11:00 pm concert in the Devonian Ballroom\n\nPatron Passes Available! \n\nSpecial Reserved seating and a private party with the musicians for Patrons!\n\nSpecial Hotel Rates! \n\nMake the weekend extra special by reserving one of the immaculate rooms at the Odessa Marriott Hotel at a discounted rate!\nJust call (432) 653-5442 and mention the jazz party!\n\n$145 – per night – Book your Room!\n$165 – per night (includes a daily $30 food voucher for the hotel restaurant!) – Book your room with Food Voucher!\n\n\n\n\n\n\n\n\n\n\n\n\n\n\n\n\n\n\n\n\n\n\nGet Tickets Here!
URL:https://odessaarts.org/event/the-57th-annual-jazz-party/2023-06-02/
LOCATION:Odessa Marriott Hotel & Conference Center\, 305 E. 5th Street\, Odessa\, Texas\, 79761
CATEGORIES:Music
END:VEVENT
BEGIN:VEVENT
DTSTART;TZID=America/Chicago:20230401T183000
DTEND;TZID=America/Chicago:20230401T230000
DTSTAMP:20260424T190024
CREATED:20220719T190448Z
LAST-MODIFIED:20230215T163630Z
UID:10374-1680373800-1680390000@odessaarts.org
SUMMARY:Odessa Arts Black & White Ball 2023
DESCRIPTION:Please join us for Odessa Arts’ Black & White Ball – The Color of Fashion\nto celebrate our 2023 Friends of the Arts.\nSaturday\, April 1st\, 6:30 pm\nat the Odessa Marriott Hotel and Conference Center in the Permian Ballroom. \nFriend of the Arts Honorees: \nPeggy Dean \nMarita Hendrick \nDick Gillham – Dick Gillham Legacy Award \nblack-white-ball \n 
URL:https://odessaarts.org/event/odessa-arts-black-white-ball-2023/
LOCATION:Odessa Marriott Hotel & Conference Center\, 305 E. 5th Street\, Odessa\, Texas\, 79761
CATEGORIES:Humanities
END:VEVENT
BEGIN:VEVENT
DTSTART;TZID=America/Chicago:20221021T180000
DTEND;TZID=America/Chicago:20221021T180000
DTSTAMP:20260424T190024
CREATED:20220720T191523Z
LAST-MODIFIED:20220720T191523Z
UID:10387-1666375200-1666375200@odessaarts.org
SUMMARY:Permian Basin Recycle Fashion Show
DESCRIPTION:GET READY FOR THE 2022\n7TH ANNUAL PERMIAN BASIN RECYCLE FASHION SHOW!\nFriday\, October 21st\, At 6PM \nAt The Odessa Marriott Hotel & Conference Center\n \n\n\nCLICK HERE To View & Download The 2022 SPONSORSHIP OPPORTUNITIES & BENEFITS!\n\n\nCLICK HERE To Register As An Event Participant.\n\n\nCLICK HERE To View The Recycle Fashion Show Rules\, Regulations\, & Guidelines.\n\n\n\nThank you to our 2022 Recycle Fashion Show Sponsors!\nTitle Sponsor:\nOdessa Marriott Hotel and Conference Center\nChoice Media \nGold Sponsor:\nCity of Odessa\nSilver Sponsor:\nHEB \nOdessa City Council \nSouthwest Bank \n\n\n\n\n\n\n\n\n\n\n\n\n\n\n\n\n\n\n\n\n\n  \nCLICK HERE TO WATCH THE 2021 6TH ANNUAL PERMIAN BASIN\nRECYCLE FASHION SHOW TELEVISION PREMIER!
URL:https://odessaarts.org/event/permian-basin-recycle-fashion-show/
LOCATION:Odessa Marriott Hotel & Conference Center\, 305 E. 5th Street\, Odessa\, Texas\, 79761
CATEGORIES:Humanities
END:VEVENT
BEGIN:VEVENT
DTSTART;TZID=America/Chicago:20220911T140000
DTEND;TZID=America/Chicago:20220911T170000
DTSTAMP:20260424T190024
CREATED:20220811T151538Z
LAST-MODIFIED:20220811T151538Z
UID:10557-1662904800-1662915600@odessaarts.org
SUMMARY:WLT Craft and Business of Writing Workshop
DESCRIPTION:WLT Craft + Business of Writing Workshop\n\nSEPTEMBER 11 2022 2:00 PM – 5:00 PM CDT \n$49.00\n\n\n\n\n\nTickets\n\nWLT Craft + Business of Writing Workshop\nOdessa\, TX – September 11\n\n$ 49.00\nUnlimited\n\nDECREASE TICKET QUANTITY FOR WLT CRAFT + BUSINESS OF WRITING WORKSHOP– \nQuantity \nINCREASE TICKET QUANTITY FOR WLT CRAFT + BUSINESS OF WRITING WORKSHOP+\n\nADD TO CART\n\n\n\nRegistration: $49 (includes all three presentations)\nHello\, Permian Basin! We’re so excited to be headed your way for a special in-person writing workshop that covers craft and business and everything in-between. \nIn partnership with Odessa Arts\, the WLT Craft + Business of Writing Workshop will take place on Sunday\, September 11\, from 2:00 PM to 5:00 PM at the Marriott Odessa Hotel and Convention Center (305 East 5th Street\, Odessa\, Texas 79761). \nThe event will include three one-hour presentations (details below)\, including writing exercises and plenty of time for questions. PLUS\, all registrants are invited to stick around after the workshop for a Happy Hour Meet-up at the hotel’s cash bar – a chance to mix & mingle and connect with fellow writers (and your friendly WLT instructors). \nDetails on the three presentations can be found below. \nSeating is limited\, register today! \n \n\n“Take the First Step: Jumpstarting Your Writing Project” with Stacey Swann \nDo you have a great idea for a novel or a memoir\, or for a short story or an essay\, but you aren’t sure how to take that first step? Perhaps you’ve already begun\, but you’ve hit an early wall and see no clear path over it. So often\, these initial steps can truly be the hardest! \nIn this talk\, we’ll explore multiple paths that can help get you moving. From freewriting to pre-writing\, from outlines to flying without a net\, there’s no one right way to start your work-in-progress. Together\, we will quell worries and stoke fun so you can find your own route to your best work. \n  \n\n \n“Finding Your ‘Why’” with James Wade \nThe reasons why writers write can run the gamut from “I love prose\,” to “I’m so full of stories\,” to “writing is cheaper than therapy.” There is no wrong answer. \nIn this talk\, we’ll dig into success\, failure\, and what keeps us going\, page after page. We’ll work together to uncover your ‘why’ and give you the tools to take that ‘why’ into your own writing sessions so that you feel motivated every time you sit down to work. \n  \n“The Path to Publication: The Agent Search” with Becka Oliver  \n\nJoin a former literary agent for an informative\, candid\, no-holds-barred look at publishing today\, with a focus on finding the ideal literary agent for you and your work. \nIn this talk\, we’ll cover everything from identifying the most promising agents to approach for representation\, crafting a compelling query letter\, asking the right questions\, and most everything in between. \nThank you to WLT Community Member Odessa Arts for their support of this program.  \nConsider joining us at the Odessa Arts presentation of Literary Death Match on Monday\, September 12. For more information and tickets\, CLICK HERE.\n\nWant to hang out for a night or two and enjoy all of this literary goodness in style? Grab a room under the group block at the Marriott Odessa Hotel & Convention Center\, CLICK HERE.
URL:https://odessaarts.org/event/wlt-craft-and-business-of-writing-workshop/
LOCATION:Odessa Marriott Hotel & Conference Center\, 305 E. 5th Street\, Odessa\, Texas\, 79761
CATEGORIES:Humanities
END:VEVENT
BEGIN:VEVENT
DTSTART;TZID=America/Chicago:20220808T100000
DTEND;TZID=America/Chicago:20220808T120000
DTSTAMP:20260424T190024
CREATED:20220718T182318Z
LAST-MODIFIED:20220718T182318Z
UID:10330-1659952800-1659960000@odessaarts.org
SUMMARY:Grant Writing Workshop
DESCRIPTION:Odessa Arts will host a grant writing workshop for organizations interested in applying for 2023 Cultural Tourism grant\, Mural Assistance Program\, or Make Art Work grants. In order to be eligible for a grant\, organizations must attend the workshop. Odessa Arts provides grants for programs and events that promote art and tourism in Ector County. To apply\, visit: https://odessaarts.org/cultural-tourism-grants/ \nWorkshop – located in the Wolfcamp Room at Odessa Marriott Conference Center \nAugust 8th 10am-12pm
URL:https://odessaarts.org/event/grant-writing-workshop/
LOCATION:Odessa Marriott Hotel & Conference Center\, 305 E. 5th Street\, Odessa\, Texas\, 79761
CATEGORIES:Humanities
END:VEVENT
END:VCALENDAR