BEGIN:VCALENDAR
VERSION:2.0
PRODID:-//Odessa Arts - ECPv6.15.20//NONSGML v1.0//EN
CALSCALE:GREGORIAN
METHOD:PUBLISH
X-WR-CALNAME:Odessa Arts
X-ORIGINAL-URL:https://odessaarts.org
X-WR-CALDESC:Events for Odessa Arts
REFRESH-INTERVAL;VALUE=DURATION:PT1H
X-Robots-Tag:noindex
X-PUBLISHED-TTL:PT1H
BEGIN:VTIMEZONE
TZID:America/Chicago
BEGIN:DAYLIGHT
TZOFFSETFROM:-0600
TZOFFSETTO:-0500
TZNAME:CDT
DTSTART:20230312T080000
END:DAYLIGHT
BEGIN:STANDARD
TZOFFSETFROM:-0500
TZOFFSETTO:-0600
TZNAME:CST
DTSTART:20231105T070000
END:STANDARD
BEGIN:DAYLIGHT
TZOFFSETFROM:-0600
TZOFFSETTO:-0500
TZNAME:CDT
DTSTART:20240310T080000
END:DAYLIGHT
BEGIN:STANDARD
TZOFFSETFROM:-0500
TZOFFSETTO:-0600
TZNAME:CST
DTSTART:20241103T070000
END:STANDARD
BEGIN:DAYLIGHT
TZOFFSETFROM:-0600
TZOFFSETTO:-0500
TZNAME:CDT
DTSTART:20250309T080000
END:DAYLIGHT
BEGIN:STANDARD
TZOFFSETFROM:-0500
TZOFFSETTO:-0600
TZNAME:CST
DTSTART:20251102T070000
END:STANDARD
END:VTIMEZONE
BEGIN:VEVENT
DTSTART;TZID=America/Chicago:20241207T170000
DTEND;TZID=America/Chicago:20241207T170000
DTSTAMP:20260425T103130
CREATED:20241203T193440Z
LAST-MODIFIED:20241203T204243Z
UID:74580-1733590800-1733590800@odessaarts.org
SUMMARY:Parks Legado Christmas Market
DESCRIPTION:Parks Legado Christmas Market \n\n🎄✨ The Parks Legado Christmas Market is coming soon\, and we’re ready to fill your holiday season with festive cheer! 🎅 We’ll be selling Christmas trees\, wreaths\, garlands\, and beautiful poinsettias to make your home merry and bright. \n🌟 Save the dates: November 23rd\, November 30th\, December 7th\, and December 14th! Be on the lookout for more details\, and text “TREE” to (432) 498-0251 to stay in the loop! 🎄🎁 \n\n  \nYou may also like the following events from Parks Legado Town Center: \n\nThis Saturday\, 7th December\, 05:00 pm\, Parks Legado Christmas Market in Odessa
URL:https://odessaarts.org/event/parks-legado-christmas-market/
LOCATION:Parks Legado Town Center\, 7260 E Highway 191\, Odessa\, 79765\, United States
CATEGORIES:Humanities,Visual Arts
END:VEVENT
END:VCALENDAR