BEGIN:VCALENDAR
VERSION:2.0
PRODID:-//Odessa Arts - ECPv6.15.20//NONSGML v1.0//EN
CALSCALE:GREGORIAN
METHOD:PUBLISH
X-WR-CALNAME:Odessa Arts
X-ORIGINAL-URL:https://odessaarts.org
X-WR-CALDESC:Events for Odessa Arts
REFRESH-INTERVAL;VALUE=DURATION:PT1H
X-Robots-Tag:noindex
X-PUBLISHED-TTL:PT1H
BEGIN:VTIMEZONE
TZID:America/Chicago
BEGIN:DAYLIGHT
TZOFFSETFROM:-0600
TZOFFSETTO:-0500
TZNAME:CDT
DTSTART:20240310T080000
END:DAYLIGHT
BEGIN:STANDARD
TZOFFSETFROM:-0500
TZOFFSETTO:-0600
TZNAME:CST
DTSTART:20241103T070000
END:STANDARD
BEGIN:DAYLIGHT
TZOFFSETFROM:-0600
TZOFFSETTO:-0500
TZNAME:CDT
DTSTART:20250309T080000
END:DAYLIGHT
BEGIN:STANDARD
TZOFFSETFROM:-0500
TZOFFSETTO:-0600
TZNAME:CST
DTSTART:20251102T070000
END:STANDARD
BEGIN:DAYLIGHT
TZOFFSETFROM:-0600
TZOFFSETTO:-0500
TZNAME:CDT
DTSTART:20260308T080000
END:DAYLIGHT
BEGIN:STANDARD
TZOFFSETFROM:-0500
TZOFFSETTO:-0600
TZNAME:CST
DTSTART:20261101T070000
END:STANDARD
END:VTIMEZONE
BEGIN:VEVENT
DTSTART;TZID=America/Chicago:20250312T103000
DTEND;TZID=America/Chicago:20250312T120000
DTSTAMP:20260425T053823
CREATED:20250304T164051Z
LAST-MODIFIED:20250304T164051Z
UID:75481-1741775400-1741780800@odessaarts.org
SUMMARY:Sibley Nature Center - BOOKMOBILE
DESCRIPTION:The Midland County Library Bookmobile is available to come to any event for book checkouts and library card sign ups. To make a bookmobile stop request\, please call Dulciana Olguin at (432)-688-4325 or email at dolguin@mcounty.com.
URL:https://odessaarts.org/event/sibley-nature-center-bookmobile/
LOCATION:Sibley Nature Center\, 1307 E. Wadley Ave\, Midland\, TX\, 79705\, United States
END:VEVENT
END:VCALENDAR