BEGIN:VCALENDAR
VERSION:2.0
PRODID:-//Odessa Arts - ECPv6.15.20//NONSGML v1.0//EN
CALSCALE:GREGORIAN
METHOD:PUBLISH
X-WR-CALNAME:Odessa Arts
X-ORIGINAL-URL:https://odessaarts.org
X-WR-CALDESC:Events for Odessa Arts
REFRESH-INTERVAL;VALUE=DURATION:PT1H
X-Robots-Tag:noindex
X-PUBLISHED-TTL:PT1H
BEGIN:VTIMEZONE
TZID:America/Chicago
BEGIN:DAYLIGHT
TZOFFSETFROM:-0600
TZOFFSETTO:-0500
TZNAME:CDT
DTSTART:20230312T080000
END:DAYLIGHT
BEGIN:STANDARD
TZOFFSETFROM:-0500
TZOFFSETTO:-0600
TZNAME:CST
DTSTART:20231105T070000
END:STANDARD
BEGIN:DAYLIGHT
TZOFFSETFROM:-0600
TZOFFSETTO:-0500
TZNAME:CDT
DTSTART:20240310T080000
END:DAYLIGHT
BEGIN:STANDARD
TZOFFSETFROM:-0500
TZOFFSETTO:-0600
TZNAME:CST
DTSTART:20241103T070000
END:STANDARD
BEGIN:DAYLIGHT
TZOFFSETFROM:-0600
TZOFFSETTO:-0500
TZNAME:CDT
DTSTART:20250309T080000
END:DAYLIGHT
BEGIN:STANDARD
TZOFFSETFROM:-0500
TZOFFSETTO:-0600
TZNAME:CST
DTSTART:20251102T070000
END:STANDARD
END:VTIMEZONE
BEGIN:VEVENT
DTSTART;TZID=America/Chicago:20240608T140000
DTEND;TZID=America/Chicago:20240608T220000
DTSTAMP:20260425T210941
CREATED:20240522T150511Z
LAST-MODIFIED:20240522T150511Z
UID:73368-1717855200-1717884000@odessaarts.org
SUMMARY:Basin Pride Festival
DESCRIPTION:Come join us for a day of queer celebration!\nGet ready to experience a kaleidoscope of colors\, music\, and performances that reflect the beautiful spectrum of our community. From electrifying drag shows to inspiring speeches\, there’s something for everyone to enjoy. Dance freely to the beats of local DJs\, explore crafts and art from our 50+ vendor booths\, and indulge in delicious treats from food trucks.\nBut the Basin Pride Festival is more than just a party—it’s a platform for advocacy and education. Engage with organizations and activists dedicated to advancing LGBTQNIA+ rights\, learn about important issues facing our community\, and discover ways to make a positive impact.\nWhether you’re proudly out\, still discovering your identity\, or a passionate ally\, everyone is welcome. Let’s unite in solidarity\, celebrate our diversity\, and continue marching towards a future where love knows no bounds!\nADDITIONAL INFO: For the safety of all festival-goers\, bags will be checked at the door!
URL:https://odessaarts.org/event/basin-pride-festival/
LOCATION:The Vine\, 405 E 61st St\, Odessa\, TX\, 79762\, United States
CATEGORIES:Humanities
END:VEVENT
END:VCALENDAR